BEGIN:VCALENDAR
VERSION:2.0
PRODID:-//Max et Lisa - ECPv6.15.11//NONSGML v1.0//EN
CALSCALE:GREGORIAN
METHOD:PUBLISH
X-WR-CALNAME:Max et Lisa
X-ORIGINAL-URL:https://www.maxetlisa.com
X-WR-CALDESC:Évènements pour Max et Lisa
REFRESH-INTERVAL;VALUE=DURATION:PT1H
X-Robots-Tag:noindex
X-PUBLISHED-TTL:PT1H
BEGIN:VTIMEZONE
TZID:America/Guadeloupe
BEGIN:STANDARD
TZOFFSETFROM:-0400
TZOFFSETTO:-0400
TZNAME:AST
DTSTART:20180101T000000
END:STANDARD
END:VTIMEZONE
BEGIN:VEVENT
DTSTART;TZID=America/Guadeloupe:20190701T083000
DTEND;TZID=America/Guadeloupe:20190719T163000
DTSTAMP:20260421T000729
CREATED:20190607T005238Z
LAST-MODIFIED:20190617T184506Z
UID:6132-1561969800-1563553800@www.maxetlisa.com
SUMMARY:Ateliers créatif - Atelier d'Art d'Art du 1er au 19 Juillet à partir de 7 ans
DESCRIPTION:Les ateliers créatifs sont de retour !!!😊\nEn JUILLET vous pourrez à nouveau imaginer\, dessiner\, découper\, déchirer\, construire\, patouiller ….. et bien d’autres choses encore !!\nConsultez le programme et appelez nous pour réserver votre semaine créative !!\nA partager 🖐️\nContact : 0690 944 002 / dartdartalelier@gmail.com
URL:https://www.maxetlisa.com/evenement/ateliers-creatif-atelier-dart-dart-du-1er-au-19-juillet-a-partir-de-7-ans/
LOCATION:Gosier
CATEGORIES:Art,C.L.S.H -A.L.S.H,Centre de loisirs pour enfant,Enfant,Vacances scolaires
ATTACH;FMTTYPE=image/jpeg:https://www.maxetlisa.com/wp-content/uploads/2019/06/dArt-dArt.jpg
END:VEVENT
BEGIN:VEVENT
DTSTART;TZID=America/Guadeloupe:20190701T090000
DTEND;TZID=America/Guadeloupe:20190823T170000
DTSTAMP:20260421T000729
CREATED:20190606T102558Z
LAST-MODIFIED:20190606T102558Z
UID:6115-1561971600-1566579600@www.maxetlisa.com
SUMMARY:Initiation - Perfectionnement - Pony - Game - Balade à partir de 5 ans du 1 juillet au 23 Aout
DESCRIPTION:Les inscriptions pour les stages de Juillet-Août 2019 sont ouvertes ! Dès 5 ans\, de 09:00 à 17:00 du lundi au vendredi 🐴🥕🎠🎁
URL:https://www.maxetlisa.com/evenement/initiation-perfectionnement-pony-game-balade-a-partir-de-5-ans-du-1-juillet-au-23-aout/
LOCATION:Baie – Mahault\, GFA de Birmingham\, Baie-Mahault\, 97122
CATEGORIES:C.L.S.H -A.L.S.H,Centre de loisirs pour enfant,Enfant,Vacances scolaires
ATTACH;FMTTYPE=image/jpeg:https://www.maxetlisa.com/wp-content/uploads/2019/06/cavaliers-de-St-Georges.jpg
END:VEVENT
BEGIN:VEVENT
DTSTART;TZID=America/Guadeloupe:20190704T070000
DTEND;TZID=America/Guadeloupe:20190731T173000
DTSTAMP:20260421T000729
CREATED:20190607T004601Z
LAST-MODIFIED:20190607T004601Z
UID:6127-1562223600-1564594200@www.maxetlisa.com
SUMMARY:Centre de loisirs - Bears Village du 4 au 31 juillet  de 3 à 12 ans - Sainte Rose
DESCRIPTION:Thème : Les Grands Hommes de Guadeloupe \nDe 7h à 17h30
URL:https://www.maxetlisa.com/evenement/centre-de-loisirs-bears-village-du-4-au-31-juillet-de-3-a-12-ans-sainte-rose/
LOCATION:Sainte Rose\, Villa Calypso - Section Bebel\, Sainte Rose\, 97115
CATEGORIES:C.L.S.H -A.L.S.H,Centre de loisirs pour enfant,Enfant,Vacances scolaires
ATTACH;FMTTYPE=image/jpeg:https://www.maxetlisa.com/wp-content/uploads/2019/06/Bears-Village.jpg
END:VEVENT
BEGIN:VEVENT
DTSTART;TZID=America/Guadeloupe:20190708T080000
DTEND;TZID=America/Guadeloupe:20190726T170000
DTSTAMP:20260421T000729
CREATED:20190607T010748Z
LAST-MODIFIED:20190607T010748Z
UID:6136-1562572800-1564160400@www.maxetlisa.com
SUMMARY:Summer Camp -  4 à 11 ans
DESCRIPTION:Notre Summer Camp s’organise autour d’ateliers en anglais et espagnol (4- 11 ans). Les enfants s’imprègnent de sonorités étrangères de façon ludique: théâtre\, jeux\, sorties\, travaux manuels.\nTel: 06 9011 30 30 – Email: contact@ollschools.com \nTarif : 40€ par jour et prix degressif
URL:https://www.maxetlisa.com/evenement/summer-camp-4-a-11-ans/
LOCATION:Baie – Mahault\, LOT SICAF\, Baie-Mahault\, 97122
CATEGORIES:C.L.S.H -A.L.S.H,Centre de loisirs pour enfant,Cours de langues,Enfant,Vacances scolaires
ATTACH;FMTTYPE=image/jpeg:https://www.maxetlisa.com/wp-content/uploads/2019/06/summer-camp.jpg
END:VEVENT
BEGIN:VEVENT
DTSTART;TZID=America/Guadeloupe:20190708T080000
DTEND;TZID=America/Guadeloupe:20190726T170000
DTSTAMP:20260421T000729
CREATED:20190612T153728Z
LAST-MODIFIED:20190612T181028Z
UID:6161-1562572800-1564160400@www.maxetlisa.com
SUMMARY:Les Vacances dans ma Ville du 8 au 26 juillet - 3 à 12 ans Baie mahault
DESCRIPTION:Du 08 au 26 Juillet à Baie-Mahault ! Révisions scolaires\, ateliers\, sorties et bien d’autres activités seront au rendez-vous de cette édition placée sous la thématique « Agissons ensemble au quotidien pour préserver demain ».
URL:https://www.maxetlisa.com/evenement/les-vacances-dans-ma-ville-du-8-au-26-juillet-3-a-12-ans-baie-mahault/
LOCATION:Baie-Mahault\, Baie-Mahault\, 97122
CATEGORIES:C.L.S.H -A.L.S.H,Centre de loisirs pour enfant,Enfant,Juillet,Vacances scolaires
ATTACH;FMTTYPE=image/jpeg:https://www.maxetlisa.com/wp-content/uploads/2019/06/vacances-en-ville.jpg
END:VEVENT
END:VCALENDAR