BEGIN:VCALENDAR
VERSION:2.0
PRODID:-//Max et Lisa - ECPv6.15.11//NONSGML v1.0//EN
CALSCALE:GREGORIAN
METHOD:PUBLISH
X-WR-CALNAME:Max et Lisa
X-ORIGINAL-URL:https://www.maxetlisa.com
X-WR-CALDESC:Évènements pour Max et Lisa
REFRESH-INTERVAL;VALUE=DURATION:PT1H
X-Robots-Tag:noindex
X-PUBLISHED-TTL:PT1H
BEGIN:VTIMEZONE
TZID:America/Guadeloupe
BEGIN:STANDARD
TZOFFSETFROM:-0400
TZOFFSETTO:-0400
TZNAME:AST
DTSTART:20190101T000000
END:STANDARD
END:VTIMEZONE
BEGIN:VEVENT
DTSTART;TZID=America/Guadeloupe:20200523T090000
DTEND;TZID=America/Guadeloupe:20200614T180000
DTSTAMP:20260424T071022
CREATED:20200523T215654Z
LAST-MODIFIED:20200523T220455Z
UID:11545-1590224400-1592157600@www.maxetlisa.com
SUMMARY:Power Play Football
DESCRIPTION:Power Play Football vous informe de la reprise le 11. mai du coaching individuel pour enfants et adultes dans le respect des règles sanitaires: \n👉respect de distanciation physique entre joueur et Coach\n👉le matériel sera désinfecté après chaque séance \n⚽️ N’hésitez pas à me contacter par téléphone au\n0690 07 56 08 ou sur le site Facebook par message privé. – à Saint-François. \n\n\n« Power Play Football propose des séances personnalisées pour améliorer les performances individuelles\, développer la confiance et découvrir des nouveaux exercices.
URL:https://www.maxetlisa.com/evenement/power-play-football/
LOCATION:Saint – françois\, Saint -François\, 97118
CATEGORIES:Ado,Enfant,Événements ponctuels,Sport
ATTACH;FMTTYPE=image/jpeg:https://www.maxetlisa.com/wp-content/uploads/2020/05/power-Play-Football.jpg
END:VEVENT
BEGIN:VEVENT
DTSTART;TZID=America/Guadeloupe:20200525T080000
DTEND;TZID=America/Guadeloupe:20200601T233000
DTSTAMP:20260424T071022
CREATED:20200524T154103Z
LAST-MODIFIED:20200524T154103Z
UID:11565-1590393600-1591054200@www.maxetlisa.com
SUMMARY:Concours d’idée artistique « Désiné Konfinman a zot »
DESCRIPTION:Concours d’idée artistique « Désiné Konfinman a zot » de la MAG ouvert à tous les citoyens de Guadeloupe de 5 à 105 ans et résidents en Guadeloupe. \nRèglement disponible dans son intégralité sur notre site internet et sur simple demande par e-mail à l’adresse desinekonfinman@ma-guadeloupe.org \nL’ensemble du rendu des documents devra être déposé le 1er Juin 2020 avant minuit. \nQuelques infos du règlement : http://www.ma-guadeloupe.org/wp-content/uploads/2020/05/MAG-CONCOURS-Artistik-%C2%ABD%C3%A9sin%C3%A9-Konfinman-a-zot%C2%BB_20200511_V2.pdf \nRèglement :\nDeux documents au minimum :\n– Rendu format A4 Support 2D reproductible\, nombre d’œuvres non limité par\npostulant\, envoi format PDF uniquement.\nSous forme de :\nü Peinture\,\nü Image de synthèse\,\nü BD\,\nü Photomontage\,\nü Collage\,\nü Dessin\,\nü et toute techniques mixtes qui vous inspire.\nReprésentez votre confinement.\nü Écrivez\, décrivez votre œuvre graphique par un texte d’intention présentation\n300 mots maxi\,\nü Rendu format A4 Support 2D format PDF uniquement.
URL:https://www.maxetlisa.com/evenement/concours-didee-artistique-desine-konfinman-a-zot/
CATEGORIES:Art,Événements ponctuels
ATTACH;FMTTYPE=image/jpeg:https://www.maxetlisa.com/wp-content/uploads/2020/05/Maison-architecteure.jpg
END:VEVENT
BEGIN:VEVENT
DTSTART;TZID=America/Guadeloupe:20200525T083000
DTEND;TZID=America/Guadeloupe:20200614T183000
DTSTAMP:20260424T071022
CREATED:20200523T221852Z
LAST-MODIFIED:20200523T222534Z
UID:11551-1590395400-1592159400@www.maxetlisa.com
SUMMARY:Peinture sur céramique à partir de 6 ans
DESCRIPTION:Vous prendrez plaisir à créer de merveilleux décors sur céramique. \nIl est possible de peindre la céramique à condition de préparer la surface correctement et d’utiliser une peinture adaptée. En effet la céramique étant une surface très lisse\,  la peinture n’accrocherait pas si elle était appliquée directement. \nLe tarif est fonction de la pièce que choisira l’enfant pour sa journée ou demie journée \nPeinture à l’eau\, qui ne tâche pas et n’est pas toxique\, elle est alimentaire. \nInscrivez-vous dès maintenant. \n\nau 0690412634. Réservation obligatoire par sms. A très vite. 😉Anna \nStage: \nHoraires: 8h30 – 18h30 \nRepas non compris \n  \n 
URL:https://www.maxetlisa.com/evenement/peinture-sur-ceramique-a-partir-de-6-ans/
LOCATION:Baie Mahault\, Jarry im. Canada près de Joué Club\, Baie-Mahault\, 97122
CATEGORIES:Enfant,Événements ponctuels,Famille
ATTACH;FMTTYPE=image/jpeg:https://www.maxetlisa.com/wp-content/uploads/2019/06/ceramik.jpg
END:VEVENT
BEGIN:VEVENT
DTSTART;TZID=America/Guadeloupe:20200525T090000
DTEND;TZID=America/Guadeloupe:20200701T160000
DTSTAMP:20260424T071022
CREATED:20200524T153147Z
LAST-MODIFIED:20200524T153147Z
UID:11560-1590397200-1593619200@www.maxetlisa.com
SUMMARY:Faisons du temps libre des enfants un temps d’appropriation de leur Culture et leur Nature - 6/11 ANS
DESCRIPTION:Du nouveau à Association Bwa Lansan! Faisons du temps libre des enfants un temps d’appropriation de leur Culture et leur Nature. L’association accompagne vos 6-11 ans dans la découverte de leur environnement en toute sécurité à la Sylvathèque de Gourbeyre à partir du 25 mai. Formule Quinzaine ou formule Mercredi\, découvrez notre programme! \nDu 25 MAI AU 5 JUIN \nDU 8-19 JUIN \nDU 22 JUIN AU « 3 JUILLET \nDU 8 JUIN AU 3 JUILLET
URL:https://www.maxetlisa.com/evenement/faisons-du-temps-libre-des-enfants-un-temps-dappropriation-de-leur-culture-et-leur-nature-6-11-ans/
LOCATION:Gourbeyre
CATEGORIES:Événements ponctuels,Vacances scolaires
ATTACH;FMTTYPE=image/jpeg:https://www.maxetlisa.com/wp-content/uploads/2020/05/Bwa-lansan.jpg
END:VEVENT
BEGIN:VEVENT
DTSTART;TZID=America/Guadeloupe:20200606T160000
DTEND;TZID=America/Guadeloupe:20200606T170000
DTSTAMP:20260424T071022
CREATED:20200606T095101Z
LAST-MODIFIED:20200608T100741Z
UID:11748-1591459200-1591462800@www.maxetlisa.com
SUMMARY:Récolte de fruits\, fleurs et graines à la Sylvathèque de 16h à 17h samedi 6 juin
DESCRIPTION:La Sylvathèque 🏡 vous propose de venir récolter fruits🥭\, fleurs🌺 et graines! \n👉 https://goo.gl/maps/GqEmwUk8LdFwxp82A \nEn effet avec la fin du carême🌞\, maracudjas\, mangues\, calebasses\, tolomans\, caramboles\, sapotilles\, roucou\, icaques sont au rendez-vous… \n\n👐 Une occasion de faire le tour du jardin… \n📌 De 16H à 17H ce samedi 6 juin\, vous pouvez venir équipé d’un masque😷\, d’un cabas 👜 et de votre matériel (cueille fruit\, sécateur) \n✅ Inscription obligatoire : contacter nous en message privé d’ici demain midi. 8 personnes maximum au total seront accueillis sur site. Les premiers inscrits seront les premiers servis…
URL:https://www.maxetlisa.com/evenement/recolte-de-fruits-fleurs-et-graines-a-la-sylvatheque-de-16h-a-17h-samedi-6-juin/
LOCATION:Gourbeyrre\, Sylvathèque Blanchet\, Gourbeyre\, 97113
CATEGORIES:Ado,Cueillette,Événements ponctuels,Idée de sortie famille
ATTACH;FMTTYPE=image/jpeg:https://www.maxetlisa.com/wp-content/uploads/2020/06/onf.jpg
END:VEVENT
BEGIN:VEVENT
DTSTART;TZID=America/Guadeloupe:20200613T090000
DTEND;TZID=America/Guadeloupe:20200613T120000
DTSTAMP:20260424T071022
CREATED:20200612T012612Z
LAST-MODIFIED:20200612T012612Z
UID:11864-1592038800-1592049600@www.maxetlisa.com
SUMMARY:Atelier "Ti biten an tan lontan" confection de cosmétiques
DESCRIPTION:Renouez avec la tradition des soins naturels prodigués au bord de la rivière. \nBwa Lansan vous donne rendez-vous le 13 juin à 9h sur l’aire de pique-nique de la rivière rouge à Saint-Claude pour fabriquer vous-même vos shampoings et soins du corps à base de plantes. Huiles essentielles\, aloe vera\, banane\, avocat\, datier ou paroka\, venez tester sur place les secrets de la nature et fabriquez vous-mêmes vos soins pour le corps et les cheveux. \nTARIFS :\nADHERENTS : 15 €\nNON ADHERENTS : 20 €
URL:https://www.maxetlisa.com/evenement/atelier-ti-biten-an-tan-lontan-confection-de-cosmetiques/
LOCATION:Saint -Claude\, Rivière Rouge\, Saint Claude
CATEGORIES:Ateliers,Bien être,Événements ponctuels
ATTACH;FMTTYPE=image/jpeg:https://www.maxetlisa.com/wp-content/uploads/2020/06/Bwa-lansan.jpg
END:VEVENT
BEGIN:VEVENT
DTSTART;TZID=America/Guadeloupe:20200614T070000
DTEND;TZID=America/Guadeloupe:20200614T103000
DTSTAMP:20260424T071022
CREATED:20200612T100426Z
LAST-MODIFIED:20200612T100426Z
UID:11873-1592118000-1592130600@www.maxetlisa.com
SUMMARY:Amoureux à Beautiran
DESCRIPTION:Crédit photo : Ingrid bouvet\nUne belle randonnée de Niveau 1 dans le nord Grande-Terre sur la commune de Petit-Canal.\nUne promenade entre champs de canne à sucre et mangrove\, sur les traces du passé de la région. Le site de Beautiran était le port d’expédition du sucre et du rhum produit par l’usine de\nBeauport\, ainsi que de réception du charbon nécessaire aux machines à vapeur. \nGratuit pour les adhérents. INVITES 10€ inscriptions sur Hello Asso \nC’est un Aller retour / Facile / 8 Km environ relativement plat. \nEquipements :\nVêtements de sport léger\nChaussures adaptées à la marche\nChapeau ou casquette\ncrème solaire en cas de fort ensoleillement sur une partie.\n1\,5 litre d’eau\nUn encas.\nLampe frontale vu l’heure du départ\nUn sifflet recommandé\nUne trousse de secours avec vos médicaments recommandée.\nSac poubelle pour vêtements sales\nVêtements de rechange \nRDV 07h00 De suite après le Stade de Petit-canal prendre le 1er chemin à Gauche en venant de PAP.\nDépart de la Marche 07h15.
URL:https://www.maxetlisa.com/evenement/amoureux-a-beautiran/
LOCATION:Petit Canal\, Stade de Petit-Canal\, Petit Canal\, 97131
CATEGORIES:Ado,Enfant,Événements ponctuels,Idée de sortie famille,Randonnée
ATTACH;FMTTYPE=image/jpeg:https://www.maxetlisa.com/wp-content/uploads/2020/06/Amoureux-des-rando.jpg
END:VEVENT
BEGIN:VEVENT
DTSTART;TZID=America/Guadeloupe:20200618T080000
DTEND;TZID=America/Guadeloupe:20200619T170000
DTSTAMP:20260424T071022
CREATED:20200612T011907Z
LAST-MODIFIED:20200612T011907Z
UID:11859-1592467200-1592586000@www.maxetlisa.com
SUMMARY:Stage poterie enfants
DESCRIPTION:Reprise STAGE POTERIE Enfants\nJeudi 18 et vendredi 19 Juin\npetit groupe de 5\nPour plus d’infos 0690628289\natelierpep.com
URL:https://www.maxetlisa.com/evenement/stage-poterie-enfants-3/
LOCATION:Pointe Noire\, Atelier PEP 723 Bis route de trou caverne\, Pointe Noire\, 97116
CATEGORIES:Ado,Ateliers,Enfant,Événements ponctuels,Idée d'activité
ATTACH;FMTTYPE=image/jpeg:https://www.maxetlisa.com/wp-content/uploads/2020/06/Atelier-PEP-1.jpg
END:VEVENT
BEGIN:VEVENT
DTSTART;TZID=America/Guadeloupe:20200620T130000
DTEND;TZID=America/Guadeloupe:20200620T160000
DTSTAMP:20260424T071022
CREATED:20200616T095331Z
LAST-MODIFIED:20200616T095600Z
UID:11930-1592658000-1592668800@www.maxetlisa.com
SUMMARY:Envie d'une randonnée en famille pour célébrer la fête des pères?
DESCRIPTION:Bwa Lansan vous propose de découvrir la cascade Birloton le samedi 20 juin à Bouillante. Balade familiale d’1h30 accessible aux enfants à partir de 4 ans ou parcours plus sportif de 3h30 réservé aux bons marcheurs à partir de 15 ans\, faites votre choix! \nTarifs:\nTarif Adhérent : 8 euros\nTarif non Adhérent : 12 euros\nTarif unique Enfants : 2 euros\n(Enfant entre 4 et 12 ans)\nInscription sur le site www.bwalansan.fr \n  \nElles font parties du lot de ces nouvelles Cascades\, dévoilées par une fréquentation grandissante et le bouche à oreille des réseaux sociaux. Toutefois cela fait bien longtemps que les spécialistes de la montagne la pratique\, particulièrement les professionnels du canyoning. \nJuste au pied des Pitons de Bouillante\, la rivière Bourceau offre à quelques km d’écart une succession de cascades\, au coffin de la fraîcheur et verdure de la forêt. A l’occasion de la fête des pères les papas sont à l’honneur\, papa sportif ou désirant partager un moment en famille il y en a pour tous les goûts ! \nFormule 1 : Parcours Court – Facile (en famille) \nPetit sentier traversant la forêt et les anciennes plantations de cacaoyer pour aboutir à la première cascade de Birloton haute de 18m et son bassin. Bien que peu profond le bain y est possible. \nInfos techniques : \nFormule 1: \nParcours en linéaire (Aller Retour) \nNiveau : 1 (Facile) – \nDurée Estimative : 1h30 (hors moment de détente) \nPassage technique : A l’arrivée passage technique pour descendre à la chute – paroi verticale passage équipée d’une corde. \nAccessible aux enfants à partir de 4 ans accompagnés d’un parent à l’aise pour la marche. \nAttention 1 enfant/adulte. \nPour les plus petits possible si portage en porte bébé. \nLa baignade est sous la responsabilité de chacun\, nous rappelons que nous n’assurons pas d’encadrement ni surveillance de baignade\, \nFormule 2 : Parcours Long – Randonneur (sportif) \nAprès la 1ere cascade la marche se poursuit à la découverte des deux autres situés en amont. Le parcours en partie dans le lit de la rivière (marche semi aquatique) et la forêt. Le parcours du retour sera choisi en fonction de l’aisance du groupe. \nInfos techniques : \nFormule 2 : réservée exclusivement aux personnes en bonne condition physique \nParcours Boucle ou en huit \nNiveau : 3 (Moyen) – 9km – environ 300m dénivelé+ \nDurée Estimative : 3h30 (hors moment de détente) \nPassage technique : progression en rivière sur une portion\, zones escarpées et glissantes\, traversée de rivière. \nRéservé aux ados SPORTIFS à partir de 15 ans. \nNous rappelons que nous n’assurons pas de surveillance de baignade\, \nMerci de lire attentivement les informations données. \nMatériel : \nMatériel de marche habituel (chaussure et vêtement de sport\, 1\,5L d’eau\, sac à dos\, médicament en cas de traitement)\, pour le parcours sportif des victuailles\, \nPensez à prendre un kwi ou un autre récipient\, (Attention pas de gobelet jetable en plastique c’est pas écologique!) pour le gouter. \nInfos pratiques : \nParcours 2 Sportif – Rendez-vous à 12H \nParcours 1 Facile – Rendez-vous à 13H \nLe lieu sera précisé aux inscrits. \nTarifs* : \nTarif Adhérent : 8 euros \nTarif non Adhérent : 12 euros \nTarif unique Enfants : 2 euros \n(Enfant entre 4 et 12 ans) \nPaiement en espèces ou chèque sur place \nLes inscriptions sont OBLIGATOIRES et ouvertes jusqu’au \nVendredi 19 JUIN 10h \nDélais de rigueur \n1 inscription = 1 formulaire \n(Renouvelez autant de fois qu’il y a d’inscrits)
URL:https://www.maxetlisa.com/evenement/envie-dune-randonnee-en-famille-pour-celebrer-la-fete-des-peres/
LOCATION:Bouillante
CATEGORIES:Événements ponctuels,Randonnée
ATTACH;FMTTYPE=image/jpeg:https://www.maxetlisa.com/wp-content/uploads/2020/06/Bwa-lansan-rando-famille.jpg
END:VEVENT
END:VCALENDAR