BEGIN:VCALENDAR
VERSION:2.0
PRODID:-//Max et Lisa - ECPv6.15.11//NONSGML v1.0//EN
CALSCALE:GREGORIAN
METHOD:PUBLISH
X-WR-CALNAME:Max et Lisa
X-ORIGINAL-URL:https://www.maxetlisa.com
X-WR-CALDESC:Évènements pour Max et Lisa
REFRESH-INTERVAL;VALUE=DURATION:PT1H
X-Robots-Tag:noindex
X-PUBLISHED-TTL:PT1H
BEGIN:VTIMEZONE
TZID:America/Guadeloupe
BEGIN:STANDARD
TZOFFSETFROM:-0400
TZOFFSETTO:-0400
TZNAME:AST
DTSTART:20190101T000000
END:STANDARD
END:VTIMEZONE
BEGIN:VEVENT
DTSTART;TZID=America/Guadeloupe:20200905T073000
DTEND;TZID=America/Guadeloupe:20200905T110000
DTSTAMP:20260424T041955
CREATED:20181213T141136Z
LAST-MODIFIED:20200906T111632Z
UID:2181-1599291000-1599303600@www.maxetlisa.com
SUMMARY:CUEILLETTE - Mr Salade
DESCRIPTION:Le samedi 5 septembre de 7 h 30 à 11 h 00 Mr Salade ouvre les portes de l exploitation pour sa première cueillette après travaux. De la salade des courgettes des épices des pois… et bien d autres à cueillir.🥒🍌🍆🌶🍅 Réservation par message écrit au 06 90 08 36 48.
URL:https://www.maxetlisa.com/evenement/cueillette-mrsalade/
LOCATION:Petit-Canal\, 97119\, Guadeloupe
CATEGORIES:Événements ponctuels,Famille
ATTACH;FMTTYPE=image/jpeg:https://www.maxetlisa.com/wp-content/uploads/2018/12/cueillette.jpg
END:VEVENT
BEGIN:VEVENT
DTSTART;TZID=America/Guadeloupe:20200905T080000
DTEND;TZID=America/Guadeloupe:20201017T170000
DTSTAMP:20260424T041955
CREATED:20200903T234603Z
LAST-MODIFIED:20200911T125436Z
UID:13793-1599292800-1602954000@www.maxetlisa.com
SUMMARY:Dispositif Carte Passerelle- les écoliers de CM1 et CM2 licenciés USEP ou UGSEL
DESCRIPTION:À LA DÉCOUVERTE DU SPORT \nL’objectif est de favoriser la découverte du sport chez les jeunes et faciliter leur adhésion en club en offrant à tous les écoliers de CM1 et CM2 licenciés USEP ou UGSEL la possibilité de tester différents sports au sein des clubs partenaires de l’opération. \nPendant 7 semaines\, entre le 1er septembre et le 17 octobre 2020\, les écoliers auront la possibilité de tester différents sports et clubs\, gratuitement et sans nouvelle prise de licence\, à raison de trois séances par club maximum. \nLa Carte Passerelle est un dispositif qui fait partie des 8 axes de la contribution du CNOSF au plan Héritage des Jeux Olympiques et Paralympiques de Paris 2024. Il s’inscrit dans un continuum éducatif et sportif souhaité par le Comité National Olympique et Sportif Français. \nhttps://www.crosguadeloupe.org/single-post/2020/08/25/D%C3%A9ploiement-du-dispositif-Carte-Passerelle
URL:https://www.maxetlisa.com/evenement/dispositif-carte-passerelle-les-ecoliers-de-cm1-et-cm2-licencies-usep-ou-ugsel/
LOCATION:Guadeloupe
CATEGORIES:Enfant,Événements ponctuels
ATTACH;FMTTYPE=image/jpeg:https://www.maxetlisa.com/wp-content/uploads/2020/09/Carte-passerelle.jpg
END:VEVENT
BEGIN:VEVENT
DTSTART;TZID=America/Guadeloupe:20200905T090000
DTEND;TZID=America/Guadeloupe:20200905T180000
DTSTAMP:20260424T041955
CREATED:20200901T114218Z
LAST-MODIFIED:20200906T111707Z
UID:13707-1599296400-1599328800@www.maxetlisa.com
SUMMARY:Journée portes-ouvertes du Tennis Club Lamentinois
DESCRIPTION:Journée portes-ouvertes du \nTennis Club Lamentinois\n\, Samedi 5 Septembre 2020. \n\nEssais et inscriptions\, durant toute la journée !\nVenez nombreux !
URL:https://www.maxetlisa.com/evenement/journee-portes-ouvertes-du-tennis-club-lamentinois/
LOCATION:Lamentin\, Parc de la verdure\, Lamentin
CATEGORIES:Ado,Enfant,Événements ponctuels
ATTACH;FMTTYPE=image/jpeg:https://www.maxetlisa.com/wp-content/uploads/2020/09/Lamentin.jpg
END:VEVENT
BEGIN:VEVENT
DTSTART;TZID=America/Guadeloupe:20200905T090000
DTEND;TZID=America/Guadeloupe:20200910T160000
DTSTAMP:20260424T041955
CREATED:20200828T095845Z
LAST-MODIFIED:20200911T125304Z
UID:13623-1599296400-1599753600@www.maxetlisa.com
SUMMARY:PORTE OUVERTE GYMNASTICLUB Gymnasticlub
DESCRIPTION:Une journée porte ouverte sera organisée par le club GYMNASTICLUB (4 lieu dit Roujol 97170 Petit Bourg) Samedi 5 septembre\, afin de faire découvrir les activités proposées.\nGymnastique artistique féminine et gymnastique artistique masculine (pratique sur les agrès)\,Handy-Gym\, Freestyle (gymnastique urbaine)\, et Eveil gymnique pour les 2/5 ans\,Gym adultes aux agrès\,et cours de Fitness.\nLes entraîneurs du club seront présents pour vous faire découvrir toutes ces disciplines et répondre aux questions.\nCette journée sera divisée en plusieurs temps :\nDe 9h à 12h Les Baby 2019 à 2015.\nDe 13h à 14h : accueil et renseignements\nDe 14h à 16h tous les enfants née avant 2014\, avec la présence d’Admirable T.\nINFOS CLUB inscriptions 2020/2021 possibles via internet \, renseignements et remise des dossiers (téléchargeables sur le site du club)\nwww.gymnasticlub.org
URL:https://www.maxetlisa.com/evenement/porte-ouverte-gymnasticlub-gymnasticlub/
LOCATION:Petit Bourg\, ROUJOL 97170 PETIT BOURG\, à côté des pompiers.\, Petit-Bourg
CATEGORIES:Ado,Enfant,Événements ponctuels,Sport
ATTACH;FMTTYPE=image/jpeg:https://www.maxetlisa.com/wp-content/uploads/2020/08/gymnasticlub.jpg
END:VEVENT
BEGIN:VEVENT
DTSTART;TZID=America/Guadeloupe:20200905T090000
DTEND;TZID=America/Guadeloupe:20210626T120000
DTSTAMP:20260424T041955
CREATED:20200903T232348Z
LAST-MODIFIED:20210226T102755Z
UID:13788-1599296400-1624708800@www.maxetlisa.com
SUMMARY:EVEIL MUSICAL - chaque samedi matin
DESCRIPTION:Musique\, instruments…. un voayage musical avec le cours de Stéphane Nabajoth au sein de l’association Langaj Savann \n9h -10h :ENFANTS DE MOINS DE 3 ANS  9 à 10h) \n10h-11h : ENFANTS DE 3/5 ans \n11h-12h : ENFANTS DE plu de 5 ans \nINFOLINE : 0690 33 85 51 \n  \n12€ l’heure
URL:https://www.maxetlisa.com/evenement/eveil-musical-le-samedi-matin/
LOCATION:Abymes
CATEGORIES:Ce week-end,Enfant,Événements ponctuels,Mercredi et samedi,Musique
ATTACH;FMTTYPE=image/jpeg:https://www.maxetlisa.com/wp-content/uploads/2020/09/EVEIL-MUSICAL.jpg
END:VEVENT
BEGIN:VEVENT
DTSTART;TZID=America/Guadeloupe:20200905T100000
DTEND;TZID=America/Guadeloupe:20200920T170000
DTSTAMP:20260424T041955
CREATED:20200909T180623Z
LAST-MODIFIED:20200909T180623Z
UID:13906-1599300000-1600621200@www.maxetlisa.com
SUMMARY:Découvrez l'athlétisme - 7/11 ans Baie-Mahault
DESCRIPTION:Au Centre Omnisports Duchesne FIESQUE\, vivez les Journée Portes Ouvertes de l’ \nAthlétic Club de Baie-Mahault – ACBM\n(dès 15H) !
URL:https://www.maxetlisa.com/evenement/decouvrez-lathletisme-7-11-ans-baie-mahault/
LOCATION:Baie Mahault\, Centre Omnisports Duchesne FIESQUE\, Baie-Mahault\, 97122
CATEGORIES:Athlétisme,Enfant,Événements ponctuels,Sport
ATTACH;FMTTYPE=image/jpeg:https://www.maxetlisa.com/wp-content/uploads/2020/09/ACBM.jpg
END:VEVENT
BEGIN:VEVENT
DTSTART;TZID=America/Guadeloupe:20200906T100000
DTEND;TZID=America/Guadeloupe:20200920T170000
DTSTAMP:20260424T041955
CREATED:20200904T012507Z
LAST-MODIFIED:20200904T013803Z
UID:13798-1599386400-1600621200@www.maxetlisa.com
SUMMARY:EQUITATION : PORTES OUVERTES - Petit Bourg
DESCRIPTION:De 10h à 17h initiations gratuites\nDe 10h /12h 30 et 14h/17h Tours de poney\, cheval et calèche pour enfants\nRestauration sur place\nLaissez vous tenter et venez nombreux !\n Nous rappelons que le port du masque est obligatoire et les gestes barrières vivement recommandés pour la sécurité de tous.\nLe centre équestre de Valombreuse est une association qui se situe à duquerry chemin de Trianon avant la kassaverie \nPortes ouvertes les 6\, 13 et 20 Septembre \nInitiation gratuite \n 
URL:https://www.maxetlisa.com/evenement/equitation-portes-ouvertes-petit-bourg/
LOCATION:Petit Bourg\, Duquerry\, Petit-Bourg
CATEGORIES:Ado,Enfant,Equitation,Événements ponctuels
ATTACH;FMTTYPE=image/png:https://www.maxetlisa.com/wp-content/uploads/2020/09/CHEVAL-lE-TRIANON.png
END:VEVENT
BEGIN:VEVENT
DTSTART;TZID=America/Guadeloupe:20200909T080000
DTEND;TZID=America/Guadeloupe:20210630T170000
DTSTAMP:20260424T041955
CREATED:20200909T160032Z
LAST-MODIFIED:20200910T203355Z
UID:13899-1599638400-1625072400@www.maxetlisa.com
SUMMARY:LA RENTRÉE DES ACTIVITÉS DE RAVINE CHAUDE
DESCRIPTION:L’Espace Thermo-Ludique Ravine Chaude a le plaisir de vous informer de la\nreprise des activités aquatiques d’apprentissage et de remise en forme.\nNous proposons\, les activités suivantes :\n– Natation enfant de 6 à 11 ans – Mercredi – 120€ le trimestre\n– Natation ado de 12 à 20 ans\n– Natation adulte\n– Aquagym (Aquaform\, Aquatonic et Aquasenior)\n– Jardin aquatique pour les enfants de 4 à 5 ans -Mercredi – 15h- 15h45 – 150€ trimestre\n– AquaBébé pour les enfants de 6 mois à 3 ans – Samedi -9h – 150€ trimestre\n– La natation maternité (préparation à la naissance)\n– La relaxation aquatique\nPour rappel\, les bassins restent accessibles pour la baignade simple du mardi au dimanche de 9h à 12h et de 13h à 19h avec obligation de réserver au préalable afin de garantir les meilleures conditions d’accueil et le respect des mesures sanitaires.\nRenseignements\, réservation et inscription à l’Espace Thermo Ludique de Ravine Chaude et au 0590 57 16 70.
URL:https://www.maxetlisa.com/evenement/la-rentree-des-activites-de-ravine-chaude/
LOCATION:Lamentin\, Ravine Chaude\, Lamentin
CATEGORIES:Ado,Bébé,Enfant,Événements ponctuels,Natation
ATTACH;FMTTYPE=image/jpeg:https://www.maxetlisa.com/wp-content/uploads/2020/09/Ravine-Chaude-1.jpg
END:VEVENT
BEGIN:VEVENT
DTSTART;TZID=America/Guadeloupe:20200909T140000
DTEND;TZID=America/Guadeloupe:20200930T160000
DTSTAMP:20260424T041955
CREATED:20200909T150400Z
LAST-MODIFIED:20200909T150400Z
UID:13894-1599660000-1601481600@www.maxetlisa.com
SUMMARY:Laissez-vous conter Pointe à Pitre
DESCRIPTION:Laissez-vous conter Pointe-à -Pitre\,\n…en compagnie de guides conférenciers agréés des Villes et Pays d’Art et d’Histoire.\nC’est le moment de découvrir la face oubliée de la capitale économique historique de la Guadeloupe.\nDépart des visites thématiques\nA 14h30\nArchitecture du XXe siècle : Le quartier de l’Assainissement\nSamedi 5\nMurs…Murs… Les secrets du cimetière\nMercredi 9\nLa ville des bords de quais\nSamedi 12\nMémoire des faubourgs\nMercredi 16\nLes places de Pointe-à-Pitre\nmercredi 23\nLa maison traditionnelle pointoise : Evolution et formes\nSamedi 26\nAn ka sonjé Lapwent\nMercredi 30\nDes visites sur commande sont possibles en dehors de cette programmation.\nRenseignements : rosy.jalcebambuck@ville-pointeapitre.fr\nDans le cadre des Journées Européennes du Patrimoine\, une nouvelle visite gratuite vous est proposée :\nLes lieux d’éducation à Pointe-à -Pitre.\nSamedi 19 à 14h et dimanche 20 à 9h\nPour les autres manifestations\, consulter le programme sur l’open agenda JEP 20 du ministère de la culture.\nProfitez\, des PASS Patrimoine et famille !\nInscription obligatoire au Service des Affaires Culturelles et du Patrimoine de Pointe-à-Pitre\nInfoline : 0590.21.68.90/97 ou 0690.59.80.50
URL:https://www.maxetlisa.com/evenement/laissez-vous-conter-pointe-a-pitre/
LOCATION:Pointe à pitre\, Pointe à Pitre
CATEGORIES:Ado,Enfant,Événements ponctuels,Famille
ATTACH;FMTTYPE=image/jpeg:https://www.maxetlisa.com/wp-content/uploads/2020/09/Laissez-vous-conter-Pointe-à-Pitre.jpg
END:VEVENT
BEGIN:VEVENT
DTSTART;TZID=America/Guadeloupe:20200912T083000
DTEND;TZID=America/Guadeloupe:20200912T110000
DTSTAMP:20260424T041955
CREATED:20200906T113148Z
LAST-MODIFIED:20200906T113148Z
UID:13843-1599899400-1599908400@www.maxetlisa.com
SUMMARY:VISITEZ LE PARC FRUITIER ET PAYSAGER DU LAMENTIN
DESCRIPTION: AU JARDIN 971\nPremier Parc 100%NATUREL\nAu Lamentin\, route de ravine chaude\nRéservation obligatoire au 0690552296 (nombre de places limité)\n\n\n350 ARBRES FRUITIERS\n200 PLANTES ORNEMENTALES\n100 PLANTES MEDICINALES\nJARDIN CRÉOLE\nRUCHES\nPLANTES ET ARBRES RARES\nSEMENCES PAYSANNES (OFFERT)\nVISITE GUIDÉE (2h)/ CONSEILS /RÉCOLTE\nDÉGUSTATION DE FRUITS\nJUS FRAIS OFFERT\nVUE PANORAMIQUE\n Tarif : 10e/Adultes 8e/Enfants\n Durée : 2h/2h30\nPROCHAINE VISITE DE LA FERME\nSAMEDI 12 SEPTEMBRE 2020\n Horaires : 8h30\nNOTRE PRODUCTION EST GARANTIE\n100% NATURELLE\n0% PESTICIDES\n0% CHLORDÉCONE (analyse dispo)\n\n\nAUJARDIN c’est un parc fruitier et paysager de plus d’un hectare cultivé exclusivement avec des techniques naturelles.\nFruits\, plantes\, arbres fruitiers\, gousses de vanille\, miel et confitures du jardin sont proposés à la vente en fin de visite.\n\nAu Lamentin\, route de ravine chaude\nFB aujardin971 / Tel. 0690552296 \nVoir moins
URL:https://www.maxetlisa.com/evenement/visitez-le-parc-fruitier-et-paysager-du-lamentin/
LOCATION:Lamentin\, Rue de la pépinière Desbone\, Lamentin
CATEGORIES:Ado,Enfant,Environnement,Événements ponctuels,Jardin
ATTACH;FMTTYPE=image/jpeg:https://www.maxetlisa.com/wp-content/uploads/2020/09/Visite-du-parc-fruitier.jpg
END:VEVENT
BEGIN:VEVENT
DTSTART;TZID=America/Guadeloupe:20200912T140000
DTEND;TZID=America/Guadeloupe:20200912T180000
DTSTAMP:20260424T041955
CREATED:20200910T201053Z
LAST-MODIFIED:20200914T145013Z
UID:13935-1599919200-1599933600@www.maxetlisa.com
SUMMARY:Journée Portes Ouvertes à l'école de danse de Lamentin
DESCRIPTION:Journée Portes Ouvertes à l’école de danse de Lamentin\, samedi 12 Septembre 2020 de 14h à 18h.\nVenez nombreux\nA partir de 4/5 ans
URL:https://www.maxetlisa.com/evenement/journee-portes-ouvertes-a-lecole-de-danse-de-lamentin/
LOCATION:Lamentin\, Ancien Lavaloir Rue du Pont\, Lamentin\, 97129
CATEGORIES:Ado,danse,Enfant,Événements ponctuels
ATTACH;FMTTYPE=image/jpeg:https://www.maxetlisa.com/wp-content/uploads/2020/09/Ecole-de-danse-du-lamentin.jpg
END:VEVENT
BEGIN:VEVENT
DTSTART;TZID=America/Guadeloupe:20200913T090000
DTEND;TZID=America/Guadeloupe:20200913T160000
DTSTAMP:20260424T041955
CREATED:20200908T151259Z
LAST-MODIFIED:20200908T151318Z
UID:13876-1599987600-1600012800@www.maxetlisa.com
SUMMARY:Cours d'initiation gratuit à partir de 5 ans
DESCRIPTION:Nous vous accueillons le dimanche 13 septembre 2020\, à partir de 09:00\, pour un grand bol d’air en pleine nature\, et dans le respect des gestes barrières. Vous pourrez ainsi profiter d’une initiation gratuite à l’équitation.
URL:https://www.maxetlisa.com/evenement/cours-dinitiation-gratuit-a-partir-de-5-ans/
LOCATION:Baie-Mahault\, Birmingham\, Baie Mahault\, 97122
CATEGORIES:Ado,Enfant,Equitation,Événements ponctuels
ATTACH;FMTTYPE=image/jpeg:https://www.maxetlisa.com/wp-content/uploads/2020/09/Cavalier-St-Georges.jpg
END:VEVENT
BEGIN:VEVENT
DTSTART;TZID=America/Guadeloupe:20200913T090000
DTEND;TZID=America/Guadeloupe:20200913T170000
DTSTAMP:20260424T041955
CREATED:20200910T141330Z
LAST-MODIFIED:20200914T145040Z
UID:13915-1599987600-1600016400@www.maxetlisa.com
SUMMARY:Tous à cheval en septembre
DESCRIPTION:les clubs équestres \nCavaliers de Saint-George\nCentre Equestre « La Martingale » FWI\nLe Trianon Centre équestre Valombreuse\net le \nCentre Équestre La Manade\nvous accueillent à leur grande journée porte ouverte ! Au programme de nombreuses activités gratuites\, baptêmes pour petits et grands\, balades\, et démonstrations. \n\nPlus de renseignements auprès de chaque club. #tousacheval #equitation #cheval #poney #guadeloupe
URL:https://www.maxetlisa.com/evenement/tous-a-cheval-en-septembre/
CATEGORIES:Ado,Enfant,Equitation,Événements ponctuels
ATTACH;FMTTYPE=image/png:https://www.maxetlisa.com/wp-content/uploads/2020/09/Tous-à-cheval.png
END:VEVENT
BEGIN:VEVENT
DTSTART;TZID=America/Guadeloupe:20200914T080000
DTEND;TZID=America/Guadeloupe:20200928T170000
DTSTAMP:20260424T041955
CREATED:20200913T154239Z
LAST-MODIFIED:20200929T085106Z
UID:13979-1600070400-1601312400@www.maxetlisa.com
SUMMARY:Cours d’essai\, musique\, danse et théâtre
DESCRIPTION:Du 14 au 28 sept\, réservez votre cours d’essai en Musique Danse ou Théâtre sur https://promusika.fr \nPointe à Pitre \nAbymes \nLe Moule
URL:https://www.maxetlisa.com/evenement/cours-dessai-musique-danse-et-theatre/
CATEGORIES:Ado,danse,Enfant,Événements ponctuels,Musique,Théâtre
ATTACH;FMTTYPE=image/jpeg:https://www.maxetlisa.com/wp-content/uploads/2020/09/Arpège.jpeg
END:VEVENT
BEGIN:VEVENT
DTSTART;TZID=America/Guadeloupe:20200916T090000
DTEND;TZID=America/Guadeloupe:20200916T180000
DTSTAMP:20260424T041955
CREATED:20200913T153522Z
LAST-MODIFIED:20200917T082825Z
UID:13974-1600246800-1600279200@www.maxetlisa.com
SUMMARY:Journée découverte  Tennis Club De Baie Mahault - TCBM le 16 septembre
DESCRIPTION:Ce Mercredi 16 Septembre\, le \nTennis Club De Baie Mahault – TCBM\nvous invite à une journée découverte ou des initiations gratuites seront proposées aux enfants (3 – 18ans) et les inscriptions pour la saison pourront également être effectuées. Retrouvez plus d’informations ci-dessous  \n\n\n\n—————-\n Associations\, adoptez l’hashtag #Asso97122 quand vous publiez vos actualités : nous nous ferons un plaisir de les relayer.
URL:https://www.maxetlisa.com/evenement/journee-decouverte-tennis-club-de-baie-mahault-tcbm-le-16-septembre/
LOCATION:Baie-Mahault\, Baie-Mahault\, 97122
CATEGORIES:Ado,Enfant,Événements ponctuels,Sport,Tennis
ATTACH;FMTTYPE=image/jpeg:https://www.maxetlisa.com/wp-content/uploads/2020/09/119496802_3572035996173964_8846748199580544022_o.jpg
END:VEVENT
BEGIN:VEVENT
DTSTART;TZID=America/Guadeloupe:20200919T080000
DTEND;TZID=America/Guadeloupe:20200919T170000
DTSTAMP:20260424T041955
CREATED:20200915T233440Z
LAST-MODIFIED:20200922T162047Z
UID:14100-1600502400-1600534800@www.maxetlisa.com
SUMMARY:la fête du sport le samedi 19
DESCRIPTION:L’association Tennis Club Dugazon organise en collaboration avec votre centre commercial Milenis\, la fête du sport le samedi 19 Septembre\, venez découvrir de nouvelles activités sportives pour la rentrée !
URL:https://www.maxetlisa.com/evenement/la-fete-du-sport-le-samedi-19/
LOCATION:Abymes\, C.C Milenis\, Abymes\, 97139
CATEGORIES:Événements ponctuels,Exposition,Sport
ATTACH;FMTTYPE=image/jpeg:https://www.maxetlisa.com/wp-content/uploads/2020/09/La-fête-du-sport.jpg
END:VEVENT
BEGIN:VEVENT
DTSTART;TZID=America/Guadeloupe:20200919T140000
DTEND;TZID=America/Guadeloupe:20200920T170000
DTSTAMP:20260424T041955
CREATED:20200910T144851Z
LAST-MODIFIED:20200910T144851Z
UID:13919-1600524000-1600621200@www.maxetlisa.com
SUMMARY:Zevallos et les Journées Européennes du patrimoine 2020
DESCRIPTION:Pour les 37e Journées Européennes du Patrimoine\, l’Habitation Zévallos ouvre ses portes les 19 et 20 septembre prochains.\n Programme :\n Samedi 19 septembre 2020 de 14h à 17h \nDémonstration de taille de pierre avec Benjamin Feuilloley\nDimanche 20 septembre 2020** de 10h à 17h \n Matin \nExposition Eclats de quartiers\nDanse Indienne (Association Shakti)\n Après-midi \nSpectacle de quadrille Awmoni Kréyol\nLes mayolè du Moule\nWoulé-Ka (Gwo-ka)\n Billeterie\nCette année\, en raison des conditions sanitaires\, nous vous invitons à réserver votre créneau en réservant en ligne sur cette billetterie. \nhttps://bit.ly/2FmzbUW\nUne jauge de 10 personnes toutes les 10 minutes pour la billetterie en ligne est mise en place. Une jauge de billets sera également disponible sur place\, mais nous ne pouvons garantir la disponibilité des places.\nNous avons hâte de vous revoir et d’explorer ensemble les secrets de Zévallos !
URL:https://www.maxetlisa.com/evenement/zevallos-et-les-journees-europeennes-du-patrimoine-2020/
LOCATION:Le Moule\, Route national\, Le Moule\, 97160
CATEGORIES:Ado,Enfant,Événements ponctuels,Famille
ATTACH;FMTTYPE=image/jpeg:https://www.maxetlisa.com/wp-content/uploads/2020/09/Zevallos.jpg
END:VEVENT
BEGIN:VEVENT
DTSTART;TZID=America/Guadeloupe:20200919T150000
DTEND;TZID=America/Guadeloupe:20200919T170000
DTSTAMP:20260424T041955
CREATED:20200909T143752Z
LAST-MODIFIED:20200909T143752Z
UID:13889-1600527600-1600534800@www.maxetlisa.com
SUMMARY:Portes Ouvertes  : Venez tenter le RUGBY AU RCG - Goyave
DESCRIPTION:Journée Portes ouvertes \nAteliers ludiques et goûter \nA partir de 6 ans
URL:https://www.maxetlisa.com/evenement/portes-ouvertes-venez-tenter-le-rugby-au-rcg-goyave/
LOCATION:Goyave\, Stade de la Rose\, Goyave
CATEGORIES:Ado,Enfant,Événements ponctuels,Rugby,Sport
ATTACH;FMTTYPE=image/jpeg:https://www.maxetlisa.com/wp-content/uploads/2020/09/Rugby-Goyave.jpg
END:VEVENT
BEGIN:VEVENT
DTSTART;TZID=America/Guadeloupe:20200923T090000
DTEND;TZID=America/Guadeloupe:20200923T163000
DTSTAMP:20260424T041955
CREATED:20200915T234752Z
LAST-MODIFIED:20200915T234752Z
UID:14106-1600851600-1600878600@www.maxetlisa.com
SUMMARY:- 🍔🍟 Atelier cupcake burger🍟🍔: réalisation de cupcake burger ! à partir de 6 ans  .
DESCRIPTION:mercredi 23 septembre 2020 de 14h30 a 16h\n.\nRéservez directement sur le site internet via le lien suivant (tarifs et détails)\n.\nhttps://azcakedesign.com/collections/pour-les-plus-petits\n.\n  \nIl y a un petit problème pour le règlement par carte bancaire ! Contactez nous au 0690 759 656\, nous vous enverrons le lien pour le paiement sécurisé à distance \n  \n.\nAu au magasin immeuble le patio rue Ferdinand Forest à Jarry\nOuvert du mardi au vendredi de 9h à 16h30\n.\n0690759656
URL:https://www.maxetlisa.com/evenement/%f0%9f%8d%94%f0%9f%8d%9f-atelier-cupcake-burger%f0%9f%8d%9f%f0%9f%8d%94-realisation-de-cupcake-burger-a-partir-de-6-ans/
LOCATION:Baie-Mahault\, Jarry\, Baie Mahault\, 97122
CATEGORIES:Atelier cuisine,Cuisine,Enfant,Événements ponctuels
ATTACH;FMTTYPE=image/jpeg:https://www.maxetlisa.com/wp-content/uploads/2020/09/AZ-cake.jpg
END:VEVENT
BEGIN:VEVENT
DTSTART;TZID=America/Guadeloupe:20200930T143000
DTEND;TZID=America/Guadeloupe:20200930T163000
DTSTAMP:20260424T041955
CREATED:20200915T232317Z
LAST-MODIFIED:20200915T233019Z
UID:14095-1601476200-1601483400@www.maxetlisa.com
SUMMARY:Atelier Eveil tes sens 6/9 ans
DESCRIPTION:Jeu aquatique \nBattle \nDessin…
URL:https://www.maxetlisa.com/evenement/atelier-eveil-tes-sens-6-9-ans/
LOCATION:Saint François\, Résidence la Valée d'or
CATEGORIES:Ateliers,Événements ponctuels,Nature
ATTACH;FMTTYPE=image/jpeg:https://www.maxetlisa.com/wp-content/uploads/2020/09/Eveil-tes-sens.jpg
END:VEVENT
END:VCALENDAR