BEGIN:VCALENDAR
VERSION:2.0
PRODID:-//Max et Lisa - ECPv6.15.11//NONSGML v1.0//EN
CALSCALE:GREGORIAN
METHOD:PUBLISH
X-ORIGINAL-URL:https://www.maxetlisa.com
X-WR-CALDESC:Évènements pour Max et Lisa
REFRESH-INTERVAL;VALUE=DURATION:PT1H
X-Robots-Tag:noindex
X-PUBLISHED-TTL:PT1H
BEGIN:VTIMEZONE
TZID:America/Guadeloupe
BEGIN:STANDARD
TZOFFSETFROM:-0400
TZOFFSETTO:-0400
TZNAME:AST
DTSTART:20190101T000000
END:STANDARD
END:VTIMEZONE
BEGIN:VEVENT
DTSTART;TZID=America/Guadeloupe:20200905T080000
DTEND;TZID=America/Guadeloupe:20201017T170000
DTSTAMP:20260424T031328
CREATED:20200903T234603Z
LAST-MODIFIED:20200911T125436Z
UID:13793-1599292800-1602954000@www.maxetlisa.com
SUMMARY:Dispositif Carte Passerelle- les écoliers de CM1 et CM2 licenciés USEP ou UGSEL
DESCRIPTION:À LA DÉCOUVERTE DU SPORT \nL’objectif est de favoriser la découverte du sport chez les jeunes et faciliter leur adhésion en club en offrant à tous les écoliers de CM1 et CM2 licenciés USEP ou UGSEL la possibilité de tester différents sports au sein des clubs partenaires de l’opération. \nPendant 7 semaines\, entre le 1er septembre et le 17 octobre 2020\, les écoliers auront la possibilité de tester différents sports et clubs\, gratuitement et sans nouvelle prise de licence\, à raison de trois séances par club maximum. \nLa Carte Passerelle est un dispositif qui fait partie des 8 axes de la contribution du CNOSF au plan Héritage des Jeux Olympiques et Paralympiques de Paris 2024. Il s’inscrit dans un continuum éducatif et sportif souhaité par le Comité National Olympique et Sportif Français. \nhttps://www.crosguadeloupe.org/single-post/2020/08/25/D%C3%A9ploiement-du-dispositif-Carte-Passerelle
URL:https://www.maxetlisa.com/evenement/dispositif-carte-passerelle-les-ecoliers-de-cm1-et-cm2-licencies-usep-ou-ugsel/
LOCATION:Guadeloupe
CATEGORIES:Enfant,Événements ponctuels
ATTACH;FMTTYPE=image/jpeg:https://www.maxetlisa.com/wp-content/uploads/2020/09/Carte-passerelle.jpg
END:VEVENT
BEGIN:VEVENT
DTSTART;TZID=America/Guadeloupe:20200905T090000
DTEND;TZID=America/Guadeloupe:20210626T120000
DTSTAMP:20260424T031328
CREATED:20200903T232348Z
LAST-MODIFIED:20210226T102755Z
UID:13788-1599296400-1624708800@www.maxetlisa.com
SUMMARY:EVEIL MUSICAL - chaque samedi matin
DESCRIPTION:Musique\, instruments…. un voayage musical avec le cours de Stéphane Nabajoth au sein de l’association Langaj Savann \n9h -10h :ENFANTS DE MOINS DE 3 ANS  9 à 10h) \n10h-11h : ENFANTS DE 3/5 ans \n11h-12h : ENFANTS DE plu de 5 ans \nINFOLINE : 0690 33 85 51 \n  \n12€ l’heure
URL:https://www.maxetlisa.com/evenement/eveil-musical-le-samedi-matin/
LOCATION:Abymes
CATEGORIES:Ce week-end,Enfant,Événements ponctuels,Mercredi et samedi,Musique
ATTACH;FMTTYPE=image/jpeg:https://www.maxetlisa.com/wp-content/uploads/2020/09/EVEIL-MUSICAL.jpg
END:VEVENT
BEGIN:VEVENT
DTSTART;TZID=America/Guadeloupe:20200909T080000
DTEND;TZID=America/Guadeloupe:20210630T170000
DTSTAMP:20260424T031328
CREATED:20200909T160032Z
LAST-MODIFIED:20200910T203355Z
UID:13899-1599638400-1625072400@www.maxetlisa.com
SUMMARY:LA RENTRÉE DES ACTIVITÉS DE RAVINE CHAUDE
DESCRIPTION:L’Espace Thermo-Ludique Ravine Chaude a le plaisir de vous informer de la\nreprise des activités aquatiques d’apprentissage et de remise en forme.\nNous proposons\, les activités suivantes :\n– Natation enfant de 6 à 11 ans – Mercredi – 120€ le trimestre\n– Natation ado de 12 à 20 ans\n– Natation adulte\n– Aquagym (Aquaform\, Aquatonic et Aquasenior)\n– Jardin aquatique pour les enfants de 4 à 5 ans -Mercredi – 15h- 15h45 – 150€ trimestre\n– AquaBébé pour les enfants de 6 mois à 3 ans – Samedi -9h – 150€ trimestre\n– La natation maternité (préparation à la naissance)\n– La relaxation aquatique\nPour rappel\, les bassins restent accessibles pour la baignade simple du mardi au dimanche de 9h à 12h et de 13h à 19h avec obligation de réserver au préalable afin de garantir les meilleures conditions d’accueil et le respect des mesures sanitaires.\nRenseignements\, réservation et inscription à l’Espace Thermo Ludique de Ravine Chaude et au 0590 57 16 70.
URL:https://www.maxetlisa.com/evenement/la-rentree-des-activites-de-ravine-chaude/
LOCATION:Lamentin\, Ravine Chaude\, Lamentin
CATEGORIES:Ado,Bébé,Enfant,Événements ponctuels,Natation
ATTACH;FMTTYPE=image/jpeg:https://www.maxetlisa.com/wp-content/uploads/2020/09/Ravine-Chaude-1.jpg
END:VEVENT
BEGIN:VEVENT
DTSTART;TZID=America/Guadeloupe:20201003T090000
DTEND;TZID=America/Guadeloupe:20201003T120000
DTSTAMP:20260424T031328
CREATED:20201002T130033Z
LAST-MODIFIED:20201002T131116Z
UID:14486-1601715600-1601726400@www.maxetlisa.com
SUMMARY:LE SAMEDI RDV HEBDOMADAIRE  À ANSE-BERTRAND
DESCRIPTION:Dès le 3 Octobre\, je suis ravie de vous retrouver dans ce cadre verdoyant et ventilé sous un carbet pour des ateliers oraux autour de la langue et la culture anglophones (chants\, comptines\, us et coutumes\, partages d’expériences\, lectures\, ect). Les parents sont les bienvenus.\n\n\nJe vous propose 3 créneaux horaires\n\n\n9h-10h : 3-5 ans\n\n\n10h à 11h : 6 à 7 ans\n\n\n11h à 12h : 8 à 10ans\n\n\nTarifs:\n\n\n10 euros par enfant (+5 euros par personne supplémentaire)\n\n\nPossibilité de tarifs mensuels dégressifs enfant ou enfant(s)/parent(s)\n\n\n10 personnes maximum par session (merci de confirmer ou annuler votre présence au plus tard la veille)\n\n\nRespect des gestes barrières assuré\n\n\nPensez à amener de quoi vous asseoir confortablement\n\n\nÀ samedi au camp militaire d’Anse-Bertrand\n\n\nPs: Toilettes disponibles\n\n\nPs bis : Je serai sur place dès 8h30 pour valider les inscriptions et réservations ainsi que pour tous renseignements
URL:https://www.maxetlisa.com/evenement/le-samdi-rdv-hebdomadaire-a-anse-bertrand/
LOCATION:Anse Bertrand\, hippodrome Saint Jacques\, Anse-Bertrand
CATEGORIES:Enfant,Événements ponctuels,Langues
ATTACH;FMTTYPE=image/jpeg:https://www.maxetlisa.com/wp-content/uploads/2020/10/RDV-Ti-sweety.jpg
END:VEVENT
BEGIN:VEVENT
DTSTART;TZID=America/Guadeloupe:20201003T100000
DTEND;TZID=America/Guadeloupe:20201004T120000
DTSTAMP:20260424T031328
CREATED:20201001T191754Z
LAST-MODIFIED:20201006T121821Z
UID:14468-1601719200-1601812800@www.maxetlisa.com
SUMMARY:FILM VANILLE + ATELIERS
DESCRIPTION:Découvrez le court métrage pour enfants VANILLE avec des ateliers gratuits. Vanille\, petite fille parisienne fraîchement débarquée en Guadeloupe\, va être plongée dans une aventure exotique et teintée de mystère…
URL:https://www.maxetlisa.com/evenement/film-vanille-ateliers/
LOCATION:Abymes
CATEGORIES:cinéma,Événements ponctuels
ATTACH;FMTTYPE=image/jpeg:https://www.maxetlisa.com/wp-content/uploads/2020/10/120506905_834215490657077_7123007427513190865_n.jpg
END:VEVENT
BEGIN:VEVENT
DTSTART;TZID=America/Guadeloupe:20201003T140000
DTEND;TZID=America/Guadeloupe:20201003T170000
DTSTAMP:20260424T031328
CREATED:20200929T094447Z
LAST-MODIFIED:20201006T121912Z
UID:14382-1601733600-1601744400@www.maxetlisa.com
SUMMARY:Ecole Française BABY VELO BMX Guadeloupe
DESCRIPTION:De 2 à 8 ans les enfants sont des « machines à apprendre ».\nTrès curieux et toujours actif.\nLes connexions s’établissent dans le cerveau et le corps grandit rapidement.\n• Les enfants ont une très faible capacité d’attention et il leur faut des activités très variées\, entrecoupées de pauses fréquentes.\n• L’interaction sociale ludique avec les autres enfants se développe progressivement. Les enfants aiment beaucoup imiter les autres et jouer avec leurs parents. • Les enfants ont une capacité à imiter\, à mémoriser des notions\, comme les règles la culture des activités du sport vélo adapté. Il faut les laisser inventer leurs propres jeux. nos association clubs partenaire BMX Guadeloupe vous proposes les licences 8ans et moins à la piste BMX Guadeloupe. \n2 à 4 ans\, je découvre les activités Ecole Française de cyclisme \n5 à 6 ans J’apprend les jeux les activités Ecole Française de cyclisme \n7 à 8 ans enfants Actif Ecole Française de cyclisme
URL:https://www.maxetlisa.com/evenement/ecole-francaise-baby-velo-bmx-guadeloupe/
LOCATION:Baie Mahault\, Velodrome
CATEGORIES:Événements ponctuels,Vélo
ATTACH;FMTTYPE=image/jpeg:https://www.maxetlisa.com/wp-content/uploads/2020/09/Baby-Vélo.jpg
END:VEVENT
BEGIN:VEVENT
DTSTART;TZID=America/Guadeloupe:20201005T170000
DTEND;TZID=America/Guadeloupe:20201009T200000
DTSTAMP:20260424T031328
CREATED:20200903T115041Z
LAST-MODIFIED:20200914T145110Z
UID:13763-1601917200-1602273600@www.maxetlisa.com
SUMMARY:URBAN DANCE CENTER pour une nouvelle saison de folie
DESCRIPTION:Rendez-vous pour une semaine de portes ouvertes du Lundi 14 au Samedi 19 Septembre à l’Instant Club Discothèque. Tous les cours seront GRATUITS !! \nDébut des cours le Lundi 21 Septembre 2020. \n(Pour rappel le port du masques reste obligatoire\, sauf lors de la pratique) \nInfos : 0690742837 / 0690479944
URL:https://www.maxetlisa.com/evenement/urban-dance-center-pour-une-nouvelle-saison-de-folie/
LOCATION:Abymes\, L'instant Club Discothèque\, Abymes\, 97139
CATEGORIES:Ado,Ateliers,danse,Enfant,Événements ponctuels,Mercredi et samedi
ATTACH;FMTTYPE=image/jpeg:https://www.maxetlisa.com/wp-content/uploads/2020/09/Unik-Dancerz.jpg
END:VEVENT
BEGIN:VEVENT
DTSTART;TZID=America/Guadeloupe:20201018T160000
DTEND;TZID=America/Guadeloupe:20201018T170000
DTSTAMP:20260424T031328
CREATED:20201011T150835Z
LAST-MODIFIED:20201011T150914Z
UID:14841-1603036800-1603040400@www.maxetlisa.com
SUMMARY:Le Marchand de Mémoire/ spectacle pour enfants
DESCRIPTION:Ameline et Eprouvette sont deux fillettes qui ne cessent jamais de jouer..\nQuand l’une perd la mémoire\, l’autre perd sa voix!!!\nQuelle Histoire….!\nElles partent donc à la recherche du Marchand de Mémoire…!!\nCe spectacle jeune public\, va offrir aux enfants et aux plus grands\, un tourbillon de folies…!\nVenez réveiller les Ribouldingues qui sommeillent en vous !\nA partir de 3 ans\nAfin de respecter les règles sanitaires\, vous serez placé par ordre de réservation.\nTarif : 10 euros\ndurée 45 min\nRéservation au 06.90.41.30.18
URL:https://www.maxetlisa.com/evenement/le-marchand-de-memoire-spectacle-pour-enfants/
LOCATION:Sainte Anne\, Rue Hyppolite Laffage\, Sainte Anne\, 97180
CATEGORIES:Événements ponctuels,Spectacle,Théâtre
ATTACH;FMTTYPE=image/jpeg:https://www.maxetlisa.com/wp-content/uploads/2020/10/Théatre-de-Dipe.jpg
END:VEVENT
BEGIN:VEVENT
DTSTART;TZID=America/Guadeloupe:20201022T080000
DTEND;TZID=America/Guadeloupe:20201101T170000
DTSTAMP:20260424T031328
CREATED:20201022T140011Z
LAST-MODIFIED:20201023T064744Z
UID:15244-1603353600-1604250000@www.maxetlisa.com
SUMMARY:Concours de dessins - 6/16 ans "Les zones humides ultramarines"
DESCRIPTION:Calend’Art 2021\nAppel à contribution Grand concours de dessins\n(écoles\, associations\, familles)\nPour la 4ème année consécutive\, le Pôle-relais zones humides tropicales lance pour 2021 une nouvelle édition de son « Calend’art ».\nCe grand concours dessin sur le thème des zones humides\, invite tous les enfants du primaire et du secondaire (6-16 ans) des territoires de l’Outre-mer français (Guadeloupe\, Martinique\, Saint-Martin\, Saint-Barthélémy\, Guyane\, Mayotte\, Réunion\, Polynésie française\, Wallis et Futuna\, Nouvelle Calédonie) à participer à celui-ci en envoyant par courrier postal ou par mail leur(s) plus beau(x) dessin(s). \nUn seul objectif : soyez créatif ! Parlez-nous des mares\, des étangs\, des lacs\, des mangroves\, des tourbières… Les zones humides sont des écosystèmes riches et diversifiés. Mettez cette diversité à l’honneur ! \nCe calendrier servira à sensibiliser le grand public\, jeune et moins jeune\, à la conservation et protection des zones humides de l’Outre-mer français. Outre les dessins des grands gagnants\, il contiendra de nombreuses informations et anecdotes sur les zones humides. \nCe concours représente par ailleurs une formidable opportunité pour ces jeunes générations de s’intéresser et de découvrir le rôle vital que jouent les zones humides dans leur quotidien et de s’impliquer dans une action de sensibilisation à grande échelle tout en leur permettant d’explorer leur imagination. Les gagnants sélectionnés seront publiés dans le calendrier 2021 qui sera distribué (par voie virtuelle et papier) à l’échelle internationale. \nEn aucun cas\, ce calendrier ne sera édité à des fins commerciales. \n  \nCONSIGNES A RESPECTER POUR PARTICIPER AU CONCOURS\nType de dessin\nNous aimerions un travail coloré\, pas de noir et blanc! La peinture\, les crayons de couleur\, l’encre\, le collage\, le pastel…etc. sont tous acceptés. \nDimensions\nPapier A4 (21 x 29\,7cm) en format paysage afin de correspondre à la page d’un calendrier (tous les dessins en format portrait seront malheureusement jugés hors concours). \nIdentification de l’artiste\nIMPORTANT : À l’arrière de chaque œuvre\, veuillez inscrire : le nom complet et l’âge de l’artiste\, le nom de l’école dans laquelle il est scolarisé ou de l’association qu’il souhaite représenter (sauf s’il participe en son nom uniquement)\, son adresse postale et le titre de l’œuvre\, ainsi qu’une adresse mail à laquelle envoyer les résultats.\nLes participants accepteront que toutes les créations qui ressortiront de ce concours\, soient ré-utilisées par le Pôle-Relais dans le cadre de ses missions.\nRemarque : il n’y a pas de nombre limite de dessin par enfant. \nÂge\nLe concours est ouvert aux enfants et adolescents de 6 à 16 ans. \nSujet\nLes zones humides ultramarines (lagon\, saline\, mangrove\, mare\, rivière\, étang\, lac\, marécage\, marais\, forêt marécageuse…). S’il le souhaite\, l’artiste peut ajouter une légende à l’arrière de son dessin (ou en annexe) afin d’expliquer plus clairement la signification de celui-ci. Les plus beaux messages seront inclus dans le calendrier avec le nom de l’auteur. \nPrix\n14 gagnants seront sélectionnés afin de représenter les 12 mois de l’année + le dessin de couverture + dessin de dos. Chaque gagnant aura l’honneur de voir son dessin et son nom figurer dans un calendrier qui sera distribué à l’échelle des Outre-mers français (dans les 3 bassins : Atlantique\, Pacifique\, Indien) et recevra une version papier de celui-ci. \nCoordonnées\nLe contact et l’adresse postale auxquels envoyer les dessins sont les suivants : \nGaëlle Vandersarren\nPôle-Relais Zones humides tropicales\nCité administrative de Circonvallation\nRue Alexandre Buffon\n97100 Basse-Terre\, Guadeloupe \nVous pouvez aussi envoyer vos dessins en haute définition par mail à gaelle.vandersarren@uicn.fr  \nAttention\, la date limite de réception des dessins (par mail ou voie postale) est fixée au 1er novembre 2020.\nPour tout renseignement\, veuillez contacter la coordinatrice du pôle par mail (gaelle.vandersarren@uicn.fr) ou par téléphone (0590) 590 81 81 29. \n 
URL:https://www.maxetlisa.com/evenement/concours-de-dessins-6-16-ans-les-zones-humides-ultramarines/
LOCATION:Guadeloupe\, Guadeloupe
CATEGORIES:Environnement,Événements ponctuels
ATTACH;FMTTYPE=image/jpeg:https://www.maxetlisa.com/wp-content/uploads/2020/10/Concours-Calendart.jpg
END:VEVENT
BEGIN:VEVENT
DTSTART;TZID=America/Guadeloupe:20201022T080000
DTEND;TZID=America/Guadeloupe:20201231T170000
DTSTAMP:20260424T031328
CREATED:20201022T132208Z
LAST-MODIFIED:20201023T064951Z
UID:15235-1603353600-1609434000@www.maxetlisa.com
SUMMARY:Embarquez à bord du nouveau train de Beauport
DESCRIPTION:Du mardi au dimanche \nRéservation fortement conseillée \n3 départs par jours 10h 11h 15h \nVisite + Balade en train  2h \nACTIVITES enfant \nAccrobranche (de 3 à 6 ans) \nAire de jeux (3 à 12 ans) \n  \n 
URL:https://www.maxetlisa.com/evenement/embarquez-a-bord-du-nouveau-train-de-beauport/
LOCATION:Port -Louis\, Beauport\, Port-Louis\, 97117
CATEGORIES:Événements ponctuels,Site de Loisirs
ATTACH;FMTTYPE=image/jpeg:https://www.maxetlisa.com/wp-content/uploads/2020/10/Beauport.jpg
END:VEVENT
BEGIN:VEVENT
DTSTART;TZID=America/Guadeloupe:20201023T080000
DTEND;TZID=America/Guadeloupe:20201023T190000
DTSTAMP:20260424T031328
CREATED:20201022T175715Z
LAST-MODIFIED:20201023T064644Z
UID:15260-1603440000-1603479600@www.maxetlisa.com
SUMMARY:PROJECTION CIN'XTERIEUR- Les Minions -Marie Galante
DESCRIPTION:VENDREDI 23 Octobre 2020\n\n\nFILM : Les Minions de Pierre COFFIN et Kyle Balda\nLIEU : Écomusée de Marie-Galante\, Habitation Murat à 19h\nAVEC : marion COTILLARD\, Guillaume CANET\, Gad ELMALEH\n\n\nSYNOPSIS : A l’origine de simples organismes monocellulaires de couleur jaune\, les Minions ont évolué au cours des âges au service de maîtres plus abjectes les uns que les autres. Les disparitions répétitives de ceux-ci\, des tyrannosaures à Napoléon\, ont plongé les Minions dans une profonde dépression. Mais l’un d’eux\, prénommé Kevin\, a une idée. Flanqué de Stuart\, l’adolescent rebelle et de l’adorable petit Bob\, Kevin part à la recherche d’un nouveau patron malfaisant pour guider les siens. Nos trois Minions se lancent dans un palpitant voyage qui va les conduire à leur nouveau maître : Scarlet Overkill\, la première superméchante de l’histoire. De l’Antarctique au New York des années 60\, nos trois compères arrivent finalement à Londres\, où ils vont devoir faire face à la plus terrible menace de leur existence : l’annihilation de leur espèce.\n\n\nL’entrée est libre et gratuite\nSonjé poté ti ban a zot !\n\n\nPour la sécurité de tous\, merci d’apporter votre siège et de respecter une distanciation entre les groupes.\nN’oubliez pas votre masque !\n\n\n\n\n\n\n\n\n\n\n\n\n\n\n\n\n\n\n\n\n\n\n\n\n\n\n\n\n\n\n\n\n22\n\n\n\n\n\n1 partage\n\n\n\n\n\n\n\n\nJ’aime\n\n\n\nCommenter\n\n\n\nPartager
URL:https://www.maxetlisa.com/evenement/projection-cinxterieur-les-minions-marie-galante/
LOCATION:Marie Galante\, Eco musée\, Grand Bourg\, 97112
CATEGORIES:cinéma,Événements ponctuels
ATTACH;FMTTYPE=image/jpeg:https://www.maxetlisa.com/wp-content/uploads/2020/10/Ciné-Woulé.jpg
END:VEVENT
BEGIN:VEVENT
DTSTART;TZID=America/Guadeloupe:20201024T080000
DTEND;TZID=America/Guadeloupe:20201028T170000
DTSTAMP:20260424T031328
CREATED:20201023T065545Z
LAST-MODIFIED:20201030T131307Z
UID:15289-1603526400-1603904400@www.maxetlisa.com
SUMMARY:Embarquez avec VANILLE
DESCRIPTION:
URL:https://www.maxetlisa.com/evenement/vanille/
LOCATION:Guadeloupe
CATEGORIES:Événements ponctuels,Film
ATTACH;FMTTYPE=image/jpeg:https://www.maxetlisa.com/wp-content/uploads/2020/10/vANILLE.jpg
END:VEVENT
BEGIN:VEVENT
DTSTART;TZID=America/Guadeloupe:20201024T090000
DTEND;TZID=America/Guadeloupe:20201024T120000
DTSTAMP:20260424T031328
CREATED:20201023T064207Z
LAST-MODIFIED:20201023T064207Z
UID:15282-1603530000-1603540800@www.maxetlisa.com
SUMMARY:Atelier bricolage : le cadre végétal - Parents/enfants
DESCRIPTION:Réaliser le cadre végétal en quelques heures
URL:https://www.maxetlisa.com/evenement/atelier-bricolage-le-cadre-vegetal-parents-enfants/
LOCATION:Petit-Bourg\, Espace Malacqui -Lézarde\, Petit-Bourg\, 97170
CATEGORIES:Événements ponctuels,Végétal
ATTACH;FMTTYPE=image/png:https://www.maxetlisa.com/wp-content/uploads/2020/10/CKB.png
END:VEVENT
BEGIN:VEVENT
DTSTART;TZID=America/Guadeloupe:20201026T073000
DTEND;TZID=America/Guadeloupe:20201030T113000
DTSTAMP:20260424T031328
CREATED:20201022T133713Z
LAST-MODIFIED:20201102T141530Z
UID:15239-1603697400-1604057400@www.maxetlisa.com
SUMMARY:TI MOUN AN DLO TOUSSAINT
DESCRIPTION:Les matinées sportives TI MOUN AN DLO TOUSSAINT battent leur plein……\nMatinée riche en apprentissage et bons moments\, il reste des places pour la deuxième semaine des vacances de la toussaint. N’hésitez pas à les inscrire !!!\n2ème semaine du 26-10 au 30-10 à 55€\nRéception à partir de 7h30 jusqu’à 11h30\, 1h de natation et 1h30 de découverte d’activités de la natation (water-polo\, palmes\, plongeon etc….)\n• TOUTES LES INSCRIPTIONS DOIVENT SE FAIRE PAR MAIL\n• TOUS LES PAIEMENTS DOIVENT SE FAIRE SUR RDV\n• ATTENTION VOUS DEVEZ AVOIR LA CONFIRMATION PAR TELEPHONE OU PAR MAIL DE NOS SERVICES AVANT DE VOUS DEPLACER.\n\n\nLes Pièces à fournir à l’inscription par mail en un seul envoi. L’objet du mail mettre le nom de l’inscrit à:\n• 1 attestation d’assurance à responsabilité civile\n• Feuille d’inscription remplie et signée\n\n\nPaiement à la piscine\n1. Envoi par mail du dossier d’inscription\n2. Prise de RDV (par téléphone ou mail) pour effectuer le paiement au sein de l’établissement.\n\n\nHORAIRES DE RECEPTION DU PUBLIC SUR RDV : LUNDI-MARDI-JEUDI-VENDREDI de 7H30 à 18H00
URL:https://www.maxetlisa.com/evenement/ti-moun-an-dlo-toussaint/
LOCATION:Abymes\, Route de Dugzon\, Abymes\, 97139
CATEGORIES:Événements ponctuels,Natation,Vacances scolaires
ATTACH;FMTTYPE=image/jpeg:https://www.maxetlisa.com/wp-content/uploads/2020/10/piscine.jpg
END:VEVENT
BEGIN:VEVENT
DTSTART;TZID=America/Guadeloupe:20201028T143000
DTEND;TZID=America/Guadeloupe:20201028T163000
DTSTAMP:20260424T031328
CREATED:20201022T130738Z
LAST-MODIFIED:20201030T131517Z
UID:15230-1603895400-1603902600@www.maxetlisa.com
SUMMARY:ATELIER D’ÉCRITURE CRÉATIVE ENFANTS 8/12 ans
DESCRIPTION:Et si on réveillait l’écrivain qui sommeille en chaque enfant?\nAnimaux imaginaires\, super héros\, soukounyan et autres créatures fantastiques vont se meler aux jeux d’écriture imaginés par Coco Mondésir pour permettre au 8-12 ans de jouer avec les mots.\nL’atelier est animé par Coco Mondésir\, jeune auteure Guadeloupéenne primée au national pour sa nouvelle Elle était si belle. Elle anime des ateliers d’écriture créative pour transmettre l’amour des mots.\n\n\nComment ça se passe?\nDivers jeux d’écriture individuels et collectifs entrecoupés de lecture-partage des textes des participants.\n\n\nPour quiLes enfants de 8 à 12 ans.\nOù ? Thé Penseur\,127 rue Nobel à Jarry.\nQuand?Le 28 octobre 2020 de 14h30 à 16h\nLa thématique: Mon monde fantastique\nTarif: 20€ matériel et gouter inclus.\nIl n’y a que 6 places!\n\n\nBillet:https://www.weezevent.com/atelier-d-ecriture-creative…\nUne question? => lespetitsmotsdecoco@gmail.com \nVoir moins
URL:https://www.maxetlisa.com/evenement/atelier-decriture-creative-enfants-8-12-ans/
LOCATION:Baie Mahault\, Le thé penseur : 127 rue NOBEL\,\, Baie Mahault\, 97122
CATEGORIES:Culture,Enfant,Événements ponctuels
ATTACH;FMTTYPE=image/jpeg:https://www.maxetlisa.com/wp-content/uploads/2020/10/Orange-and-Cream-Spooky-Hand-Drawn-Playful-Halloween-Childrens-Party-Invitation.jpg
END:VEVENT
BEGIN:VEVENT
DTSTART;TZID=America/Guadeloupe:20201030T150000
DTEND;TZID=America/Guadeloupe:20201030T180000
DTSTAMP:20260424T031328
CREATED:20201030T094302Z
LAST-MODIFIED:20201030T094302Z
UID:15540-1604070000-1604080800@www.maxetlisa.com
SUMMARY:NOLI WEN a NOLIPARC
DESCRIPTION:Ambiance halloween \nRéservation obligatoire
URL:https://www.maxetlisa.com/evenement/noli-wen-a-noliparc/
LOCATION:Sainte Rose\, 10 Zac de Nolivier\, Sainte Rose\, 97115
CATEGORIES:Événements ponctuels
ATTACH;FMTTYPE=image/jpeg:https://www.maxetlisa.com/wp-content/uploads/2020/10/NOLIPARC.jpg
END:VEVENT
BEGIN:VEVENT
DTSTART;TZID=America/Guadeloupe:20201031T090000
DTEND;TZID=America/Guadeloupe:20201031T120000
DTSTAMP:20260424T031328
CREATED:20201029T193830Z
LAST-MODIFIED:20201102T141617Z
UID:15521-1604134800-1604145600@www.maxetlisa.com
SUMMARY:AQU'ART : 7/12 ans
DESCRIPTION:Garder son âme d’enfant et contempler le grand bleu : waouh \nQui n’a pas rêvé de voir Skipper le Dauphin ou de deviner les espèces sous marines aquatiques ?\nA viser Culturelle\, Pédagogique et Artistique DTY ARTS à voulu imager un évènement dédié aux enfants mêlant les 3 thématiques :\n* Capturer les images de la Faune et la Flore marine avec un Photographe professionnel #CHRISTAN BORDEY.\n* Réaliser un Atelier Pictural avec un intervenant du centre.\n* Découvrir et visiter la diversité des fonds marins & des espèces aquatique.\n* Déguster un goûter délicieux.\nCette manifestation s’adresse aux enfants âgés de 7 ans à 12 ans exclusivement.\nSe munir d’un appareil photo ou d’un polaroid pour la capture des clichés.\nLe tarif est de 25 euros par enfant (tout inclus).\nIl y a des accompagnants prévus pour encadrer les enfants.\nLe port du masque est recommandé.\nLe nombre de place est limité.\nPensez à nous contacter pour réserver au numéro : 0690.44.43.41 ou dtyarts@gmail.com.
URL:https://www.maxetlisa.com/evenement/aquart-7-12-ans/
CATEGORIES:Aquarium,Art,Enfant,Événements ponctuels
ATTACH;FMTTYPE=image/jpeg:https://www.maxetlisa.com/wp-content/uploads/2020/10/Aquart.jpg
END:VEVENT
BEGIN:VEVENT
DTSTART;TZID=America/Guadeloupe:20201031T090000
DTEND;TZID=America/Guadeloupe:20201031T120000
DTSTAMP:20260424T031328
CREATED:20201029T194653Z
LAST-MODIFIED:20201029T194653Z
UID:15525-1604134800-1604145600@www.maxetlisa.com
SUMMARY:Lanmou Timoun 9 - Rando enfant
DESCRIPTION:Une Rando découverte Accessible aux enfants à partir de 3 mois accompagnés d’un parent.\nNous instaurons cette rando « Lanmou Timoun » Le dernier Samedi de chaque mois à partir d’octobre 2020.\nLe Rythme sera lent et adapté au public présent\nVous pouvez venir aussi en initiation ou pour simplement prendre un bain de nature.\nEnfants de 3mois à 3ans doivent être en dispositif adapté sur un parent.\nLes enfants peuvent marcher librement à partir de 3 ans.\nParticipation : Gratuit pour les adhérents et enfants de 3mois à 3 ans\n3 euros pour les enfants et les parents Invités à partir de 4 ans.\nNous allons en Basse-Terre sur le Canal Pelletier.\nPensez à des vêtements lycra pour les enfants nous prendrons un bain.\nChaussures confortables et adaptés\nDes gants si possible\nPrévoir un vêtement de bain\, serviette\nUn sac à dos avec de l’eau 0\,5 à 1litre et des fruits naturels ou secs.\n(Biscuits\, soda\, et autres boissons sucrés sont interdit\, SVP jouez le jeu)\n\nChaque enfant de 0 à 4 doivent être accompagné d’un parent obligatoirement.\nUne petite trousse de secours est recommandée.\nPensez aux vêtements de rechange dans la voiture mais aussi à mis parcours pour les plus frileux.\nEnfants volontaires SVP.\nRDV 09h00 Air de Pique-nique de Beausoleil : infos Whatsapp 0690417097
URL:https://www.maxetlisa.com/evenement/lanmou-timoun-9-rando-enfant/
LOCATION:Saint Claude
CATEGORIES:Enfant,Événements ponctuels,Randonnée
ATTACH;FMTTYPE=image/jpeg:https://www.maxetlisa.com/wp-content/uploads/2020/10/Lanmou-Timoun.jpg
END:VEVENT
BEGIN:VEVENT
DTSTART;TZID=America/Guadeloupe:20201031T100000
DTEND;TZID=America/Guadeloupe:20201231T120000
DTSTAMP:20260424T031328
CREATED:20200903T113641Z
LAST-MODIFIED:20210104T195116Z
UID:13757-1604138400-1609416000@www.maxetlisa.com
SUMMARY:Le samedi : L'atelier de poterie vous attend tous les samedis
DESCRIPTION:Nouvel arrivage d’emporte-pièces à l’atelier! \nOn va s’éclater! Plus que quelques places à prendre pour ce thème de vacances.\nNe traînez pas à vous inscrire les retardataires…\nÀ mercredi! \nNaïma Gatibelza céramiste\n0690 91 59 58\n.
URL:https://www.maxetlisa.com/evenement/latelier-de-poterie-vous-attend-tous-les-samedis/
LOCATION:Abymes\, en face du lycée Baimbridge.\, Abymes\, 97139
CATEGORIES:Ado,Art,Ateliers,Enfant,Événements ponctuels,Famille,Mercredi et samedi,Poterie
ATTACH;FMTTYPE=image/jpeg:https://www.maxetlisa.com/wp-content/uploads/2020/09/Gwadloup-Céramik-1.jpg
END:VEVENT
END:VCALENDAR