BEGIN:VCALENDAR
VERSION:2.0
PRODID:-//Max et Lisa - ECPv6.15.11//NONSGML v1.0//EN
CALSCALE:GREGORIAN
METHOD:PUBLISH
X-WR-CALNAME:Max et Lisa
X-ORIGINAL-URL:https://www.maxetlisa.com
X-WR-CALDESC:Évènements pour Max et Lisa
REFRESH-INTERVAL;VALUE=DURATION:PT1H
X-Robots-Tag:noindex
X-PUBLISHED-TTL:PT1H
BEGIN:VTIMEZONE
TZID:America/Guadeloupe
BEGIN:STANDARD
TZOFFSETFROM:-0400
TZOFFSETTO:-0400
TZNAME:AST
DTSTART:20190101T000000
END:STANDARD
END:VTIMEZONE
BEGIN:VEVENT
DTSTART;TZID=America/Guadeloupe:20200905T090000
DTEND;TZID=America/Guadeloupe:20210626T120000
DTSTAMP:20260424T020956
CREATED:20200903T232348Z
LAST-MODIFIED:20210226T102755Z
UID:13788-1599296400-1624708800@www.maxetlisa.com
SUMMARY:EVEIL MUSICAL - chaque samedi matin
DESCRIPTION:Musique\, instruments…. un voayage musical avec le cours de Stéphane Nabajoth au sein de l’association Langaj Savann \n9h -10h :ENFANTS DE MOINS DE 3 ANS  9 à 10h) \n10h-11h : ENFANTS DE 3/5 ans \n11h-12h : ENFANTS DE plu de 5 ans \nINFOLINE : 0690 33 85 51 \n  \n12€ l’heure
URL:https://www.maxetlisa.com/evenement/eveil-musical-le-samedi-matin/
LOCATION:Abymes
CATEGORIES:Ce week-end,Enfant,Événements ponctuels,Mercredi et samedi,Musique
ATTACH;FMTTYPE=image/jpeg:https://www.maxetlisa.com/wp-content/uploads/2020/09/EVEIL-MUSICAL.jpg
END:VEVENT
BEGIN:VEVENT
DTSTART;TZID=America/Guadeloupe:20200909T080000
DTEND;TZID=America/Guadeloupe:20210630T170000
DTSTAMP:20260424T020956
CREATED:20200909T160032Z
LAST-MODIFIED:20200910T203355Z
UID:13899-1599638400-1625072400@www.maxetlisa.com
SUMMARY:LA RENTRÉE DES ACTIVITÉS DE RAVINE CHAUDE
DESCRIPTION:L’Espace Thermo-Ludique Ravine Chaude a le plaisir de vous informer de la\nreprise des activités aquatiques d’apprentissage et de remise en forme.\nNous proposons\, les activités suivantes :\n– Natation enfant de 6 à 11 ans – Mercredi – 120€ le trimestre\n– Natation ado de 12 à 20 ans\n– Natation adulte\n– Aquagym (Aquaform\, Aquatonic et Aquasenior)\n– Jardin aquatique pour les enfants de 4 à 5 ans -Mercredi – 15h- 15h45 – 150€ trimestre\n– AquaBébé pour les enfants de 6 mois à 3 ans – Samedi -9h – 150€ trimestre\n– La natation maternité (préparation à la naissance)\n– La relaxation aquatique\nPour rappel\, les bassins restent accessibles pour la baignade simple du mardi au dimanche de 9h à 12h et de 13h à 19h avec obligation de réserver au préalable afin de garantir les meilleures conditions d’accueil et le respect des mesures sanitaires.\nRenseignements\, réservation et inscription à l’Espace Thermo Ludique de Ravine Chaude et au 0590 57 16 70.
URL:https://www.maxetlisa.com/evenement/la-rentree-des-activites-de-ravine-chaude/
LOCATION:Lamentin\, Ravine Chaude\, Lamentin
CATEGORIES:Ado,Bébé,Enfant,Événements ponctuels,Natation
ATTACH;FMTTYPE=image/jpeg:https://www.maxetlisa.com/wp-content/uploads/2020/09/Ravine-Chaude-1.jpg
END:VEVENT
BEGIN:VEVENT
DTSTART;TZID=America/Guadeloupe:20201022T080000
DTEND;TZID=America/Guadeloupe:20201101T170000
DTSTAMP:20260424T020956
CREATED:20201022T140011Z
LAST-MODIFIED:20201023T064744Z
UID:15244-1603353600-1604250000@www.maxetlisa.com
SUMMARY:Concours de dessins - 6/16 ans "Les zones humides ultramarines"
DESCRIPTION:Calend’Art 2021\nAppel à contribution Grand concours de dessins\n(écoles\, associations\, familles)\nPour la 4ème année consécutive\, le Pôle-relais zones humides tropicales lance pour 2021 une nouvelle édition de son « Calend’art ».\nCe grand concours dessin sur le thème des zones humides\, invite tous les enfants du primaire et du secondaire (6-16 ans) des territoires de l’Outre-mer français (Guadeloupe\, Martinique\, Saint-Martin\, Saint-Barthélémy\, Guyane\, Mayotte\, Réunion\, Polynésie française\, Wallis et Futuna\, Nouvelle Calédonie) à participer à celui-ci en envoyant par courrier postal ou par mail leur(s) plus beau(x) dessin(s). \nUn seul objectif : soyez créatif ! Parlez-nous des mares\, des étangs\, des lacs\, des mangroves\, des tourbières… Les zones humides sont des écosystèmes riches et diversifiés. Mettez cette diversité à l’honneur ! \nCe calendrier servira à sensibiliser le grand public\, jeune et moins jeune\, à la conservation et protection des zones humides de l’Outre-mer français. Outre les dessins des grands gagnants\, il contiendra de nombreuses informations et anecdotes sur les zones humides. \nCe concours représente par ailleurs une formidable opportunité pour ces jeunes générations de s’intéresser et de découvrir le rôle vital que jouent les zones humides dans leur quotidien et de s’impliquer dans une action de sensibilisation à grande échelle tout en leur permettant d’explorer leur imagination. Les gagnants sélectionnés seront publiés dans le calendrier 2021 qui sera distribué (par voie virtuelle et papier) à l’échelle internationale. \nEn aucun cas\, ce calendrier ne sera édité à des fins commerciales. \n  \nCONSIGNES A RESPECTER POUR PARTICIPER AU CONCOURS\nType de dessin\nNous aimerions un travail coloré\, pas de noir et blanc! La peinture\, les crayons de couleur\, l’encre\, le collage\, le pastel…etc. sont tous acceptés. \nDimensions\nPapier A4 (21 x 29\,7cm) en format paysage afin de correspondre à la page d’un calendrier (tous les dessins en format portrait seront malheureusement jugés hors concours). \nIdentification de l’artiste\nIMPORTANT : À l’arrière de chaque œuvre\, veuillez inscrire : le nom complet et l’âge de l’artiste\, le nom de l’école dans laquelle il est scolarisé ou de l’association qu’il souhaite représenter (sauf s’il participe en son nom uniquement)\, son adresse postale et le titre de l’œuvre\, ainsi qu’une adresse mail à laquelle envoyer les résultats.\nLes participants accepteront que toutes les créations qui ressortiront de ce concours\, soient ré-utilisées par le Pôle-Relais dans le cadre de ses missions.\nRemarque : il n’y a pas de nombre limite de dessin par enfant. \nÂge\nLe concours est ouvert aux enfants et adolescents de 6 à 16 ans. \nSujet\nLes zones humides ultramarines (lagon\, saline\, mangrove\, mare\, rivière\, étang\, lac\, marécage\, marais\, forêt marécageuse…). S’il le souhaite\, l’artiste peut ajouter une légende à l’arrière de son dessin (ou en annexe) afin d’expliquer plus clairement la signification de celui-ci. Les plus beaux messages seront inclus dans le calendrier avec le nom de l’auteur. \nPrix\n14 gagnants seront sélectionnés afin de représenter les 12 mois de l’année + le dessin de couverture + dessin de dos. Chaque gagnant aura l’honneur de voir son dessin et son nom figurer dans un calendrier qui sera distribué à l’échelle des Outre-mers français (dans les 3 bassins : Atlantique\, Pacifique\, Indien) et recevra une version papier de celui-ci. \nCoordonnées\nLe contact et l’adresse postale auxquels envoyer les dessins sont les suivants : \nGaëlle Vandersarren\nPôle-Relais Zones humides tropicales\nCité administrative de Circonvallation\nRue Alexandre Buffon\n97100 Basse-Terre\, Guadeloupe \nVous pouvez aussi envoyer vos dessins en haute définition par mail à gaelle.vandersarren@uicn.fr  \nAttention\, la date limite de réception des dessins (par mail ou voie postale) est fixée au 1er novembre 2020.\nPour tout renseignement\, veuillez contacter la coordinatrice du pôle par mail (gaelle.vandersarren@uicn.fr) ou par téléphone (0590) 590 81 81 29. \n 
URL:https://www.maxetlisa.com/evenement/concours-de-dessins-6-16-ans-les-zones-humides-ultramarines/
LOCATION:Guadeloupe\, Guadeloupe
CATEGORIES:Environnement,Événements ponctuels
ATTACH;FMTTYPE=image/jpeg:https://www.maxetlisa.com/wp-content/uploads/2020/10/Concours-Calendart.jpg
END:VEVENT
BEGIN:VEVENT
DTSTART;TZID=America/Guadeloupe:20201022T080000
DTEND;TZID=America/Guadeloupe:20201231T170000
DTSTAMP:20260424T020956
CREATED:20201022T132208Z
LAST-MODIFIED:20201023T064951Z
UID:15235-1603353600-1609434000@www.maxetlisa.com
SUMMARY:Embarquez à bord du nouveau train de Beauport
DESCRIPTION:Du mardi au dimanche \nRéservation fortement conseillée \n3 départs par jours 10h 11h 15h \nVisite + Balade en train  2h \nACTIVITES enfant \nAccrobranche (de 3 à 6 ans) \nAire de jeux (3 à 12 ans) \n  \n 
URL:https://www.maxetlisa.com/evenement/embarquez-a-bord-du-nouveau-train-de-beauport/
LOCATION:Port -Louis\, Beauport\, Port-Louis\, 97117
CATEGORIES:Événements ponctuels,Site de Loisirs
ATTACH;FMTTYPE=image/jpeg:https://www.maxetlisa.com/wp-content/uploads/2020/10/Beauport.jpg
END:VEVENT
BEGIN:VEVENT
DTSTART;TZID=America/Guadeloupe:20201031T100000
DTEND;TZID=America/Guadeloupe:20201231T120000
DTSTAMP:20260424T020956
CREATED:20200903T113641Z
LAST-MODIFIED:20210104T195116Z
UID:13757-1604138400-1609416000@www.maxetlisa.com
SUMMARY:Le samedi : L'atelier de poterie vous attend tous les samedis
DESCRIPTION:Nouvel arrivage d’emporte-pièces à l’atelier! \nOn va s’éclater! Plus que quelques places à prendre pour ce thème de vacances.\nNe traînez pas à vous inscrire les retardataires…\nÀ mercredi! \nNaïma Gatibelza céramiste\n0690 91 59 58\n.
URL:https://www.maxetlisa.com/evenement/latelier-de-poterie-vous-attend-tous-les-samedis/
LOCATION:Abymes\, en face du lycée Baimbridge.\, Abymes\, 97139
CATEGORIES:Ado,Art,Ateliers,Enfant,Événements ponctuels,Famille,Mercredi et samedi,Poterie
ATTACH;FMTTYPE=image/jpeg:https://www.maxetlisa.com/wp-content/uploads/2020/09/Gwadloup-Céramik-1.jpg
END:VEVENT
BEGIN:VEVENT
DTSTART;TZID=America/Guadeloupe:20201107T140000
DTEND;TZID=America/Guadeloupe:20210131T170000
DTSTAMP:20260424T020956
CREATED:20201105T141729Z
LAST-MODIFIED:20201105T141729Z
UID:15702-1604757600-1612112400@www.maxetlisa.com
SUMMARY:Centre Aéré BABY VELO BMX Guadeloupe
DESCRIPTION:De 2 à 8 ans les enfants sont des « machines à apprendre ».\nTrès curieux et toujours actif.\nLes connexions s’établissent dans le cerveau et le corps grandit rapidement.\n• Les enfants ont une très faible capacité d’attention et il leur faut des activités très variées\, entrecoupées de pauses fréquentes.\n• L’interaction sociale ludique avec les autres enfants se développe progressivement. Les enfants aiment beaucoup imiter les autres et jouer avec leurs parents. • Les enfants ont une capacité à imiter\, à mémoriser des notions\, comme les règles la culture des activités du sport vélo adapté. Il faut les laisser inventer leurs propres jeux. nos association clubs partenaire BMX Guadeloupe vous proposes les licences 8ans et moins à la piste BMX Guadeloupe.
URL:https://www.maxetlisa.com/evenement/centre-aere-baby-velo-bmx-guadeloupe/
LOCATION:Baie Mahault\, Velodrome\, Baie-Mahault\, 97122
CATEGORIES:Événements ponctuels,Mercredi et samedi,Sport
ATTACH;FMTTYPE=image/jpeg:https://www.maxetlisa.com/wp-content/uploads/2020/11/Velo-BMX.jpg
END:VEVENT
BEGIN:VEVENT
DTSTART;TZID=America/Guadeloupe:20201107T143000
DTEND;TZID=America/Guadeloupe:20201107T170000
DTSTAMP:20260424T020956
CREATED:20201105T142725Z
LAST-MODIFIED:20201105T142725Z
UID:15706-1604759400-1604768400@www.maxetlisa.com
SUMMARY:Le Street Art\, ou Art Urbain\,
DESCRIPTION:La visite s’annonce au top avec B-BIRD!\n\n\nLe Street Art\, ou Art Urbain\, est un mouvement artistique né dans les années 60. Il regroupe toutes les formes d’art réalisées dans des endroits publics. Art éphémère\, parfois engagé\, les artistes urbains utilisent diverses techniques telles que le pochoir\, le graffiti ou encore l’affichage. Très présent dans les plus grandes villes du monde tel que New York\, Berlin\, Tokyo\, il se développe progressivement au fil des années sur notre île.\n\n\nDécouvrez ou redécouvrez le quartier de Carénage\, quartier emblématique du Street Art avec ses Kaz Kréyol recouvertes de graffitis. Traversez entre autres la rue Gilbert de Chambertand\, et ses nombreuses oeuvres et tentez au fil de la visite de reconnaître les artistes de Street Art qui en sont à l’origine. La signature de chaque artiste étant bien spécifique\, amusez-vous à les identifier dans les différents endroits que vous traverserez.\nGrâce à B-BIRD\, laissez-vous surprendre par certaines oeuvres de Street Art\, auxquelles vous n’aviez ou n’auriez pas forcément prêté attention…\n\n\nLe rendez-vous est lancé !
URL:https://www.maxetlisa.com/evenement/le-street-art-ou-art-urbain/
LOCATION:Pointe à Pitre\, 6 Quai Foulon\, Pointe à Pitre\, 97110
CATEGORIES:Art,Événements ponctuels
ATTACH;FMTTYPE=image/jpeg:https://www.maxetlisa.com/wp-content/uploads/2020/11/Street-Tour.jpg
END:VEVENT
BEGIN:VEVENT
DTSTART;TZID=America/Guadeloupe:20201114T163000
DTEND;TZID=America/Guadeloupe:20201114T170000
DTSTAMP:20260424T020956
CREATED:20201109T094235Z
LAST-MODIFIED:20201117T131449Z
UID:15822-1605371400-1605373200@www.maxetlisa.com
SUMMARY:Journée mondiale du diabète
DESCRIPTION:Pour la journée mondiale du diabète venez nombreux à la projection du film Pour Quelques Barres de Chocolat\, suivi d’un débat sur le diabète des enfants (DT1).\nCette projection est organisée au Cinestar (CXC1) avec l’association \nTi Suk 971\, le Rotary Club de PAP Doyen\, DASTRI\nVenez nombreux découvrir cette maladie chronique et soutenir nos enfants
URL:https://www.maxetlisa.com/evenement/journee-mondiale-du-diabete/
LOCATION:Abymes\, Cinestar -Dothémare\, Abymes\, 97139
CATEGORIES:Débat,Événements ponctuels
ATTACH;FMTTYPE=image/jpeg:https://www.maxetlisa.com/wp-content/uploads/2020/11/DIABete.jpg
END:VEVENT
BEGIN:VEVENT
DTSTART;TZID=America/Guadeloupe:20201121T083000
DTEND;TZID=America/Guadeloupe:20201121T170000
DTSTAMP:20260424T020956
CREATED:20201119T232340Z
LAST-MODIFIED:20201120T100430Z
UID:16154-1605947400-1605978000@www.maxetlisa.com
SUMMARY:LES ATELIERS LEARN & COOK
DESCRIPTION:Des ateliers de cuisines réservés spécialement pour les petits\, où\, grâce à mes expériences\, mon passé et mon vécu je leur apporter mon savoir.\n\n\nNous savons comment la cuisine prend une grande place dans nos vies\, surtout aux Antilles et quels sont les dégâts qu’il peut nous réserver quand on s’y prend mal. L’objectif des ATELIERS LEARN & COOK s’inscrit dans une démarche de relais d’information\, d’assistance et d’apprentissage de choix alimentaires avec un retour des choses fait main.\n\n\nAPPRENDRE & CUISINER (Learn & Cook) se veut être la combinaison sine qua non pour les enfants\, mais également pour les parents.\n\n\nApprendre à faire soi-même\, comprendre les mélanges\, associer les fruits les légumes\, s’épanouir\, goûter\, tester\, toucher\, réveiller les différents sens qui sommeillent en eux et pourquoi pas le chef qui s’y cache ! \n\n\nLe 1er atelier aura lieu le samedi 21 novembre\, chers parents vous pouvez d’ors et déjà offrir cette expérience à vos enfants. Ils vous diront merci. (Lien d’inscription dans la bio)\n\n\n#ateliers #ateliercuisineenfant #guadeloupe #cusine #coursdecuisine #enfants #salé #sucré #sucrésalé #recette #recettesimple #recettesaine #passion #cuisinemaison #atelierguadeloupe
URL:https://www.maxetlisa.com/evenement/les-ateliers-learn-cook/
LOCATION:Sainte Anne\, Maudette\, Sainte Anne\, 97180
CATEGORIES:Ateliers,Cuisine,Événements ponctuels
ATTACH;FMTTYPE=image/jpeg:https://www.maxetlisa.com/wp-content/uploads/2020/11/Learn-et-cook.jpg
END:VEVENT
BEGIN:VEVENT
DTSTART;TZID=America/Guadeloupe:20201121T083000
DTEND;TZID=America/Guadeloupe:20210131T100000
DTSTAMP:20260424T020956
CREATED:20201119T231352Z
LAST-MODIFIED:20201120T100137Z
UID:16149-1605947400-1612087200@www.maxetlisa.com
SUMMARY:Cours de Baby gym à partir de 15 mois
DESCRIPTION:La baby gym une activité idéale et unique à partir de 15 mois à 2 ans.\nLe Gymnasticlub est une structure aménagée qui peut devenir un magnifique terrain de jeu sécurisé. Un lieu parfaitement adapté au développement psychomoteur de l’enfant !\nMarcher\, sauter\, rouler\, se balancer\, jouer\, imiter\, imaginer\, explorer …\nLes parents\, les grands parents ou les nounous sont accueillis à bras ouverts pour participer à la séance de Baby Gym.\nLe paiement est à effectuer le matin du cours en chèque ou espèces.\nN’hésitez pas venez participer !
URL:https://www.maxetlisa.com/evenement/cours-de-baby-gym/
CATEGORIES:Baby sport,Événements ponctuels,Mercredi et samedi
ATTACH;FMTTYPE=image/jpeg:https://www.maxetlisa.com/wp-content/uploads/2020/11/Baby-Gym.jpg
END:VEVENT
BEGIN:VEVENT
DTSTART;TZID=America/Guadeloupe:20201121T090000
DTEND;TZID=America/Guadeloupe:20201121T110000
DTSTAMP:20260424T020956
CREATED:20201119T233451Z
LAST-MODIFIED:20201120T100717Z
UID:16161-1605949200-1605956400@www.maxetlisa.com
SUMMARY:KIDS & LAB’ – Stimule ton imaginaire
DESCRIPTION:Et si on réveillait l’écrivain qui sommeille en chaque enfant? \nAu programme de cet atelier : Avec des jeux simples et amusants\, vos Kids pourront s’amuser à jouer avec les mots\, créer des histoires courtes et faire évoluer leur héros. \nUn atelier pour stimuler leur imaginaire animé par l’écrivaine et enseignante Coco Mondésir. \nDÉROULÉ DE L’ATELIER :\nUne consigne\, une durée\, créer !\nVos kids sont aidés dans la création d’histoires qui leur ressemblent à travers divers jeux d’écriture individuels et collectifs entrecoupés de lecture-partage des textes des participants. \n 
URL:https://www.maxetlisa.com/evenement/kids-lab-stimule-ton-imaginaire/
LOCATION:Baie-Mahault\, Le spot Coworking 833 Rue Ferdinand Forest\, Baie-Mahault\, 97122
CATEGORIES:Ecriture,Événements ponctuels
ATTACH;FMTTYPE=image/png:https://www.maxetlisa.com/wp-content/uploads/2020/11/KIDS-LAB-Flyer-Atelier-Ecriture.png
END:VEVENT
BEGIN:VEVENT
DTSTART;TZID=America/Guadeloupe:20201128T080000
DTEND;TZID=America/Guadeloupe:20201128T110000
DTSTAMP:20260424T020956
CREATED:20201124T133613Z
LAST-MODIFIED:20201204T092421Z
UID:16216-1606550400-1606561200@www.maxetlisa.com
SUMMARY:Lanmou Timoun 10 - Rando enfants
DESCRIPTION:Une Rando découverte Accessible aux enfants à partir de 3 mois accompagnés d’un parent.\nNous instaurons cette rando « Lanmou Timoun » Le dernier Samedi de chaque mois à partir d’octobre 2020.\nLe Rythme sera lent et adapté au public présent\nVous pouvez venir aussi en initiation ou pour simplement prendre un bain de nature.\nEnfants de 3mois à 3ans doivent être en dispositif adapté sur un parent.\nLes enfants peuvent marcher librement à partir de 3 ans.\nParticipation : Gratuit pour les adhérents et enfants de 3mois à 3 ans\n5 euros pour les enfants et les parents Invités à partir de 4 ans.\nNous allons en Grande-Terre sur un bout de littoral de Ste-Anne.\nPensez à des vêtements lycra pour les enfants nous prendrons un bain et jouerons à un jeu de développement personnel à mis parcours.\nChaussures confortables et adaptés\nDes gants si possible\nPrévoir un vêtement de bain\, serviette\nUn sac à dos avec de l’eau 0\,5 à 1litre et des fruits naturels ou secs.\n(Biscuits\, soda\, et autres boissons sucrés sont interdit\, SVP jouez le jeu)\n\nChaque enfant de 0 à 4 doivent être accompagné d’un parent obligatoirement.\nUne petite trousse de secours est recommandée.\nPensez aux vêtements de rechange dans la voiture mais aussi à mis parcours pour les plus frileux.\nEnfants volontaires SVP.\nRDV 08h00 : ( lieu à Venir) infos Whatsapp 0690417097
URL:https://www.maxetlisa.com/evenement/lanmou-timoun-10-rando-enfants/
LOCATION:Sainte Anne\, Sainte Anne\, 97180
CATEGORIES:Événements ponctuels,Randonnée,Sport
ATTACH;FMTTYPE=image/jpeg:https://www.maxetlisa.com/wp-content/uploads/2020/11/Lanmou-timoun.jpg
END:VEVENT
BEGIN:VEVENT
DTSTART;TZID=America/Guadeloupe:20201129T080000
DTEND;TZID=America/Guadeloupe:20201129T120000
DTSTAMP:20260424T020956
CREATED:20201124T143302Z
LAST-MODIFIED:20201204T092514Z
UID:16222-1606636800-1606651200@www.maxetlisa.com
SUMMARY:Bain de forêt relaxant et Land'art - Matouba
DESCRIPTION:Profitons d’un bon bain de forêt sous les arbres du sentier du Matouba pour retrouver sa sérénité\, puis favorisons notre créativité en nous amusant à réaliser une oeuvre qui surprendra les promeneurs… \n  \nEn partenariat avec l’Office de Valorisation et d’Animation du Patrimoine de St-Claude dans le cadre de sa programmation annuelle. \n  \nInitiation au Bain de forêt (Shinrin Yoku)\, puis initiation au Land-art pour tous : les oeuvres réalisées sur-place pourront être photographiées + mises en ligne avec vote des 3 préférées du public\, uniquement pour ceux qui le souhaitent (l’OVAP les diffusera aussi au sein du Pavillon de la Montagne).\nL’objectif est de décompresser et de se faire plaisir\, c’est ça qui est beau !\n\n\nRéservations et paiements balade+atelier (9 pers.maxi) :\n– de préférence auprès du Pavillon de la Montagne au 0590609023 (téléphoner et se rendre sur-place à St-Claude).\n\n– possible aussi par internet en cliquant sur « réserver » ci-dessous. \nDans tous les cas la réservation implique le paiement du billet.\nPlus d’infos : affiche ci-jointe.\nCette sortie est un « mix » entre « la balade initiation au Land’art » et « la balade initiation au Bain de forêt ». Retrouvez les détails de ces activités sur la page web écotourisme de AN BA LOUP-LA.
URL:https://www.maxetlisa.com/evenement/bain-de-foret-relaxant-et-landart-matouba/
LOCATION:Saint Claude\, Pavillon de la Montagne Matouba\, Saint Claude\, 97120
CATEGORIES:Environnement,Événements ponctuels,Randonnée
ATTACH;FMTTYPE=image/jpeg:https://www.maxetlisa.com/wp-content/uploads/2020/11/An-ba-loup-la-1.jpg
END:VEVENT
END:VCALENDAR