BEGIN:VCALENDAR
VERSION:2.0
PRODID:-//Max et Lisa - ECPv6.15.11//NONSGML v1.0//EN
CALSCALE:GREGORIAN
METHOD:PUBLISH
X-WR-CALNAME:Max et Lisa
X-ORIGINAL-URL:https://www.maxetlisa.com
X-WR-CALDESC:Évènements pour Max et Lisa
REFRESH-INTERVAL;VALUE=DURATION:PT1H
X-Robots-Tag:noindex
X-PUBLISHED-TTL:PT1H
BEGIN:VTIMEZONE
TZID:America/Guadeloupe
BEGIN:STANDARD
TZOFFSETFROM:-0400
TZOFFSETTO:-0400
TZNAME:AST
DTSTART:20190101T000000
END:STANDARD
END:VTIMEZONE
BEGIN:VEVENT
DTSTART;TZID=America/Guadeloupe:20200905T090000
DTEND;TZID=America/Guadeloupe:20210626T120000
DTSTAMP:20260423T230502
CREATED:20200903T232348Z
LAST-MODIFIED:20210226T102755Z
UID:13788-1599296400-1624708800@www.maxetlisa.com
SUMMARY:EVEIL MUSICAL - chaque samedi matin
DESCRIPTION:Musique\, instruments…. un voayage musical avec le cours de Stéphane Nabajoth au sein de l’association Langaj Savann \n9h -10h :ENFANTS DE MOINS DE 3 ANS  9 à 10h) \n10h-11h : ENFANTS DE 3/5 ans \n11h-12h : ENFANTS DE plu de 5 ans \nINFOLINE : 0690 33 85 51 \n  \n12€ l’heure
URL:https://www.maxetlisa.com/evenement/eveil-musical-le-samedi-matin/
LOCATION:Abymes
CATEGORIES:Ce week-end,Enfant,Événements ponctuels,Mercredi et samedi,Musique
ATTACH;FMTTYPE=image/jpeg:https://www.maxetlisa.com/wp-content/uploads/2020/09/EVEIL-MUSICAL.jpg
END:VEVENT
BEGIN:VEVENT
DTSTART;TZID=America/Guadeloupe:20200909T080000
DTEND;TZID=America/Guadeloupe:20210630T170000
DTSTAMP:20260423T230502
CREATED:20200909T160032Z
LAST-MODIFIED:20200910T203355Z
UID:13899-1599638400-1625072400@www.maxetlisa.com
SUMMARY:LA RENTRÉE DES ACTIVITÉS DE RAVINE CHAUDE
DESCRIPTION:L’Espace Thermo-Ludique Ravine Chaude a le plaisir de vous informer de la\nreprise des activités aquatiques d’apprentissage et de remise en forme.\nNous proposons\, les activités suivantes :\n– Natation enfant de 6 à 11 ans – Mercredi – 120€ le trimestre\n– Natation ado de 12 à 20 ans\n– Natation adulte\n– Aquagym (Aquaform\, Aquatonic et Aquasenior)\n– Jardin aquatique pour les enfants de 4 à 5 ans -Mercredi – 15h- 15h45 – 150€ trimestre\n– AquaBébé pour les enfants de 6 mois à 3 ans – Samedi -9h – 150€ trimestre\n– La natation maternité (préparation à la naissance)\n– La relaxation aquatique\nPour rappel\, les bassins restent accessibles pour la baignade simple du mardi au dimanche de 9h à 12h et de 13h à 19h avec obligation de réserver au préalable afin de garantir les meilleures conditions d’accueil et le respect des mesures sanitaires.\nRenseignements\, réservation et inscription à l’Espace Thermo Ludique de Ravine Chaude et au 0590 57 16 70.
URL:https://www.maxetlisa.com/evenement/la-rentree-des-activites-de-ravine-chaude/
LOCATION:Lamentin\, Ravine Chaude\, Lamentin
CATEGORIES:Ado,Bébé,Enfant,Événements ponctuels,Natation
ATTACH;FMTTYPE=image/jpeg:https://www.maxetlisa.com/wp-content/uploads/2020/09/Ravine-Chaude-1.jpg
END:VEVENT
BEGIN:VEVENT
DTSTART;TZID=America/Guadeloupe:20210109T100000
DTEND;TZID=America/Guadeloupe:20211229T120000
DTSTAMP:20260423T230502
CREATED:20201211T093434Z
LAST-MODIFIED:20210414T094920Z
UID:16754-1610186400-1640779200@www.maxetlisa.com
SUMMARY:POTERIE : Mercredi et samedi - 10/12H - Abymes
DESCRIPTION:L’atelier de poterie vous souhaite une année de bonheur créatif! \n\n\nPour ce faire\, vous pourrez désormais participer aux cours le samedi mais aussi le mercredi de 10h à 12h.\n\n\n20€/2h d’atelier et cuisson des productions.\n\n\nVoilà donc le premier thème de l’année\, réservé aux adultes (qui n’ont pas pu participer aux activités des vacances\, proposées aux enfants).\nAu programme toujours :\n– le thème de modelage\,\n– du modelage libre\,\n– une initiation au tournage.\n\n\nPour participer le mercredi 6 ou le samedi 9 janvier\, inscrivez-vous rapidement…\nNaïma Gatibelza céramiste\n0690 91 59 58\n\n\n\n\n\n\n\nL’atelier se situe aux Abymes en face du lycée Baimbridge.
URL:https://www.maxetlisa.com/evenement/vacances-de-noel-activite-poterie-abymes/
LOCATION:Abymes\, Baimbridge\, 97139
CATEGORIES:Ce week-end,Événements ponctuels,Mercredi et samedi,Poterie
ATTACH;FMTTYPE=image/jpeg:https://www.maxetlisa.com/wp-content/uploads/2020/12/Gwadloup-Céramik.jpg
END:VEVENT
BEGIN:VEVENT
DTSTART;TZID=America/Guadeloupe:20210115T083000
DTEND;TZID=America/Guadeloupe:20211231T173000
DTSTAMP:20260423T230502
CREATED:20210115T102147Z
LAST-MODIFIED:20210115T102147Z
UID:17455-1610699400-1640971800@www.maxetlisa.com
SUMMARY:BABY GYM - VENDREDI et SAMEDI
DESCRIPTION:Nouveau créneau ! Vendredi de 16h30 à 17h30 ! Enfants nés de 2015 à 2019 ! \nSamedi : 8h45 – 9h45 \nLa baby gym une activité idéale et unique à partir de 15 mois à 2 ans.\nLe Gymnasticlub est une structure aménagée qui peut devenir un magnifique terrain de jeu sécurisé. Un lieu parfaitement adapté au développement psychomoteur de l’enfant !\nMarcher\, sauter\, rouler\, se balancer\, jouer\, imiter\, imaginer\, explorer …\nLes parents\, les grands parents ou les nounous sont accueillis à bras ouverts pour participer à la séance de Baby Gym.\nLe paiement est à effectuer le matin du cours en chèque ou espèces.\nN’hésitez pas venez participer !\nPROTOCOLE COVID\nVenir avec une serviette pour rincer les mains\, port du masque obligatoire(parent)\, respect des gestes barrières.
URL:https://www.maxetlisa.com/evenement/baby-gym-vendredi-et-samedi/
LOCATION:Petit-Bourg
CATEGORIES:Baby sport,Événements ponctuels,Mercredi et samedi
ATTACH;FMTTYPE=image/jpeg:https://www.maxetlisa.com/wp-content/uploads/2021/01/Gymnastic-club.jpg
END:VEVENT
BEGIN:VEVENT
DTSTART;TZID=America/Guadeloupe:20210118T140000
DTEND;TZID=America/Guadeloupe:20210228T170000
DTSTAMP:20260423T230502
CREATED:20210104T200323Z
LAST-MODIFIED:20210128T131344Z
UID:17226-1610978400-1614531600@www.maxetlisa.com
SUMMARY:Nouveauté 2021 ! Ateliers KIDIPOZ 2/8 ans Jarry
DESCRIPTION:Nos ateliers débuteront la semaine du 18 Janvier prochain pour un apprentissage ludique\, actif et productif en toute bienveillance pour les enfants entre 2 et 8 ans!\nLes inscriptions sont lancées \n5 thèmes au choix:\n– Du jardin d’éveil\,\n– J’apprends seul et par le jeu\,\n– Relaxation bien être\,\n– kimoshis\,\n– Philosophiques Sev\n\n\n\nPour plus de renseignements \,contactez nous par mail: contact@kidipozguadeloupe.com\n\n\n#atelierenfants #ludopedagogie #montessori #pedagogiealternative #kimochis #monmomentmagique #kidipozguadeloupe
URL:https://www.maxetlisa.com/evenement/nouveaute-2021-ateliers-kidipoz-2-8-ans-jarry/
CATEGORIES:Ateliers,Événements ponctuels,Expérience
ATTACH;FMTTYPE=image/jpeg:https://www.maxetlisa.com/wp-content/uploads/2021/01/Ateliers-Kidipoz.jpg
ORGANIZER;CN="kidipoz":MAILTO:contact@kidipozguadeloupe.com
END:VEVENT
BEGIN:VEVENT
DTSTART;TZID=America/Guadeloupe:20210216T160000
DTEND;TZID=America/Guadeloupe:20210217T170000
DTSTAMP:20260423T230502
CREATED:20210210T171504Z
LAST-MODIFIED:20210210T171504Z
UID:17910-1613491200-1613581200@www.maxetlisa.com
SUMMARY:Vacances de Carnaval - Contes et Rires - Lamentin
DESCRIPTION:Afin de partager avec vous et surtout vos enfants  un moment d’humour et de festivités autour de nos traditions créoles. \nOn vous attend donc nombreux à ce spectacle  \,  toujours dans le respect des normes sanitaires en vigueur actuellement  \n Plus de temps à perdre\, munissez-vous d’ores et déjà de vos tickets sur les sites internet suivant :\n #Bizouk \n #AllMol  \nVoir moins
URL:https://www.maxetlisa.com/evenement/vacances-de-carnaval-contes-et-rires-lamentin/
LOCATION:Lamentin\, Médiathèque\, Lamentin
CATEGORIES:Contes,Événements ponctuels,Vacances de carnaval,Vacances scolaires
ATTACH;FMTTYPE=image/jpeg:https://www.maxetlisa.com/wp-content/uploads/2021/02/contes-et-rire.jpg
END:VEVENT
BEGIN:VEVENT
DTSTART;TZID=America/Guadeloupe:20210219T150000
DTEND;TZID=America/Guadeloupe:20210219T170000
DTSTAMP:20260423T230502
CREATED:20210204T142133Z
LAST-MODIFIED:20210204T142133Z
UID:17789-1613746800-1613754000@www.maxetlisa.com
SUMMARY:Vacances de Carnaval - Mon Ecole Ma Baleine - FNAC
DESCRIPTION:Quel enfant n’a jamais rêvé de mieux connaître les baleines\, dauphins et autres cétacés ? Aucun probablement !\n\n\n Le vendredi 19 février 2021 de 15h à 17h* en partenariat avec l’association \nMon Ecole Ma Baleine\n\, la \nFnac Antilles-Guyane\nembarque vos marmots à la découverte du monde sous-marin. \n\n\n𝐀𝐮 𝐩𝐫𝐨𝐠𝐫𝐚𝐦𝐦𝐞 :\n Visionnage d’un mini-documentaire de 4 minutes\n Lecture de la BD « Rêves d’océan »\n Jeux éducatifs\n Séance des dédicaces des ouvrages édités par l’association\n\n\n* 𝑂𝑢𝑣𝑒𝑟𝑡 𝑎𝑢𝑥 𝑒𝑛𝑓𝑎𝑛𝑡𝑠 𝑎̀ 𝑝𝑎𝑟𝑡𝑖𝑟 𝑑𝑒 6 𝑎𝑛𝑠 𝑒𝑡 𝑙𝑒𝑢𝑟𝑠 𝑝𝑎𝑟𝑒𝑛𝑡𝑠.
URL:https://www.maxetlisa.com/evenement/vacances-de-carnaval-mon-ecole-ma-baleine-fnac/
LOCATION:Petit-Bourg
CATEGORIES:Ateliers,Événements ponctuels,Vacances de carnaval,Vacances scolaires
ATTACH;FMTTYPE=image/png:https://www.maxetlisa.com/wp-content/uploads/2021/02/Mon-Ecole-Ma-Baleine.png
END:VEVENT
BEGIN:VEVENT
DTSTART;TZID=America/Guadeloupe:20210220T100000
DTEND;TZID=America/Guadeloupe:20210220T113000
DTSTAMP:20260423T230502
CREATED:20210218T151223Z
LAST-MODIFIED:20210218T151307Z
UID:17978-1613815200-1613820600@www.maxetlisa.com
SUMMARY:Atelier loisir créatif - Bijou  - Baie Mahault - 7 ans et +
DESCRIPTION:La \nLibrairie Générale by CCH\n\, les editions \nAuzou\net The Caribbean Mompreneur vous invite à un atelier créatif gratuit pour enfant. \n\nNous réaliserons ensemble un bijou issu d’une des boîtes AUZOU Loisirs créatifs.\nRendez-vous ce Samedi 20 Février à la Librairie Générale de Jarry de 10h00 à 11h30\nInscription obligatoire ici : https://bit.ly/2NsmPyO\nRéservé aux enfants à partir de 7 ans.
URL:https://www.maxetlisa.com/evenement/atelier-loisir-creatif-bijou-gratuit-baie-mahault-7-ans-et/
LOCATION:Baie-Mahault
CATEGORIES:Ateliers,Événements ponctuels,Loisirs créatifs
ATTACH;FMTTYPE=image/jpeg:https://www.maxetlisa.com/wp-content/uploads/2021/02/Auzou.jpg
END:VEVENT
BEGIN:VEVENT
DTSTART;TZID=America/Guadeloupe:20210220T140000
DTEND;TZID=America/Guadeloupe:20210220T170000
DTSTAMP:20260423T230502
CREATED:20210218T150612Z
LAST-MODIFIED:20210219T111607Z
UID:17973-1613829600-1613840400@www.maxetlisa.com
SUMMARY:Atelier dessin pour enfant - Baie Mahault
DESCRIPTION:Nymphose | Performance poétise-méditative pour les grands et les petits.\n\nLe Samedi 20 février\, la poétesse Wendie Zahibo invite parents et enfants à venir découvrir sa performance NYMPHOSE à la Librairie Générale by CCH \nde Jarry. \nA partir de 6 ans \n\nUne performance poético-méditative\, inspirée de son recueil de poésie « Corsé de cuirs » paru en septembre 2020 aux Editions Neg Mawons.\n\n\nLe temps d’une après-midi\, venez partager un instant de pause\, de poésie\, de souffle\, seul.e ou avec vos enfants\, vos cousins ou cousines\, vos neveux ou nièces… Pour l’occasion\, la sélection de poème choisie aura été pensé spécialement pour l’occasion\, permettant à la suite de la performance de discuter et d’échanger sur des thématiques telles que : l’amour\, la transmission\, le plaisir\, les désirs.\n\n\nVos enfants pourront participé à l’atelier de dessin animé par l’illustratrice Valérie Lavital.\n\n\nOffrez vous un moment hors du temps\, un moment de repos\, un voyage au cœur des maux\, un voyage infusé de partage.\n\n\nRendez-vous ce Samedi 20 Février à la Librairie Générale de Jarry à partir de 14h00\nRéservation obligatoire ici : https://bit.ly/37iMxga
URL:https://www.maxetlisa.com/evenement/atelier-dessin-pour-enfant/
LOCATION:Baie Mahault
CATEGORIES:Ateliers,Dessin,Événements ponctuels
ATTACH;FMTTYPE=image/jpeg:https://www.maxetlisa.com/wp-content/uploads/2021/02/Librairie-Générale.jpg
END:VEVENT
BEGIN:VEVENT
DTSTART;TZID=America/Guadeloupe:20210224T140000
DTEND;TZID=America/Guadeloupe:20210314T170000
DTSTAMP:20260423T230502
CREATED:20210221T213853Z
LAST-MODIFIED:20210311T094724Z
UID:18009-1614175200-1615741200@www.maxetlisa.com
SUMMARY:Atelier hebdomadaire en Anglais avec Ti Sweety - Baie Mahault
DESCRIPTION:Stages\, ateliers hebdomadaires\, on vous gâte et on prend plaisir à apprendre en s’amusant avec vos ti sweeties \n\n#apprendreanglais #3à10ans #enfants #ateliers #jeux #fun #mercredi #jourdesenfants #pourlesenfants #apprendreensamusant #hebdomadaire #guadeloupe #TiSweety #anglaisludique
URL:https://www.maxetlisa.com/evenement/atelier-hebdomadaire-en-anglais-avec-ti-sweety-baie-mahault/
LOCATION:Baie Mahault
CATEGORIES:Ateliers,Événements ponctuels,Langues
ATTACH;FMTTYPE=image/jpeg:https://www.maxetlisa.com/wp-content/uploads/2021/02/Ti-sweety-1.jpg
END:VEVENT
BEGIN:VEVENT
DTSTART;TZID=America/Guadeloupe:20210227T163000
DTEND;TZID=America/Guadeloupe:20210227T213000
DTSTAMP:20260423T230502
CREATED:20210225T101910Z
LAST-MODIFIED:20210301T182633Z
UID:18045-1614443400-1614461400@www.maxetlisa.com
SUMMARY:Randonnée nocturne -Saint François
DESCRIPTION:Nouveau rendez-vous de la saison avec la Lune !\n\n\n*SAMEDI 27 FÉVRIER*\n_ »Randonnée Nocturne »!_\n*Sentier du littoral de la Pointe des Châteaux* SAINT FRANÇOIS \n\n\n_Randonnée au couchant du Soleil et au levant de la Lune dans l’un des écosystèmes remarquables de notre chère Guadeloupe_\n\n\n*Infos pratiques*\nTrace Littorale itinéraire en boucle.\n *Durée estimative* : 3h30\n *Niveau* : Facile 2/5 – 12km\n *Points techniques*: Passage sur la caye\, évolution dans le sable\, progression nocturne.\n\n\nAccessible aux enfants marcheurs à partir de 10 ans.\n\n\n\nA l’issue de la marche vous *pourrez profiter de « cassaves et autres délices de manioc »* à emporter »\n\n\n *Inscriptions obligatoireset compléments d’infos*\n*Cliquez sur le lien* \nhttps://www.bwalansan.fr/…/nocturne-littoral-de-saint…/\n\n\n_Port du masque obligatoire à l’arrivée et au départ  Gestes barrières de rigueur _\n\n\n *Pour en savoir plus sur l’association*\nRDV sur notre site internet\nwww.bwalansan.fr\nou  0690198740\n\n\n\nMatériel : \nMatériel de marche habituel (chaussure et vêtement de sport\, 1\,5L d’eau\, sac à dos\, médicament en cas de traitement)\, des victuailles (fruits\, fruits secs\, barre de céréale). Vêtement contre la pluie/coupe vent\, vêtement de rechange\, une lampe frontale ou de poche\, se munir d’un kwi ou gobelet. \nProtocole sanitaire COVID : le port du masque est obligatoire au départ (rassemblement pour accueil) et dès la fin de la marche \n\n\n\n#bwalansan #randonnéeguadeloupe #ilesdeguadeloupe\n\n\n\n\n\n\n\n\n\n\n\n\n\n\n\n\n\n\n\n\n\n\n\n\n\n\n\n\n\n\n\n\n\n\n\n\n\n 
URL:https://www.maxetlisa.com/evenement/randonnee-nocturne-saint-francois/
CATEGORIES:Ce week-end,Événements ponctuels,Randonnée
ATTACH;FMTTYPE=image/jpeg:https://www.maxetlisa.com/wp-content/uploads/2021/02/Bwa-lansan.jpg
END:VEVENT
END:VCALENDAR