BEGIN:VCALENDAR
VERSION:2.0
PRODID:-//Max et Lisa - ECPv6.15.11//NONSGML v1.0//EN
CALSCALE:GREGORIAN
METHOD:PUBLISH
X-ORIGINAL-URL:https://www.maxetlisa.com
X-WR-CALDESC:Évènements pour Max et Lisa
REFRESH-INTERVAL;VALUE=DURATION:PT1H
X-Robots-Tag:noindex
X-PUBLISHED-TTL:PT1H
BEGIN:VTIMEZONE
TZID:America/Guadeloupe
BEGIN:STANDARD
TZOFFSETFROM:-0400
TZOFFSETTO:-0400
TZNAME:AST
DTSTART:20190101T000000
END:STANDARD
END:VTIMEZONE
BEGIN:VEVENT
DTSTART;TZID=America/Guadeloupe:20200905T090000
DTEND;TZID=America/Guadeloupe:20210626T120000
DTSTAMP:20260423T230637
CREATED:20200903T232348Z
LAST-MODIFIED:20210226T102755Z
UID:13788-1599296400-1624708800@www.maxetlisa.com
SUMMARY:EVEIL MUSICAL - chaque samedi matin
DESCRIPTION:Musique\, instruments…. un voayage musical avec le cours de Stéphane Nabajoth au sein de l’association Langaj Savann \n9h -10h :ENFANTS DE MOINS DE 3 ANS  9 à 10h) \n10h-11h : ENFANTS DE 3/5 ans \n11h-12h : ENFANTS DE plu de 5 ans \nINFOLINE : 0690 33 85 51 \n  \n12€ l’heure
URL:https://www.maxetlisa.com/evenement/eveil-musical-le-samedi-matin/
LOCATION:Abymes
CATEGORIES:Ce week-end,Enfant,Événements ponctuels,Mercredi et samedi,Musique
ATTACH;FMTTYPE=image/jpeg:https://www.maxetlisa.com/wp-content/uploads/2020/09/EVEIL-MUSICAL.jpg
END:VEVENT
BEGIN:VEVENT
DTSTART;TZID=America/Guadeloupe:20200909T080000
DTEND;TZID=America/Guadeloupe:20210630T170000
DTSTAMP:20260423T230637
CREATED:20200909T160032Z
LAST-MODIFIED:20200910T203355Z
UID:13899-1599638400-1625072400@www.maxetlisa.com
SUMMARY:LA RENTRÉE DES ACTIVITÉS DE RAVINE CHAUDE
DESCRIPTION:L’Espace Thermo-Ludique Ravine Chaude a le plaisir de vous informer de la\nreprise des activités aquatiques d’apprentissage et de remise en forme.\nNous proposons\, les activités suivantes :\n– Natation enfant de 6 à 11 ans – Mercredi – 120€ le trimestre\n– Natation ado de 12 à 20 ans\n– Natation adulte\n– Aquagym (Aquaform\, Aquatonic et Aquasenior)\n– Jardin aquatique pour les enfants de 4 à 5 ans -Mercredi – 15h- 15h45 – 150€ trimestre\n– AquaBébé pour les enfants de 6 mois à 3 ans – Samedi -9h – 150€ trimestre\n– La natation maternité (préparation à la naissance)\n– La relaxation aquatique\nPour rappel\, les bassins restent accessibles pour la baignade simple du mardi au dimanche de 9h à 12h et de 13h à 19h avec obligation de réserver au préalable afin de garantir les meilleures conditions d’accueil et le respect des mesures sanitaires.\nRenseignements\, réservation et inscription à l’Espace Thermo Ludique de Ravine Chaude et au 0590 57 16 70.
URL:https://www.maxetlisa.com/evenement/la-rentree-des-activites-de-ravine-chaude/
LOCATION:Lamentin\, Ravine Chaude\, Lamentin
CATEGORIES:Ado,Bébé,Enfant,Événements ponctuels,Natation
ATTACH;FMTTYPE=image/jpeg:https://www.maxetlisa.com/wp-content/uploads/2020/09/Ravine-Chaude-1.jpg
END:VEVENT
BEGIN:VEVENT
DTSTART;TZID=America/Guadeloupe:20210109T100000
DTEND;TZID=America/Guadeloupe:20211229T120000
DTSTAMP:20260423T230637
CREATED:20201211T093434Z
LAST-MODIFIED:20210414T094920Z
UID:16754-1610186400-1640779200@www.maxetlisa.com
SUMMARY:POTERIE : Mercredi et samedi - 10/12H - Abymes
DESCRIPTION:L’atelier de poterie vous souhaite une année de bonheur créatif! \n\n\nPour ce faire\, vous pourrez désormais participer aux cours le samedi mais aussi le mercredi de 10h à 12h.\n\n\n20€/2h d’atelier et cuisson des productions.\n\n\nVoilà donc le premier thème de l’année\, réservé aux adultes (qui n’ont pas pu participer aux activités des vacances\, proposées aux enfants).\nAu programme toujours :\n– le thème de modelage\,\n– du modelage libre\,\n– une initiation au tournage.\n\n\nPour participer le mercredi 6 ou le samedi 9 janvier\, inscrivez-vous rapidement…\nNaïma Gatibelza céramiste\n0690 91 59 58\n\n\n\n\n\n\n\nL’atelier se situe aux Abymes en face du lycée Baimbridge.
URL:https://www.maxetlisa.com/evenement/vacances-de-noel-activite-poterie-abymes/
LOCATION:Abymes\, Baimbridge\, 97139
CATEGORIES:Ce week-end,Événements ponctuels,Mercredi et samedi,Poterie
ATTACH;FMTTYPE=image/jpeg:https://www.maxetlisa.com/wp-content/uploads/2020/12/Gwadloup-Céramik.jpg
END:VEVENT
BEGIN:VEVENT
DTSTART;TZID=America/Guadeloupe:20210115T083000
DTEND;TZID=America/Guadeloupe:20211231T173000
DTSTAMP:20260423T230637
CREATED:20210115T102147Z
LAST-MODIFIED:20210115T102147Z
UID:17455-1610699400-1640971800@www.maxetlisa.com
SUMMARY:BABY GYM - VENDREDI et SAMEDI
DESCRIPTION:Nouveau créneau ! Vendredi de 16h30 à 17h30 ! Enfants nés de 2015 à 2019 ! \nSamedi : 8h45 – 9h45 \nLa baby gym une activité idéale et unique à partir de 15 mois à 2 ans.\nLe Gymnasticlub est une structure aménagée qui peut devenir un magnifique terrain de jeu sécurisé. Un lieu parfaitement adapté au développement psychomoteur de l’enfant !\nMarcher\, sauter\, rouler\, se balancer\, jouer\, imiter\, imaginer\, explorer …\nLes parents\, les grands parents ou les nounous sont accueillis à bras ouverts pour participer à la séance de Baby Gym.\nLe paiement est à effectuer le matin du cours en chèque ou espèces.\nN’hésitez pas venez participer !\nPROTOCOLE COVID\nVenir avec une serviette pour rincer les mains\, port du masque obligatoire(parent)\, respect des gestes barrières.
URL:https://www.maxetlisa.com/evenement/baby-gym-vendredi-et-samedi/
LOCATION:Petit-Bourg
CATEGORIES:Baby sport,Événements ponctuels,Mercredi et samedi
ATTACH;FMTTYPE=image/jpeg:https://www.maxetlisa.com/wp-content/uploads/2021/01/Gymnastic-club.jpg
END:VEVENT
BEGIN:VEVENT
DTSTART;TZID=America/Guadeloupe:20210224T140000
DTEND;TZID=America/Guadeloupe:20210314T170000
DTSTAMP:20260423T230637
CREATED:20210221T213853Z
LAST-MODIFIED:20210311T094724Z
UID:18009-1614175200-1615741200@www.maxetlisa.com
SUMMARY:Atelier hebdomadaire en Anglais avec Ti Sweety - Baie Mahault
DESCRIPTION:Stages\, ateliers hebdomadaires\, on vous gâte et on prend plaisir à apprendre en s’amusant avec vos ti sweeties \n\n#apprendreanglais #3à10ans #enfants #ateliers #jeux #fun #mercredi #jourdesenfants #pourlesenfants #apprendreensamusant #hebdomadaire #guadeloupe #TiSweety #anglaisludique
URL:https://www.maxetlisa.com/evenement/atelier-hebdomadaire-en-anglais-avec-ti-sweety-baie-mahault/
LOCATION:Baie Mahault
CATEGORIES:Ateliers,Événements ponctuels,Langues
ATTACH;FMTTYPE=image/jpeg:https://www.maxetlisa.com/wp-content/uploads/2021/02/Ti-sweety-1.jpg
END:VEVENT
BEGIN:VEVENT
DTSTART;TZID=America/Guadeloupe:20210306T093000
DTEND;TZID=America/Guadeloupe:20210306T120000
DTSTAMP:20260423T230637
CREATED:20210304T225459Z
LAST-MODIFIED:20210304T225459Z
UID:18115-1615023000-1615032000@www.maxetlisa.com
SUMMARY:CEUILLETE chez MR SALADE LUCOL
DESCRIPTION:une CEUILLETE dans les jardins de Mr SALADE  LUCOL le SAMEDI 06 MARS 2021 de 9h30 à 12h00 à Anse-Bertrand
URL:https://www.maxetlisa.com/evenement/ceuillete-chez-mr-salade-lucol/
LOCATION:Petit-Canal
CATEGORIES:Ce week-end,Événements ponctuels,Nature
ATTACH;FMTTYPE=image/jpeg:https://www.maxetlisa.com/wp-content/uploads/2021/03/Mr-Salad.jpg
END:VEVENT
BEGIN:VEVENT
DTSTART;TZID=America/Guadeloupe:20210306T150000
DTEND;TZID=America/Guadeloupe:20210306T170000
DTSTAMP:20260423T230637
CREATED:20210301T182439Z
LAST-MODIFIED:20210311T093957Z
UID:18077-1615042800-1615050000@www.maxetlisa.com
SUMMARY:Atelier “ Il était une fois “
DESCRIPTION:Pour s’initier\, partager et découvrir dès le plus jeune âge\, la FNAC Collins vous propose son tout premier atelier “ Il était une fois “\, le samedi 6 mars de 15h à 17h.\n\n\nInscrivez vite vos enfants en message privé ou en magasin pour un bon petit moment de partage.
URL:https://www.maxetlisa.com/evenement/atelier-il-etait-une-fois/
LOCATION:Petit-Bourg
CATEGORIES:Ce week-end,Événements ponctuels
ATTACH;FMTTYPE=image/png:https://www.maxetlisa.com/wp-content/uploads/2021/03/Fnac.png
END:VEVENT
BEGIN:VEVENT
DTSTART;TZID=America/Guadeloupe:20210306T150000
DTEND;TZID=America/Guadeloupe:20210306T170000
DTSTAMP:20260423T230637
CREATED:20210301T183411Z
LAST-MODIFIED:20210311T094035Z
UID:18081-1615042800-1615050000@www.maxetlisa.com
SUMMARY:Le goûter des Super-Héros! 🦸🏽🦹🏽‍♀️
DESCRIPTION:Mais qu’est-ce que c’est?! \nViens découvrir avec @elo_doddie et @maiss_cuisine notre 1er atelier mêlant créativité et komès pour révéler les super-pouvoirs des toupitis! \nCe héros qui sommeille en eux n’attend que sa tenue et son goûter pour briller aux yeux de tout l’univers et démontrer ses capacités exceptionnelles \nCours vite t’inscrire (enfin pas toi\, mais les toupitis ) sur kiwol.\n\n\nhttps://bit.ly/3sC5SBp\n\n\nPlaces limitées! Pa dómi
URL:https://www.maxetlisa.com/evenement/le-gou%cc%82ter-des-super-heros-%f0%9f%a6%b8%f0%9f%8f%bd%f0%9f%a6%b9%f0%9f%8f%bd%e2%80%8d%e2%99%80%ef%b8%8f/
LOCATION:Abymes
CATEGORIES:Atelier cuisine,Ateliers,Ce week-end,Événements ponctuels
ATTACH;FMTTYPE=image/jpeg:https://www.maxetlisa.com/wp-content/uploads/2021/03/Komes.jpg
END:VEVENT
BEGIN:VEVENT
DTSTART;TZID=America/Guadeloupe:20210306T150000
DTEND;TZID=America/Guadeloupe:20210417T170000
DTSTAMP:20260423T230637
CREATED:20210304T224514Z
LAST-MODIFIED:20210304T224540Z
UID:18110-1615042800-1618678800@www.maxetlisa.com
SUMMARY:ATELIERS MOFWAZÉ ORALITÉ
DESCRIPTION:Pour les tout petits entre 6 et 8 ans!\nInscrivez-les aux ateliers d’expression orale et corporelle autour de l’exposition « Mofwazé » de Philippe THOMAREL!\n\n\nLes samedis 6 et 20 mars 2021 à 15h et le samedi 17 avril 2021 à 15h.\n\n\nTarif: 5€\nInformations: mediation@macte.fr\n\n\nLien: https://billetterie.memorial-acte.fr/index-css5…\n\n\n#MACTe #art #caraibes #guadeloupe #martinique #pointeapitre
URL:https://www.maxetlisa.com/evenement/ateliers-mofwaze-oralite/
LOCATION:Pointe à Pitre
CATEGORIES:Ce week-end,Culture,Événements ponctuels
ATTACH;FMTTYPE=image/jpeg:https://www.maxetlisa.com/wp-content/uploads/2021/03/Mact.jpg
END:VEVENT
BEGIN:VEVENT
DTSTART;TZID=America/Guadeloupe:20210311T150000
DTEND;TZID=America/Guadeloupe:20210311T180000
DTSTAMP:20260423T230637
CREATED:20210226T130859Z
LAST-MODIFIED:20210226T130859Z
UID:18057-1615474800-1615485600@www.maxetlisa.com
SUMMARY:Stage de MMX -100% ELLE
DESCRIPTION:Accessible à tous les niveaux\nToutes les catégories d’âges
URL:https://www.maxetlisa.com/evenement/stage-de-mmx-100-elle/
LOCATION:Baie-Mahault
CATEGORIES:Événements ponctuels,Sport
ATTACH;FMTTYPE=image/jpeg:https://www.maxetlisa.com/wp-content/uploads/2021/02/BMX-filles.jpg
END:VEVENT
BEGIN:VEVENT
DTSTART;TZID=America/Guadeloupe:20210313T080000
DTEND;TZID=America/Guadeloupe:20210313T170000
DTSTAMP:20260423T230637
CREATED:20210310T100058Z
LAST-MODIFIED:20210310T100058Z
UID:18180-1615622400-1615654800@www.maxetlisa.com
SUMMARY:rANDO - Lanmou Timoun 13 - Port-Louis
DESCRIPTION:Une Rando découverte Accessible aux enfants à partir de 3 mois accompagnés d’un parent.\nNous instaurons cette rando « Lanmou Timoun » Le dernier Samedi de chaque mois à partir d’octobre 2020.\nLe Rythme sera lent et adapté au public présent\nVous pouvez venir aussi en initiation ou pour simplement prendre un bain de nature.\nEnfants de 3mois à 3ans doivent être en dispositif adapté sur un parent.\nLes enfants peuvent marcher librement à partir de 3 ans.\nParticipation : Gratuit pour les adhérents et enfants de 3mois à 3 ans\n5 euros pour les enfants et les parents Invités à partir de 4 ans.\nNous allons pour la 13ème éditon en Grand-Terre sur un parcours atypique Mangrove et Plage.\nPensez à des vêtements lycra pour les enfants nous prendrons un bain et jouerons à un jeu de développement personnel à mis parcours.\nChaussures confortables et adaptés\nDes gants si possible\nPrévoir un vêtement de bain\, serviette\nUn sac à dos avec de l’eau 0\,5 à 1litre et des fruits naturels ou secs.\n(Biscuits\, soda\, et autres boissons sucrés sont à proscrire\, SVP jouez le jeu)\n\nChaque enfant de 0 à 4 doivent être accompagné d’un parent obligatoirement.\nUne petite trousse de secours est recommandée.\nPensez aux vêtements de rechange dans la voiture mais aussi à mis parcours pour les plus frileux.\nEnfants volontaires SVP.\nRDV 08h00 : Parking après le cimetière de Port-Louis infos Whatsapp 0690417097
URL:https://www.maxetlisa.com/evenement/rando-lanmou-timoun-13-port-louis/
LOCATION:Port Louis\, Usine de Beauport\, Port Louis\, 97117
CATEGORIES:Événements ponctuels,Randonnée
ATTACH;FMTTYPE=image/jpeg:https://www.maxetlisa.com/wp-content/uploads/2021/03/lanmou-timoun.jpg
END:VEVENT
BEGIN:VEVENT
DTSTART;TZID=America/Guadeloupe:20210314T073000
DTEND;TZID=America/Guadeloupe:20210314T170000
DTSTAMP:20260423T230637
CREATED:20210311T094445Z
LAST-MODIFIED:20210319T124842Z
UID:18192-1615707000-1615741200@www.maxetlisa.com
SUMMARY:JOURNEE INTERNATIONALE D'ACTIONS POUR LES RIVIERES
DESCRIPTION:L’association BWA LANSAN\, en partenariat avec l’office de l’eau\, vous informe \n.\nJOURNEE INTERNATIONALE D’ACTIONS POUR LES RIVIERES\n.\nRandonnée pédestre : \n DIMANCHE 14 MARS 2021\nDécouverte du CANAL LEPELLETIER\n Info : 0590 92 19 72 // 0690 19 87 40\n bwalansan@gmail.com\n.\nLes inscriptions se réalisent uniquement sur le site de Bwa Lansan\nhttps://www.bwalansan.fr/actualites/canal-lepelletier/ \nDeux parcours au choix ! Les randonnées sont introduites par les explications historiques dispensées par Mr Gérard Lafleur. \nInfos techniques : \nParcours 1 : Bon marcheur \nRDV : 7h30 – Départ 8h \nParcours en boucle\, ascension en forêt en passant par le plateau Dimba à morne Houël puis la trace Delgrès pour rejoindre le très joli bassin du captage du canal. \nNiveau : 3 (Moyen) – environ 6 kms – 200m dénivelé+ \nDurée Estimative de marche : 2h00 (cette durée ne comprend pas les temps des commentaires). \nPassages techniques : Technique progression en milieu forestier glissant et inondé\, traversée de rivière. \n  \nNous rappelons que nous n’assurons pas de surveillance de baignade\, \nAccessible aux enfants à partir de 14 ans ne présentant pas de difficultés à l’effort physique et habitués à pratiquer un sport ; accompagnés obligatoirement d’un parent à l’aise pour la marche \n  \nParcours 2: Tout public \nRDV 8H départ 8H30 \nParcours en aller/retour. Après avoir rejoint par la route l’aire de pique nique de Beau soleil\, nous entrerons dans la forêt longeant le canal jusqu’à son très joli bassin de captage. Baignade possible. \nNiveau : 2 (facile) – environ 6 kms  & 200m dénivelé+ \nDurée Estimative : 3h00 (cette durée ne comprend pas les temps des commentaires ni de la baignade). \nPassages techniques : Ascension sur la route puis progression en milieu forestier glissant\, et inondé\, traversée de rivière. \nAccessible aux enfants à partir de 7 ans ne présentant pas de difficultés à l’effort physique et habitués à pratiquer un sport ; accompagnés obligatoirement d’un parent à l’aise pour la marche. \n  \n  \nRendez-vous à  \nParcours 1 : Bon marcheur \nRDV : 7h30 – Départ 8h \nParcours 2: Tout public
URL:https://www.maxetlisa.com/evenement/journee-internationale-dactions-pour-les-rivieres/
LOCATION:Saint Claude\, Saint Claude
CATEGORIES:Événements ponctuels,Randonnée
ATTACH;FMTTYPE=image/jpeg:https://www.maxetlisa.com/wp-content/uploads/2021/03/159065762_2299019173564401_4583374699785842154_o.jpg
END:VEVENT
BEGIN:VEVENT
DTSTART;TZID=America/Guadeloupe:20210317T150000
DTEND;TZID=America/Guadeloupe:20210317T170000
DTSTAMP:20260423T230637
CREATED:20210311T093742Z
LAST-MODIFIED:20210319T124923Z
UID:18188-1615993200-1616000400@www.maxetlisa.com
SUMMARY:TOP CINE JUNIOR - LA PETITE VENDEUSE DE SOLEIL
DESCRIPTION:Port du masque à partir de 11 ans et distanciation obligatoires\nRéalisateur : Djibril Diop Mambety\nFilm sous-titré conseillé à partir de 8 ans\nSynopsis :\nSili\, jeune mendiante de 12 ans\, s’aventure dans les nouveaux quartiers de la ville pour tenter de gagner un peu d’argent en vendant Le Soleil\, célèbre quotidien sénégalais\, dont le commerce est depuis longtemps réservé aux garçons.\n« … ce film est un hymne au courage des enfants des rues\, une ode à l’espoir\, à la vie et à l’amitié. »
URL:https://www.maxetlisa.com/evenement/top-cine-junior-la-petite-vendeuse-de-soleil/
LOCATION:Lamentin\, Médiathèque\, Lamentin
CATEGORIES:cinéma,Événements ponctuels
ATTACH;FMTTYPE=image/jpeg:https://www.maxetlisa.com/wp-content/uploads/2021/03/lAMENTIN.jpg
END:VEVENT
BEGIN:VEVENT
DTSTART;TZID=America/Guadeloupe:20210320T160000
DTEND;TZID=America/Guadeloupe:20210320T170000
DTSTAMP:20260423T230637
CREATED:20210314T223053Z
LAST-MODIFIED:20210314T224419Z
UID:18247-1616256000-1616259600@www.maxetlisa.com
SUMMARY:Le marchand de mémoire
DESCRIPTION:La séance de 18h du samedi 20 mars\, pour  » le Marchand de mémoire » au petit théâtre de Ducharmoy est complète..!\nMais heureusement il reste encore des places pour la séance de 16h..\nAlors n’attendez plus pour réserver au 06.90.41.30.18\nEt venez réveiller les Ribouldingues qui sommeillent en vous..!\n\n\nCe spectacle jeune public\, va offrir aux enfants et aux plus grands\, un tourbillon de folies…!\nAlors n’hésitez plus et venez réveiller les Ribouldingues qui sommeillent en vous !\n\n\nA partir de 3 ans\n\n\nTarif : 10 euros\n\n\ndurée: 45 min\n\n\nRéservation au 06.90.41.30.18\n\n\nRésumé :\nAméline et Eprouvette sont deux fillettes qui ne cessent jamais de jouer..\nQuand l’une perd la mémoire\, l’autre perd sa voix!!!\nQuelle Histoire….!\nElles partent donc à la recherche du Marchand de Mémoire…!!
URL:https://www.maxetlisa.com/evenement/le-marchand-de-memoire/
LOCATION:Saint Claude\, Saint Claude
CATEGORIES:Événements ponctuels,Spectacle
ATTACH;FMTTYPE=image/jpeg:https://www.maxetlisa.com/wp-content/uploads/2021/03/160569611_258568772563588_7457872615394715885_n.jpg
END:VEVENT
BEGIN:VEVENT
DTSTART;TZID=America/Guadeloupe:20210321T070000
DTEND;TZID=America/Guadeloupe:20210321T170000
DTSTAMP:20260423T230637
CREATED:20210319T101445Z
LAST-MODIFIED:20210322T144639Z
UID:18344-1616310000-1616346000@www.maxetlisa.com
SUMMARY:Dégoudi en ba bwa - Port- Louis
DESCRIPTION:Reprise en douceur pour les « *Dégoudi Anba Bwa* » de l’ Association *YÉ MANMAN YÉ* !\n\nLe *Dimanche 21 Mars 2021*(Equinoxe) \, consacrez vous une pause oxygenation du corps et de l’esprit…en famille ! Nous partons en littoral\, mangrove et forêt marécageuse pour aboutir au magnifique lagon du grand cul de sac marin. Circuit : *Trace de Beautiran*\n\n Notre guide: *Maddy HATIL* (Guide de Montagne certifié).\n\n **Trace de 2h\, parcours facile*. Baignade libre et non-surveillée possible à l’arrivée\, à la plage du Souffleur qui est à 15min\n\n– Prière de vous munir de vos médicaments en cas de traitement (asthme\, allergies..)\n\n *COLLATION* (4€ par personne) :\n– 1Mini Kasav salée (Dhal-Giromon\, avec ou sans harang doux)\n– 1 moelleux kako-manyok\n– 1timbale de thé frais maison\n\n☑️Pour valider votre inscription\, Merci de préciser lors de votre retour:\n\n– Noms complets des adultes\, les prénoms des enfants\n\n– Age des enfants\n\n– Numéro de tél\n\n– Location Porte-bébé Rando dorsal avec Bébé Lou. Tarif 10€ (Non ad.) / 4€ (Adhérent)/ 8 à 18kg maxi. ‼️A réserver à l’ avance!\n\n– Nombre de Collations\n\nRDV 8h en face de la station du terminus du train de *Beauport* à Poyen (nous vous enverrons la géo-localisation)\n\n *Contact* : Natacha 0690 695 991 / Audrey 0690 628 298
URL:https://www.maxetlisa.com/evenement/degoudi-en-ba-bwa-port-louis/
LOCATION:Port-Louis
CATEGORIES:Ce week-end,Événements ponctuels,Randonnée
ATTACH;FMTTYPE=image/png:https://www.maxetlisa.com/wp-content/uploads/2021/03/RANDO.png
END:VEVENT
BEGIN:VEVENT
DTSTART;TZID=America/Guadeloupe:20210327T160000
DTEND;TZID=America/Guadeloupe:20210328T173000
DTSTAMP:20260423T230637
CREATED:20210303T102339Z
LAST-MODIFIED:20210412T142441Z
UID:18098-1616860800-1616952600@www.maxetlisa.com
SUMMARY:SPECTACLE - SAKINIPLI Origami
DESCRIPTION:  \n\nSamedi 27 et dimanche 28 mars à 16h au Ciné théâtre de Lamentin / Billetterie: 0590 99 18 11\n\nL’histoire / synopsis\nC’est l’histoire d’une feuille de papier grise.\nOubliée\, délaissée\, elle s’ennuie et rêve de couleurs.\nUn beau jour\, on la plie\, la déplie\, la replie… elle devient papillon !\nMais un papillon toujours gris… comme la pluie…\nAu fil de son aventure\, de ses rencontres (un crabe macho\, un sage colibri\, un escargot craintif\, un poisson perdu\, …)\, notre papillon va s’accepter comme il est : Gris\, avec un cœur en or ! \nLes thèmes et les messages\n• L’acceptation de soi\n• La tolérance\n• L’entraide\n• L’amitié\n• L’origami\n• Les formes / la géométrie\n• Les couleurs\nL’aventure est faite de rencontres permettant la compréhension de soi et de l’autre. Une\nouverture sur la différence\, sur la singularité qui associée à d’autres singularités crée\nnotre humanité.\nParce que la différence est une richesse\, il est essentiel que chaque enfant se respecte et\nrespecte l’autre. « Soyez vous-même\, tous les autres sont déjà pris » disait très justement\nOscar Wilde. Chacun est unique\, chacun est un diamant qui ne demande qu’à briller ! ;\nvoilà le message que nous souhaitons que les enfants retiennent. \nDurée du spectacle : 45 Minutes           public : à partir de 5 ans\nMise en scène : Suzon D’Haveloose\nAvec : Ingrid Aumont /Suzon D’Haveloose / Théo Dunoyer\nCréation Lumière et Régie : Lilia Aruga\nChorégraphies : Ingrid Aumont / Patrice Turlet\nCostumes : Céline Bouffard / Suzon D’Haveloose\nComposition musicale : Bastien Cellier (The Godfather Team) \nInfoline : 0690 500 234 \n 
URL:https://www.maxetlisa.com/evenement/spectacle-sakinipli-origami/
LOCATION:Le lamentin\, Le Lamentin
CATEGORIES:Événements ponctuels,Spectacle
ATTACH;FMTTYPE=image/jpeg:https://www.maxetlisa.com/wp-content/uploads/2021/03/sPECTACLE.jpg
END:VEVENT
BEGIN:VEVENT
DTSTART;TZID=America/Guadeloupe:20210330T160000
DTEND;TZID=America/Guadeloupe:20210331T170000
DTSTAMP:20260423T230637
CREATED:20210314T222550Z
LAST-MODIFIED:20210412T142334Z
UID:18243-1617120000-1617210000@www.maxetlisa.com
SUMMARY:Contes et rires
DESCRIPTION:Pendant les vacances de Pâques\, notre nouveau spectacle « Contes & Rires » pose ses valises au Moule !\n\n\nPour le plus grand bonheur des petits et des grands enfants \, Benzo\, Fwanswa et Mano vous feront découvrir les contes et histoires antillaises accompagnés de leurs fidèles compagnons\, Kompè Lapen et Kompè Zanba !\n\n\nUn moment à partager en famille  ou entre amis entre humour\, tradition et émotion.\n\n\nRetrouvez les le:\n 30 & 31 Mars 2021 à partir de 16h\nà la Salle Robert LOYSON au MOULE.\n\n\nRéservez vos places en ligne dès maintenant sur:\nALL MOL: https://bit.ly/2NX9LSu\nBizouk: http://bzk.io/wqa782\n\n\nAttention:\n– Port du masque obligatoire\n– Places limitées pour un confort optimal et dans le respect des règles sanitaires en vigueur\n– Spectacle interdit aux enfants de moins de 3 ans.
URL:https://www.maxetlisa.com/evenement/contes-et-rires/
LOCATION:Le Moule
CATEGORIES:Événements ponctuels,Spectacle,Vacances de Pâques,Vacances scolaires
ATTACH;FMTTYPE=image/jpeg:https://www.maxetlisa.com/wp-content/uploads/2021/03/Contes-et-Rires-Benzo.jpg
END:VEVENT
END:VCALENDAR