BEGIN:VCALENDAR
VERSION:2.0
PRODID:-//Max et Lisa - ECPv6.15.11//NONSGML v1.0//EN
CALSCALE:GREGORIAN
METHOD:PUBLISH
X-ORIGINAL-URL:https://www.maxetlisa.com
X-WR-CALDESC:Évènements pour Max et Lisa
REFRESH-INTERVAL;VALUE=DURATION:PT1H
X-Robots-Tag:noindex
X-PUBLISHED-TTL:PT1H
BEGIN:VTIMEZONE
TZID:America/Guadeloupe
BEGIN:STANDARD
TZOFFSETFROM:-0400
TZOFFSETTO:-0400
TZNAME:AST
DTSTART:20190101T000000
END:STANDARD
END:VTIMEZONE
BEGIN:VEVENT
DTSTART;TZID=America/Guadeloupe:20200905T090000
DTEND;TZID=America/Guadeloupe:20210626T120000
DTSTAMP:20260423T193333
CREATED:20200903T232348Z
LAST-MODIFIED:20210226T102755Z
UID:13788-1599296400-1624708800@www.maxetlisa.com
SUMMARY:EVEIL MUSICAL - chaque samedi matin
DESCRIPTION:Musique\, instruments…. un voayage musical avec le cours de Stéphane Nabajoth au sein de l’association Langaj Savann \n9h -10h :ENFANTS DE MOINS DE 3 ANS  9 à 10h) \n10h-11h : ENFANTS DE 3/5 ans \n11h-12h : ENFANTS DE plu de 5 ans \nINFOLINE : 0690 33 85 51 \n  \n12€ l’heure
URL:https://www.maxetlisa.com/evenement/eveil-musical-le-samedi-matin/
LOCATION:Abymes
CATEGORIES:Ce week-end,Enfant,Événements ponctuels,Mercredi et samedi,Musique
ATTACH;FMTTYPE=image/jpeg:https://www.maxetlisa.com/wp-content/uploads/2020/09/EVEIL-MUSICAL.jpg
END:VEVENT
BEGIN:VEVENT
DTSTART;TZID=America/Guadeloupe:20200909T080000
DTEND;TZID=America/Guadeloupe:20210630T170000
DTSTAMP:20260423T193333
CREATED:20200909T160032Z
LAST-MODIFIED:20200910T203355Z
UID:13899-1599638400-1625072400@www.maxetlisa.com
SUMMARY:LA RENTRÉE DES ACTIVITÉS DE RAVINE CHAUDE
DESCRIPTION:L’Espace Thermo-Ludique Ravine Chaude a le plaisir de vous informer de la\nreprise des activités aquatiques d’apprentissage et de remise en forme.\nNous proposons\, les activités suivantes :\n– Natation enfant de 6 à 11 ans – Mercredi – 120€ le trimestre\n– Natation ado de 12 à 20 ans\n– Natation adulte\n– Aquagym (Aquaform\, Aquatonic et Aquasenior)\n– Jardin aquatique pour les enfants de 4 à 5 ans -Mercredi – 15h- 15h45 – 150€ trimestre\n– AquaBébé pour les enfants de 6 mois à 3 ans – Samedi -9h – 150€ trimestre\n– La natation maternité (préparation à la naissance)\n– La relaxation aquatique\nPour rappel\, les bassins restent accessibles pour la baignade simple du mardi au dimanche de 9h à 12h et de 13h à 19h avec obligation de réserver au préalable afin de garantir les meilleures conditions d’accueil et le respect des mesures sanitaires.\nRenseignements\, réservation et inscription à l’Espace Thermo Ludique de Ravine Chaude et au 0590 57 16 70.
URL:https://www.maxetlisa.com/evenement/la-rentree-des-activites-de-ravine-chaude/
LOCATION:Lamentin\, Ravine Chaude\, Lamentin
CATEGORIES:Ado,Bébé,Enfant,Événements ponctuels,Natation
ATTACH;FMTTYPE=image/jpeg:https://www.maxetlisa.com/wp-content/uploads/2020/09/Ravine-Chaude-1.jpg
END:VEVENT
BEGIN:VEVENT
DTSTART;TZID=America/Guadeloupe:20210109T100000
DTEND;TZID=America/Guadeloupe:20211229T120000
DTSTAMP:20260423T193333
CREATED:20201211T093434Z
LAST-MODIFIED:20210414T094920Z
UID:16754-1610186400-1640779200@www.maxetlisa.com
SUMMARY:POTERIE : Mercredi et samedi - 10/12H - Abymes
DESCRIPTION:L’atelier de poterie vous souhaite une année de bonheur créatif! \n\n\nPour ce faire\, vous pourrez désormais participer aux cours le samedi mais aussi le mercredi de 10h à 12h.\n\n\n20€/2h d’atelier et cuisson des productions.\n\n\nVoilà donc le premier thème de l’année\, réservé aux adultes (qui n’ont pas pu participer aux activités des vacances\, proposées aux enfants).\nAu programme toujours :\n– le thème de modelage\,\n– du modelage libre\,\n– une initiation au tournage.\n\n\nPour participer le mercredi 6 ou le samedi 9 janvier\, inscrivez-vous rapidement…\nNaïma Gatibelza céramiste\n0690 91 59 58\n\n\n\n\n\n\n\nL’atelier se situe aux Abymes en face du lycée Baimbridge.
URL:https://www.maxetlisa.com/evenement/vacances-de-noel-activite-poterie-abymes/
LOCATION:Abymes\, Baimbridge\, 97139
CATEGORIES:Ce week-end,Événements ponctuels,Mercredi et samedi,Poterie
ATTACH;FMTTYPE=image/jpeg:https://www.maxetlisa.com/wp-content/uploads/2020/12/Gwadloup-Céramik.jpg
END:VEVENT
BEGIN:VEVENT
DTSTART;TZID=America/Guadeloupe:20210115T083000
DTEND;TZID=America/Guadeloupe:20211231T173000
DTSTAMP:20260423T193333
CREATED:20210115T102147Z
LAST-MODIFIED:20210115T102147Z
UID:17455-1610699400-1640971800@www.maxetlisa.com
SUMMARY:BABY GYM - VENDREDI et SAMEDI
DESCRIPTION:Nouveau créneau ! Vendredi de 16h30 à 17h30 ! Enfants nés de 2015 à 2019 ! \nSamedi : 8h45 – 9h45 \nLa baby gym une activité idéale et unique à partir de 15 mois à 2 ans.\nLe Gymnasticlub est une structure aménagée qui peut devenir un magnifique terrain de jeu sécurisé. Un lieu parfaitement adapté au développement psychomoteur de l’enfant !\nMarcher\, sauter\, rouler\, se balancer\, jouer\, imiter\, imaginer\, explorer …\nLes parents\, les grands parents ou les nounous sont accueillis à bras ouverts pour participer à la séance de Baby Gym.\nLe paiement est à effectuer le matin du cours en chèque ou espèces.\nN’hésitez pas venez participer !\nPROTOCOLE COVID\nVenir avec une serviette pour rincer les mains\, port du masque obligatoire(parent)\, respect des gestes barrières.
URL:https://www.maxetlisa.com/evenement/baby-gym-vendredi-et-samedi/
LOCATION:Petit-Bourg
CATEGORIES:Baby sport,Événements ponctuels,Mercredi et samedi
ATTACH;FMTTYPE=image/jpeg:https://www.maxetlisa.com/wp-content/uploads/2021/01/Gymnastic-club.jpg
END:VEVENT
BEGIN:VEVENT
DTSTART;TZID=America/Guadeloupe:20210519T080000
DTEND;TZID=America/Guadeloupe:20210523T170000
DTSTAMP:20260423T193333
CREATED:20210513T101124Z
LAST-MODIFIED:20210816T124526Z
UID:18886-1621411200-1621789200@www.maxetlisa.com
SUMMARY:Fête de la Nature - Petit-Canal
DESCRIPTION:Amoureux de la nature\, curieux de la biodiversité\, voici une EXPERIENCE A NE PAS MANQUER pour la fête de la nature !\nEDF en partenariat avec MOUVANCES CARAIBES organise la réalisation d’un inventaire participatif de la biodiversité sur le parc éolien d’EDF Renouvelables à Petit Canal mené conjointement avec des scientifiques et le public\, l’occasion de découvrir les espèces locales de biodiversité.\nPartenaires : EDF Renouvelables\, Amazona\, Toni Jourdan\, ONF\nRéservation obligatoire sur :\nhttps://www.helloasso.com/…/fete-de-la-nature…\nProgramme\n8h -10h. Participez à l’inventaire des oiseaux présents sur le parc éolien de Petit-Canal avec l’association ornithologique Amazona (http://www.amazona-guadeloupe.com) Pensez à prendre chapeau\, eau\, chaussures de marche\, smartphone\n10h30 -12h30. Participez à l’inventaire des espèces végétales présentes sur le parc éolien de Petit-Canal avec l’Organisation Nationale des Forêts (http://www1.onf.fr/guadeloupe). Prendre chapeau\, eau\, chaussures de marche\, smartphone\n12h30 – 15h30 C’est la fête de la nature\, prenez part à l’évasion le temps d’un pique nique partagé\, d’une sieste contée et d’une balade découverte dans le parc éolien d’EDF Renouvelables à Petit-Canal. Venir avec : chapeau\, eau\, repas\, sérénitude\n16h – 18h Participez à l’inventaire des insectes et papillons présents sur le parc éolien de Petit-Canal avec Toni Jourdan\, entomologiste spécialiste des Petites Antilles. Prendre chapeau\, eau\, et chaussures de marche\, smartphone\n\n\n19h-21h Participez à l’inventaire des insectes nocturnes et scorpions présents sur le parc éolien de Petit-Canal avec Toni Jourdan\, entomologiste spécialiste des Petites Antilles Prendre eau\, frontale\, chaussures de marche\, smartphone\,\nVoir moins\n\n\n\n\nCauses
URL:https://www.maxetlisa.com/evenement/fete-de-la-nature/
LOCATION:Petit-Canal
CATEGORIES:Événements ponctuels,Nature
ATTACH;FMTTYPE=image/jpeg:https://www.maxetlisa.com/wp-content/uploads/2021/05/Fête-de-la-nature.jpg
END:VEVENT
BEGIN:VEVENT
DTSTART;TZID=America/Guadeloupe:20210522T083000
DTEND;TZID=America/Guadeloupe:20210522T100000
DTSTAMP:20260423T193333
CREATED:20210521T095140Z
LAST-MODIFIED:20210521T095140Z
UID:19013-1621672200-1621677600@www.maxetlisa.com
SUMMARY:Sortie découverte de la Mangrove - Gosier
DESCRIPTION:Dans le cadre de la Fête de la Nature\, l’Ecole de la Mer en partenariat avec EDF Archipel Guadeloupe vous donne rendez-vous samedi 22 à la plage des Salines au Gosier pour une sortie découverte de la mangrove.\nDépart à 8h30 et 10h30 (durée 1h30)\nPrévoir masque\, chaussures de marche\, casquette\, eau\, appareil photo ou téléphone\nAttention\, nombre de places disponibles limitées\, inscriptions au 0690 550 572
URL:https://www.maxetlisa.com/evenement/sortie-decouverte-de-la-mangrove-gosier/
LOCATION:Gosier
CATEGORIES:Événements ponctuels,Nature
ATTACH;FMTTYPE=image/png:https://www.maxetlisa.com/wp-content/uploads/2021/05/Ecole-de-la-mer.png
END:VEVENT
BEGIN:VEVENT
DTSTART;TZID=America/Guadeloupe:20210523T073000
DTEND;TZID=America/Guadeloupe:20210523T130000
DTSTAMP:20260423T193333
CREATED:20210514T094837Z
LAST-MODIFIED:20210514T094837Z
UID:18898-1621755000-1621774800@www.maxetlisa.com
SUMMARY:Rando Dégoudi an ba bwa - Pointe Noire
DESCRIPTION:
URL:https://www.maxetlisa.com/evenement/rando-degoudi-an-ba-bwa-pointe-noire/
CATEGORIES:Événements ponctuels,Randonnée
ATTACH;FMTTYPE=image/jpeg:https://www.maxetlisa.com/wp-content/uploads/2021/05/Dégoudi-en-ba-bwa.jpg
END:VEVENT
BEGIN:VEVENT
DTSTART;TZID=America/Guadeloupe:20210525T140000
DTEND;TZID=America/Guadeloupe:20210525T160000
DTSTAMP:20260423T193333
CREATED:20210521T093448Z
LAST-MODIFIED:20210521T093448Z
UID:19003-1621951200-1621958400@www.maxetlisa.com
SUMMARY:Atelier peinture - Morne à l'eau
DESCRIPTION:e vous propose de venir vous détendre autour d’un atelier peinture avec votre art-thérapeute Tania SENCÉE\nle mardi 25 mai de 14h à 16h sur la plage de Babin à Vieux Bourg Morne à l’Eau.\nSi vous n’êtes pas à l’atelier\, en attendant votre enfant\, nous vous invitons au massage avec Ursula.
URL:https://www.maxetlisa.com/evenement/atelier-peinture-morne-a-leau/
LOCATION:Morne à L’Eau\, Plage de Babin
CATEGORIES:Événements ponctuels,Idée d'activité
ATTACH;FMTTYPE=image/jpeg:https://www.maxetlisa.com/wp-content/uploads/2021/05/tania-sencé.jpg
END:VEVENT
BEGIN:VEVENT
DTSTART;TZID=America/Guadeloupe:20210525T140000
DTEND;TZID=America/Guadeloupe:20210525T160000
DTSTAMP:20260423T193333
CREATED:20210521T094705Z
LAST-MODIFIED:20210521T094705Z
UID:19008-1621951200-1621958400@www.maxetlisa.com
SUMMARY:Atelier peinture enfant - Morne à L'eau
DESCRIPTION:Je vous propose de venir vous détendre autour d’un atelier peinture avec votre art-thérapeute Tania SENCÉE\nle mardi 25 mai de 14h à 16h sur la plage de Babin à Vieux Bourg Morne à l’Eau.\nSi vous n’êtes pas à l’atelier\, en attendant votre enfant\, nous vous invitons au massage avec Ursula.
URL:https://www.maxetlisa.com/evenement/atelier-peinture-enfant-morne-a-leau/
LOCATION:Morne à L’Eau\, Plage de Babin
CATEGORIES:Événements ponctuels
ATTACH;FMTTYPE=image/jpeg:https://www.maxetlisa.com/wp-content/uploads/2021/05/tania-sencé.jpg
END:VEVENT
END:VCALENDAR