BEGIN:VCALENDAR
VERSION:2.0
PRODID:-//Max et Lisa - ECPv6.15.11//NONSGML v1.0//EN
CALSCALE:GREGORIAN
METHOD:PUBLISH
X-ORIGINAL-URL:https://www.maxetlisa.com
X-WR-CALDESC:Évènements pour Max et Lisa
REFRESH-INTERVAL;VALUE=DURATION:PT1H
X-Robots-Tag:noindex
X-PUBLISHED-TTL:PT1H
BEGIN:VTIMEZONE
TZID:America/Guadeloupe
BEGIN:STANDARD
TZOFFSETFROM:-0400
TZOFFSETTO:-0400
TZNAME:AST
DTSTART:20210101T000000
END:STANDARD
END:VTIMEZONE
BEGIN:VEVENT
DTSTART;TZID=America/Guadeloupe:20220112T140000
DTEND;TZID=America/Guadeloupe:20220331T153000
DTSTAMP:20260423T070609
CREATED:20220131T203648Z
LAST-MODIFIED:20220131T203652Z
UID:22920-1641996000-1648740600@www.maxetlisa.com
SUMMARY:Latilyé Gwoka dès 6 ans
DESCRIPTION:Latilyé Gwoka an-katié Lakwa avec Laurent Confiac & Klod Kiavué. Cet atelier rejoindra cette année 2022\, les différents pupitres de Démos dit « avancé »\, notamment sur les oeuvres musicales valorisant nos musiques traditionnelles ou caribéennes (Nombre de places limité)\n\nA
URL:https://www.maxetlisa.com/evenement/latilye-gwoka-des-6-ans/
LOCATION:Abymes
CATEGORIES:Événements ponctuels,Musique
ATTACH;FMTTYPE=image/jpeg:https://www.maxetlisa.com/wp-content/uploads/2022/01/272905552_4104237393012723_486191050513361049_n.jpg
END:VEVENT
BEGIN:VEVENT
DTSTART;TZID=America/Guadeloupe:20220205T160000
DTEND;TZID=America/Guadeloupe:20220205T170000
DTSTAMP:20260423T070609
CREATED:20220131T202203Z
LAST-MODIFIED:20220207T202801Z
UID:22916-1644076800-1644080400@www.maxetlisa.com
SUMMARY:SANKINIPLI- ORIGAMI
DESCRIPTION: \n\n \nVenez voir ou revoir SAKINIPLI origami spectacle tous publics\, samedi 5 février à 16h salle Félix Proto aux Abymes !\nUn spectacle alliant Conte\, théâtre\, danse et origami sur le thème de l’acceptation de soi !\nTarif : 10 euros.\nPass sanitaire et masque obligatoires.\nBillets en vente sur allmol :\nhttps://tickets.allmol.com/…/971_0502_sakinipli_origami…\n— à bergevin – pointe-à-pitre.A
URL:https://www.maxetlisa.com/evenement/sankinpli-origami/
LOCATION:Abymes
CATEGORIES:Événements ponctuels
ATTACH;FMTTYPE=image/jpeg:https://www.maxetlisa.com/wp-content/uploads/2022/01/272803575_5448220461876659_8612369063311453583_n.jpg
END:VEVENT
BEGIN:VEVENT
DTSTART;TZID=America/Guadeloupe:20220206T083000
DTEND;TZID=America/Guadeloupe:20220206T120000
DTSTAMP:20260423T070609
CREATED:20220123T230831Z
LAST-MODIFIED:20220207T203028Z
UID:22818-1644136200-1644148800@www.maxetlisa.com
SUMMARY:Rando zone humide à Saint-Félix
DESCRIPTION:Pour cette Journée Mondiale des Zones Humides\, Earthforce FS vous propose une rando tranquille et gratuite de découverte de la biodiversité de cet écosystème d’une importance capitale. Oiseaux\, petits mammifères\, crustacés et autres habitants vous seront expliqués par notre spécialiste\, biologiste et ornithologue Jérémy. Cette balade n’est pas compliquée et les enfants sont les bienvenus. Espérons seulement que les mesures sanitaires nous permettront cette visite et que la météo soit clémente.\nÉquipez-vous de bonnes chaussures\, de protection contre le soleil\, d’une gourde et éventuellement d’un encas à grignoter. N’oubliez pas l’appareil photo et des jumelles si vous en avez.\nA midi on peut manger à la Baie des Pélicans\, un resto sympa sur le port avec un menu traditionnel et très bon.\nBien évidemment\, toutes les mesures sanitaires en vigueur seront respectées lors de cette balade\, mais cela\, depuis le temps que nous vivons contraints\, vous en avez certainement l’habitude.\nVu que la date du 2 février tombe un mercredi\, cette rando se fera le dimanche 6 février. Rendez-vous au port de pêche devant la Baie des Pélicans.\n\n\n#earthforcefightsquad #pacifistwarriors #guerrierspacifistes\nVoir moins\n\n 
URL:https://www.maxetlisa.com/evenement/rando-zone-humide-a-saint-felix/
CATEGORIES:Ce week-end,Événements ponctuels,Famille
ATTACH;FMTTYPE=image/jpeg:https://www.maxetlisa.com/wp-content/uploads/2022/01/6-fev-Zones-Humides.jpg
END:VEVENT
BEGIN:VEVENT
DTSTART;TZID=America/Guadeloupe:20220206T093000
DTEND;TZID=America/Guadeloupe:20220206T123000
DTSTAMP:20260423T070609
CREATED:20220131T201055Z
LAST-MODIFIED:20220207T202607Z
UID:22905-1644139800-1644150600@www.maxetlisa.com
SUMMARY:CINE MATIN
DESCRIPTION:Le rdv créatif pour les enfants: 1 atelier créatif+1 Film VAILLANTE\nProgramme de l’atelier créatif:\nRéalisation d’un tableau en collage sur le thème du film.\nSupport en carton\, collage de papier pour faire un fond de ville puis collage de buchette pour faire le camion de pompier.\nPré réservation pour l’atelier @contact@maxetlisa.coma
URL:https://www.maxetlisa.com/evenement/cine-matin/
LOCATION:Abymes
CATEGORIES:Événements ponctuels,Loisirs créatifs
ATTACH;FMTTYPE=image/jpeg:https://www.maxetlisa.com/wp-content/uploads/2022/01/060222.jpg
END:VEVENT
BEGIN:VEVENT
DTSTART;TZID=America/Guadeloupe:20220212T140000
DTEND;TZID=America/Guadeloupe:20220212T160000
DTSTAMP:20260423T070609
CREATED:20220202T143905Z
LAST-MODIFIED:20220202T143909Z
UID:22965-1644674400-1644681600@www.maxetlisa.com
SUMMARY:Portes ouvertes
DESCRIPTION:
URL:https://www.maxetlisa.com/evenement/portes-ouvertes/
LOCATION:Gosier
CATEGORIES:Art,Enfant,Événements ponctuels
ATTACH;FMTTYPE=image/jpeg:https://www.maxetlisa.com/wp-content/uploads/2022/02/272864206_10159761829752929_249402131462221095_n.jpg
END:VEVENT
BEGIN:VEVENT
DTSTART;TZID=America/Guadeloupe:20220221T140000
DTEND;TZID=America/Guadeloupe:20220221T170000
DTSTAMP:20260423T070609
CREATED:20220131T201648Z
LAST-MODIFIED:20220202T104514Z
UID:22910-1645452000-1645462800@www.maxetlisa.com
SUMMARY:Atelier décoration de pâtisserie
DESCRIPTION:Atelier ENFANTS \n\n\n Atelier ti moun \n18 janvier\n\n\nPour la première venu en Guadeloupe de notre talentueuse leta angulo\n\n\nElle vous propose le 18 janvier 2 ateliers enfant de décoration de biscuits en glace royale\n\n\nThème minie : à partir de 6ans 45€ de 9h30 à 11h30\nLes enfants repartent avec leurs biscuits.\n\n\nThème poupée lol : à partir de 8ans de 14h à 17h\n60€\n\n\nL’atelier aura lieu dans les locaux de pâtisserie C&S à saint François\n\n\nInscriptions au 0690937024\n\n 
URL:https://www.maxetlisa.com/evenement/atelier-patisserie-decoratif/
LOCATION:Saint François
CATEGORIES:Événements ponctuels,Pâtisserie
ATTACH;FMTTYPE=image/jpeg:https://www.maxetlisa.com/wp-content/uploads/2022/01/272858754_1716671272038731_2437986188171385352_n.jpg
END:VEVENT
END:VCALENDAR