BEGIN:VCALENDAR
VERSION:2.0
PRODID:-//Max et Lisa - ECPv6.15.11//NONSGML v1.0//EN
CALSCALE:GREGORIAN
METHOD:PUBLISH
X-WR-CALNAME:Max et Lisa
X-ORIGINAL-URL:https://www.maxetlisa.com
X-WR-CALDESC:Évènements pour Max et Lisa
REFRESH-INTERVAL;VALUE=DURATION:PT1H
X-Robots-Tag:noindex
X-PUBLISHED-TTL:PT1H
BEGIN:VTIMEZONE
TZID:America/Guadeloupe
BEGIN:STANDARD
TZOFFSETFROM:-0400
TZOFFSETTO:-0400
TZNAME:AST
DTSTART:20220101T000000
END:STANDARD
END:VTIMEZONE
BEGIN:VEVENT
DTSTART;TZID=America/Guadeloupe:20230119T080000
DTEND;TZID=America/Guadeloupe:20230122T170000
DTSTAMP:20260422T140253
CREATED:20230119T055556Z
LAST-MODIFIED:20230127T060641Z
UID:29905-1674115200-1674406800@www.maxetlisa.com
SUMMARY:𝟳𝗲̀𝗺𝗲 𝗲́𝗱𝗶𝘁𝗶𝗼𝗻 𝗱𝗲𝘀 𝗻𝘂𝗶𝘁𝘀 𝗱𝗲 𝗹𝗮 𝗹𝗲𝗰𝘁𝘂𝗿𝗲 : 𝗹𝗮 𝗣𝗲𝘂𝗿📚😱📚
DESCRIPTION:Les 7e Nuits de la lecture\, organisées pour la deuxième année consécutive par le Centre national du livre sur proposition du ministère de la Culture\, se tiendront du 19 au 22 janvier 2023 au cours de quatre soirées\, avec un temps fort le samedi 21 janvier.\n\nLE PROGRAMME EN GUADELOUPE : \n	202301-Programme-Lecture.pdf\n\n\n\n\nEn Guadeloupe\, la Bibliothèque départementale mène avec le réseau de bibliothèques et médiathèques\, une action concertée dans le cadre des Nuits de la lecture. Ainsi le thème de la Peur se décline au travers des nombreuses propositions d’animations diverses\, originales\, insolites parfois. Actions qu’on peut retrouver en ligne\, via les outils numériques ou par un accueil sur place au sein des 17 bibliothèques participantes.\n\n\n Découvrir le programme complet: http://bit.ly/3ke4x4G
URL:https://www.maxetlisa.com/evenement/%f0%9d%9f%b3%f0%9d%97%b2%f0%9d%97%ba%f0%9d%97%b2-%f0%9d%97%b2%f0%9d%97%b1%f0%9d%97%b6%f0%9d%98%81%f0%9d%97%b6%f0%9d%97%bc%f0%9d%97%bb-%f0%9d%97%b1%f0%9d%97%b2%f0%9d%98%80-%f0%9d%97%bb/
CATEGORIES:Événements ponctuels,Lecture
ATTACH;FMTTYPE=image/jpeg:https://www.maxetlisa.com/wp-content/uploads/2023/01/Nuit-de-la-lecture.jpg
END:VEVENT
BEGIN:VEVENT
DTSTART;TZID=America/Guadeloupe:20230120T080000
DTEND;TZID=America/Guadeloupe:20230122T170000
DTSTAMP:20260422T140253
CREATED:20230119T060225Z
LAST-MODIFIED:20230127T060606Z
UID:29912-1674201600-1674406800@www.maxetlisa.com
SUMMARY:Destreland SHOW D'OBSTACLE
DESCRIPTION:Il y aura du spectacle ce week-end sur la pelouse de #Destreland !\nEntre technique et agilité\, le Destreland Show d’Obstacles vous offrira les plus beaux sauts !\nVenez les admirer en famille ou entre amis les 20\, 21 & 22 janvier 2023 !\n\n\n\nAu programme :\n\nVENDREDI 20 JANVIER 2023\n14H00 : Préparatoire 0\,95m – Barème A – Prix WERIA/EGER\n16H10 : Préparatoire 0\,85m – Barème A – Prix AXE/CHLOREX\n18H30 : Amateur équipe 1\,10m – Barème A chrono – Prix SFR/CCAG\n\n\nSAMEDI 21 JANVIER 2023\n8H30 : Club 1 (0\,95m) – Super 10 A + A chrono – Grand prix Guadeloupe propreté\n12H10 : Amateur 2 (1\,10m) – Temps différé – Grand prix Arcelor Mittal\n13H50 : Club Élite (1\,05m) – Barème A chrono – Prix JEFF VANDYCK/ Decathlon\n15H50 : Club 2 (0\,85m) – Équipe de 4 A chrono – Grand prix Pepsi\nAnimation voltige\n19H40 : Amateur 1 (1\,20m) – Super 10 A + A chrono – Prix Mercedes\n\n\nDIMANCHE 22 JANVIER 2023\n10H00 : Amateur 1 (1\,15m) – Barème C – Prix Canal+\n12H00 : Club 1 (0\,95m) – Vitesse Équipe de 4 A chrono – Prix Président/ Maybelline\n14H45 : Amateur Élite (1\,25m) – Super 10 – Grand prix Région Guadeloupe / Destreland\nAnimation canine\n16H15 : Club Élite (1\,05m) – A chrono + barrage au chrono – Prix Lu/ Café Lesueur\n\n\n\nToutes les informations sont disponibles sur notre site : https://bit.ly/3CDTbgH
URL:https://www.maxetlisa.com/evenement/destreland-show-dobstacle/
LOCATION:Baie Mahault
CATEGORIES:Événements ponctuels
ATTACH;FMTTYPE=image/jpeg:https://www.maxetlisa.com/wp-content/uploads/2023/01/Destreland.jpg
END:VEVENT
BEGIN:VEVENT
DTSTART;TZID=America/Guadeloupe:20230121T080000
DTEND;TZID=America/Guadeloupe:20230122T170000
DTSTAMP:20260422T140253
CREATED:20230120T075032Z
LAST-MODIFIED:20230120T075235Z
UID:29949-1674288000-1674406800@www.maxetlisa.com
SUMMARY:Course d'orientation en famille +13 ans
DESCRIPTION:Envie de passer un bon moment en famille ou alors envie de se challenger pour les + de 13 ans? Connaissez vous la course d´orientation?\n\n\nEn marchant ou en courant\, le but est de trouver le plus de « balises » cachées sur la plage des Amandiers à l’aide d’une carte.\n\n\n2 possibilités:\nEn EQUIPE de 3 ou 4\, en famille ou entre amis. Adapté à tous\, à partir de 6ans\, sportifs ou non!\nOu alors pour les plus sportifs et challengers de plus de 13 ans\, en INDIVIDUEL\, et en mode performance avec classement. Ados\, ou adultes novices ou confirmés si vous aimez les défis\, cette option est faite pour vous.\n\n\nPas de trail des enfants cette année mais une expérience inédite et familiale proposée par Sab’in MOOV – sabinmoov – pour découvrir une activité que les greens adorent.\n\n\nUne participation de 5eur par personne sera demandée\, Un ravitaillement green et local sera ensuite servi.\nRendez vous donc plage des amandiers le samedi 21 JANVIER à partir de 10h30. Pour une meilleure organisation\, n´oubliez pas de vous inscrire via ce lien:\n\n\nhttps://docs.google.com/…/1FAIpQLSfE21MD0OKpD…/viewform
URL:https://www.maxetlisa.com/evenement/course-dorientation-en-famille-13-ans/
LOCATION:Sainte Rose
CATEGORIES:Événements ponctuels,Sport
ATTACH;FMTTYPE=image/jpeg:https://www.maxetlisa.com/wp-content/uploads/2023/01/team-gwada-run-green.jpg
END:VEVENT
BEGIN:VEVENT
DTSTART;TZID=America/Guadeloupe:20230121T080000
DTEND;TZID=America/Guadeloupe:20230128T160000
DTSTAMP:20260422T140253
CREATED:20230120T074032Z
LAST-MODIFIED:20230120T074400Z
UID:29945-1674288000-1674921600@www.maxetlisa.com
SUMMARY:Nouveau Journée Jeux de société - Bouillante
DESCRIPTION:Nouveau Journée Jeux de société !!\nSamedi 21 janvier 8h-16h\nInscription whatsapp au 0690 84-0306
URL:https://www.maxetlisa.com/evenement/nouveau-journee-jeux-de-societe-bouillante/
LOCATION:Bouillante
CATEGORIES:Événements ponctuels
ATTACH;FMTTYPE=image/jpeg:https://www.maxetlisa.com/wp-content/uploads/2023/01/Association-Karaibes-animation.jpg
END:VEVENT
BEGIN:VEVENT
DTSTART;TZID=America/Guadeloupe:20230121T090000
DTEND;TZID=America/Guadeloupe:20230121T120000
DTSTAMP:20260422T140253
CREATED:20230120T081021Z
LAST-MODIFIED:20230120T081023Z
UID:29961-1674291600-1674302400@www.maxetlisa.com
SUMMARY:Atelier Dessin et Illustration\, samedi 21 janvier de 09 h à 12 h ! 🤩✍️
DESCRIPTION:Venez découvrir ou redécouvrir les bases du dessin et de l’illustration tout en maîtrisant de nouvelles techniques avec Didier Duroc\, artiste professionnel et illustrateur de plusieurs livres et bandes dessinées !\n\n\nDe la création des personnages\, au découpage d’une planche en passant par l’encrage et la mise en couleur\, n’hésitez plus\, cet atelier est fait pour vous !\n\n\nPrix 50 ttc (tous les matériaux inclus)\n\n\nInscrivez-vous dès maintenant :\n par mail : contact@ioburo.qgp\n par téléphone : 0590.54.05.54\n directement en magasin\n sur notre site internet: www.ioburo.gp
URL:https://www.maxetlisa.com/evenement/atelier-dessin-et-illustration-samedi-21-janvier-de-09-h-a-12-h-%f0%9f%a4%a9%e2%9c%8d%ef%b8%8f/
LOCATION:Jarry
CATEGORIES:Dessin,Événements ponctuels
ATTACH;FMTTYPE=image/jpeg:https://www.maxetlisa.com/wp-content/uploads/2023/01/Io-bureau-Guadeloupe-3.jpg
END:VEVENT
BEGIN:VEVENT
DTSTART;TZID=America/Guadeloupe:20230121T140000
DTEND;TZID=America/Guadeloupe:20230121T170000
DTSTAMP:20260422T140253
CREATED:20230120T080616Z
LAST-MODIFIED:20230120T080618Z
UID:29957-1674309600-1674320400@www.maxetlisa.com
SUMMARY:Atelier Dessin Manga\, samedi 21 janvier de 14h à 17h !  🤩
DESCRIPTION:Vous souhaitez vous initier au dessin manga à travers ses différentes techniques avec un mangaka et illustrateur professionnel ? Cet atelier est fait pour vous !\n\n\nCet atelier s’adresse aux débutants intéressés par l’univers du dessin manga\, mais également aux plus confirmés souhaitant améliorer leur technique et avoir le regard d’un professionnel sur leur projet.\n\n\nStimuler et développer votre imagination afin de créer votre propre univers manga\, dans une ambiance chaleureuse et studieuse !\n\n\nPrix 50€ ttc (tous les matériaux inclus)\n\n\nInscrivez-vous dès maintenant :\n par mail : contact@ioburo.gp\n par téléphone : 0590.54.05.54\n directement en magasin\n sur notre site internet: www.ioburo.gp
URL:https://www.maxetlisa.com/evenement/atelier-dessin-manga-samedi-21-janvier-de-14h-a-17h-%f0%9f%a4%a9/
LOCATION:Jarry
CATEGORIES:Événements ponctuels
ATTACH;FMTTYPE=image/jpeg:https://www.maxetlisa.com/wp-content/uploads/2023/01/Ioburo-Guadeloupe.jpg
END:VEVENT
BEGIN:VEVENT
DTSTART;TZID=America/Guadeloupe:20230121T160000
DTEND;TZID=America/Guadeloupe:20230121T200000
DTSTAMP:20260422T140253
CREATED:20230120T073723Z
LAST-MODIFIED:20230127T060721Z
UID:29941-1674316800-1674331200@www.maxetlisa.com
SUMMARY:Spectacle de Danse le Samedi 21 Janvier au ciné théâtre du Lamentin.
DESCRIPTION:Spectacle de Danse le Samedi 21 Janvier au ciné théâtre du Lamentin.\nPour récupérer vos places il vous suffit de cliquer sur le lien suivant: https://bit.ly/3jK4Q7b.\nRenseignements : 0690 41 10 10
URL:https://www.maxetlisa.com/evenement/spectacle-de-danse-le-samedi-21-janvier-au-cine-theatre-du-lamentin/
LOCATION:Lamentin
CATEGORIES:Événements ponctuels
ATTACH;FMTTYPE=image/jpeg:https://www.maxetlisa.com/wp-content/uploads/2023/01/Liliane-Bimont.jpg
END:VEVENT
BEGIN:VEVENT
DTSTART;TZID=America/Guadeloupe:20230122T080000
DTEND;TZID=America/Guadeloupe:20230122T120000
DTSTAMP:20260422T140253
CREATED:20230120T080033Z
LAST-MODIFIED:20230120T080035Z
UID:29953-1674374400-1674388800@www.maxetlisa.com
SUMMARY:RANDONNÉE La Cascade Bois Malaisé Bouillante 🤗 A partir de 8 ans
DESCRIPTION:DIMANCHE 22 JANVIER\n\n\nRANDONNÉE La Cascade Bois Malaisé Bouillante \n\n\n Petit détour dans les hauteurs de Bouillante\, pour une rando à l’allure vivifiante\n\n\n Infos pratiques\n Niveau : 2 (Moyen); durée 3h30.\n Enfants à partir de 8 ans.\n Points techniques: Détails à consulter sur le site.\n Inscriptions & Compléments d’infos:\n\n\nCliquez sur le lien \nhttps://www.bwalansan.fr/actualites/cascade-bois-malaise-2/\n\n\nPour en savoir plus sur l’association\nRDV sur notre site internet\nwww.bwalansan.fr\nou  0690198740\n&  0590921972
URL:https://www.maxetlisa.com/evenement/randonnee-la-cascade-bois-malaise-bouillante-%f0%9f%a4%97-a-partir-de-8-ans/
LOCATION:Bouillante
CATEGORIES:Événements ponctuels,Sport
ATTACH;FMTTYPE=image/jpeg:https://www.maxetlisa.com/wp-content/uploads/2023/01/bwa-lansan.jpg
END:VEVENT
BEGIN:VEVENT
DTSTART;TZID=America/Guadeloupe:20230125T143000
DTEND;TZID=America/Guadeloupe:20230125T163000
DTSTAMP:20260422T140253
CREATED:20230120T073003Z
LAST-MODIFIED:20230127T060756Z
UID:29937-1674657000-1674664200@www.maxetlisa.com
SUMMARY:Atelier Création de masques\, mercredi 25 janvier de 14h30 à 16h30 ! 🎉
DESCRIPTION:À travers cet atelier animé par Natshanti\, créez vos masques de carnaval ou de décorations style africains et amérindiens à partir de la pâte polymère Air dry.\n\n\nAccessible à tous\, libérez votre créativité afin de réaliser des masques que vous pourriez utiliser lors des festivités de carnaval\, ou arborer fièrement en tant que décorations d’intérieures !\n\n\nEnfants\, comme adultes\, Natshanti saura vous faire découvrir vos talents créateurs !\n\n\nPrix 35€ ttc (tous les matériaux inclus)\n\n\nInscrivez-vous dès maintenant :\n\n\n par mail : contact@ioburo.gp\n par téléphone : 0590.54.05.54\n directement en magasin\n sur notre site intérêt : www.ioburo.gp
URL:https://www.maxetlisa.com/evenement/atelier-creation-de-masques-mercredi-25-janvier-de-14h30-a-16h30-%f0%9f%8e%89/
LOCATION:Jarry
CATEGORIES:Événements ponctuels,Loisirs créatifs
ATTACH;FMTTYPE=image/jpeg:https://www.maxetlisa.com/wp-content/uploads/2023/01/ioburo.guadeloupe.jpg
END:VEVENT
END:VCALENDAR