BEGIN:VCALENDAR
VERSION:2.0
PRODID:-//Max et Lisa - ECPv6.15.11//NONSGML v1.0//EN
CALSCALE:GREGORIAN
METHOD:PUBLISH
X-WR-CALNAME:Max et Lisa
X-ORIGINAL-URL:https://www.maxetlisa.com
X-WR-CALDESC:Évènements pour Max et Lisa
REFRESH-INTERVAL;VALUE=DURATION:PT1H
X-Robots-Tag:noindex
X-PUBLISHED-TTL:PT1H
BEGIN:VTIMEZONE
TZID:America/Guadeloupe
BEGIN:STANDARD
TZOFFSETFROM:-0400
TZOFFSETTO:-0400
TZNAME:AST
DTSTART:20190101T000000
END:STANDARD
END:VTIMEZONE
BEGIN:VEVENT
DTSTART;TZID=America/Guadeloupe:20200705T080000
DTEND;TZID=America/Guadeloupe:20200705T170000
DTSTAMP:20260424T071314
CREATED:20200701T121604Z
LAST-MODIFIED:20200706T161132Z
UID:12346-1593936000-1593968400@www.maxetlisa.com
SUMMARY:« *Dégoudi Anba Bwa* » de l' Association *YÉ MANMAN YÉ* !
DESCRIPTION:Le *Dimanche 5 Juillet* 2020\, nous vous emmenons sur un très beau parcours entre centre-ville et littoral\, dans la commune de Vieux-Fort 🗼 \n🔦 Notre guide pour cette prochaine sortie : *David NAZAIRE* (Guide de Montagne certifié). \n**Baignade en fin de parcours\, libre et non-surveillée.* \n– Prière de vous munir de vos médicaments en cas de traitement (asthme\, allergies..) \nPour valider votre inscription\, Merci de préciser lors de votre retour: \n– Noms complets des adultes\, les prénoms des enfants \n– Age des enfants \n– Numéro de tél \n– Location Porte-bébé Rando dorsal avec Bébé Lou. Tarif 10€ (Non ad.) / 4€ (Adhérent)/ 8 à 18kg maxi. ‼A réserver à l’ avance! \n– Nombre de Collations \n🥙 *COLLATION* avec Aksel de Manjé Zayann ! \n– 1 mini Kasav salée\n– 1 mini Kasav sucrée\n– 1 verre de thé glacé maison \n🔔RDV 8h\, parking de la mairie de Vieux-Fort😉. \n📞Contact: Natacha 0690 695 991 / Audrey 0690 628 298🔆🔆
URL:https://www.maxetlisa.com/evenement/degoudi-anba-bwa-de-l-association-ye-manman-ye-3/
LOCATION:Vieux Fort\, Parking de la Mairie\, Vieux Fort
CATEGORIES:Événements ponctuels,Nature,Randonnée,Sport
ATTACH;FMTTYPE=image/jpeg:https://www.maxetlisa.com/wp-content/uploads/2020/07/Dégoudi-Vieux-Fort.jpg
END:VEVENT
END:VCALENDAR