BEGIN:VCALENDAR
VERSION:2.0
PRODID:-//Max et Lisa - ECPv6.15.11//NONSGML v1.0//EN
CALSCALE:GREGORIAN
METHOD:PUBLISH
X-ORIGINAL-URL:https://www.maxetlisa.com
X-WR-CALDESC:Évènements pour Max et Lisa
REFRESH-INTERVAL;VALUE=DURATION:PT1H
X-Robots-Tag:noindex
X-PUBLISHED-TTL:PT1H
BEGIN:VTIMEZONE
TZID:America/Guadeloupe
BEGIN:STANDARD
TZOFFSETFROM:-0400
TZOFFSETTO:-0400
TZNAME:AST
DTSTART:20190101T000000
END:STANDARD
END:VTIMEZONE
BEGIN:VEVENT
DTSTART;TZID=America/Guadeloupe:20200708T200000
DTEND;TZID=America/Guadeloupe:20200714T230000
DTSTAMP:20260424T071621
CREATED:20200708T173421Z
LAST-MODIFIED:20200708T173421Z
UID:12482-1594238400-1594767600@www.maxetlisa.com
SUMMARY:Festival de Gwoka de Sainte-Anne 2020 - Edition inédite
DESCRIPTION:L’Association Guadeloupe Patrimoine soutient le CASC et le Festival de Gwoka de Sainte-Anne cette année 2020 compte tenu de la crise sanitaire mondiale qui affecte l’économie\, le monde culturel et l’environnement. \nUn programme allégé sous un format inédit est mis en place en partenariat avec le CASC pour vivre le Festival de Gwoka de Sainte-Anne autrement. \nLe rendez-vous est pris du mercredi 8 au mardi 14 juillet 2020 dans la Ville de Sainte-Anne autour des associations culturelles et environnementales\, des artistes du territoire\, des restaurateurs du bourg et autres acteurs qui gravitent autour de cet événement annuel. \nFèstival pou timoun avec Lakou Veranda.\nJournée du patrimoine avec Rézilyans971.\nDriv Mizikal en collaboration avec les restaurateurs de la Ville.\nAteliers & Bokantaj + déjeuner-partage organisés par l’Association Guadeloupe Patrimoine. \nCe Festival pourra se vivre en petits comités au cœur de la Ville ou à distance via les diffusions en LIVE sur la page de l’événement. \nINFOS & CONTACT : guadeloupepatrimoine@gmail.com\nPartenaires : Festival de Gwoka de Sainte-Anne\, Ville de Sainte-Anne Guadeloupe\, Laisse Passer
URL:https://www.maxetlisa.com/evenement/festival-de-gwoka-de-sainte-anne-2020-edition-inedite/
LOCATION:Sainte Anne
CATEGORIES:Événements ponctuels,Famille,Timoun en vakans,Vacances scolaires
ATTACH;FMTTYPE=image/jpeg:https://www.maxetlisa.com/wp-content/uploads/2020/07/Festival-de-Gwo-Ka.jpg
END:VEVENT
BEGIN:VEVENT
DTSTART;TZID=America/Guadeloupe:20200709T150000
DTEND;TZID=America/Guadeloupe:20200719T180000
DTSTAMP:20260424T071621
CREATED:20200709T180535Z
LAST-MODIFIED:20200709T180535Z
UID:12499-1594306800-1595181600@www.maxetlisa.com
SUMMARY:PARTIR EN LIVRE
DESCRIPTION:La BD sous les sabliers\, la fête du livre de 15h à 18h
URL:https://www.maxetlisa.com/evenement/partir-en-livre-2/
LOCATION:Pointe à Pitre\, Place de la victoire\, Pointe à Pitre\, 97110
CATEGORIES:Événements ponctuels,Famille
ATTACH;FMTTYPE=image/png:https://www.maxetlisa.com/wp-content/uploads/2020/07/Partir-en-livre.png
END:VEVENT
END:VCALENDAR