BEGIN:VCALENDAR
VERSION:2.0
PRODID:-//Max et Lisa - ECPv6.15.11//NONSGML v1.0//EN
CALSCALE:GREGORIAN
METHOD:PUBLISH
X-WR-CALNAME:Max et Lisa
X-ORIGINAL-URL:https://www.maxetlisa.com
X-WR-CALDESC:Évènements pour Max et Lisa
REFRESH-INTERVAL;VALUE=DURATION:PT1H
X-Robots-Tag:noindex
X-PUBLISHED-TTL:PT1H
BEGIN:VTIMEZONE
TZID:America/Guadeloupe
BEGIN:STANDARD
TZOFFSETFROM:-0400
TZOFFSETTO:-0400
TZNAME:AST
DTSTART:20190101T000000
END:STANDARD
END:VTIMEZONE
BEGIN:VEVENT
DTSTART;TZID=America/Guadeloupe:20200723T080000
DTEND;TZID=America/Guadeloupe:20200822T170000
DTSTAMP:20260424T071411
CREATED:20200723T165411Z
LAST-MODIFIED:20200824T174446Z
UID:12769-1595491200-1598115600@www.maxetlisa.com
SUMMARY:TourizmAKaz
DESCRIPTION:jusqu’au 22 Août 2020\, la Ville des Abymes propose des ateliers de peinture\, ateliers culinaires\, balade pédestre\, contes\, jou a sowbé péyi\, chasse au trésor en Bip-Bip\, et bien d’autres…
URL:https://www.maxetlisa.com/evenement/tourizmakaz/
LOCATION:Abymes\, Taonaba
CATEGORIES:Événements ponctuels,Famille,Idée de sortie famille
ATTACH;FMTTYPE=image/jpeg:https://www.maxetlisa.com/wp-content/uploads/2020/07/TourizmAkaz.jpg
END:VEVENT
BEGIN:VEVENT
DTSTART;TZID=America/Guadeloupe:20200801T080000
DTEND;TZID=America/Guadeloupe:20200823T170000
DTSTAMP:20260424T071411
CREATED:20200723T170105Z
LAST-MODIFIED:20200824T174400Z
UID:12774-1596268800-1598202000@www.maxetlisa.com
SUMMARY:Nature et culture en découverte
DESCRIPTION:Le 1er Août 2020 marque le début du programme d’animation du Parc national de la Guadeloupe pour une période de trois semaines . Pour cette édition \, le parc offre des prestations diverses et variées\, en proposant un large choix au public. Des randonnées aquatiques\, pédestres\, des ateliers d’expression artistique\, et des animations nocturnes rythmeront ces 20 jours d’animations. \nInscription uniquement par téléphone 0590 41 55 67
URL:https://www.maxetlisa.com/evenement/nature-et-culture-en-decouverte/
LOCATION:Guadeloupe
CATEGORIES:Événements ponctuels,Famille
ATTACH;FMTTYPE=image/jpeg:https://www.maxetlisa.com/wp-content/uploads/2020/07/Parc-National.jpg
END:VEVENT
BEGIN:VEVENT
DTSTART;TZID=America/Guadeloupe:20200803T083000
DTEND;TZID=America/Guadeloupe:20200814T143000
DTSTAMP:20260424T071411
CREATED:20200706T091827Z
LAST-MODIFIED:20200706T091827Z
UID:12431-1596443400-1597415400@www.maxetlisa.com
SUMMARY:Club nature enfant "Jaden a Timoun"
DESCRIPTION:Jaden a Timoun \nDu 3 août 2020 au 14 août 2020 faites découvrir à vos enfants notre monde végétal.\nEntre découverte de la faune et de la flore locale\, de l’apiculture\, de nos plantes et leur utilisation\, ainsi que du jardinage au naturel\, nous proposons à vos enfants une expérience unique.\nLe stage se déroulera au Jardin d’Alexina dans le bourg du Gosier du lundi au vendredi de 8h30 à 14h30. \n2 semaines consacrées à la nature : \n03/08/20 : Découverte de la faune et de la flore locale\n04/08/20 : Découverte de l’Apiculture\n05/08/20 Reconnaissance de plantes\n06 /08/20 Chasse aux trésors « les plantes merveilleuses  »\n07/08/20 Réalisa ta peinture végétale ainsi que ton pinceau\n10/08/20 Découvre les amis et ennemis du jardin\n11/08/20 Atelier autour de la mare\n12/08/20 Semer et bouturer ses plantes\n13/08/20 Réalisation d’un bac aromatique\n14/08/20 Blind test / réalisation d’un goûter à base de plantes \nChaque jour un didiko sera offert et partagé \nTarif :\n400€ les 10 ateliers (payable en 3 frais sans frais)\n46€ par atelier unique \nNombre d’inscription limitée à 12 personnes \nRéservation OBLIGATOIRE\nhttps://centpourcentzeb.learnybox.com/inscription-jaden-a-timoun/\nPour tout autre moyen de paiement ou questions merci de nous contacter au\n06.90.28.37.51
URL:https://www.maxetlisa.com/evenement/club-nature-enfant-jaden-a-timoun/
LOCATION:Gosier\, Le Jardin Alexina Impasse Nicolas Ballet\, Gosier\, 97190
CATEGORIES:Ateliers,Événements ponctuels,Nature,Timoun en vakans,Vacances scolaires
ATTACH;FMTTYPE=image/jpeg:https://www.maxetlisa.com/wp-content/uploads/2020/07/100ùzeb.jpg
END:VEVENT
BEGIN:VEVENT
DTSTART;TZID=America/Guadeloupe:20200809T070000
DTEND;TZID=America/Guadeloupe:20200809T110000
DTSTAMP:20260424T071411
CREATED:20200807T094854Z
LAST-MODIFIED:20200807T094854Z
UID:13139-1596956400-1596970800@www.maxetlisa.com
SUMMARY:Opération "Pwopté pow an nou"
DESCRIPTION:Opération « Pwopté pow an ou » Nettoyons notre port!\nNous vous invitons tous à Saint-François à nettoyer le port de pêche. Veuillez vous munir d’une protection solaire\, Chapeau/casquettes. Vous sera fournis sur place les gants et sacs poubelle. Vous sera offert une collation.\nTous ceux qui veulent également nous aider seront bienvenue (sacs poubelle\, gants\, gel hydroalcoolique\, masques\, eau\, jus\, sandwichs\, fruits ….). Nous vous remercions à l’avance de votre participation quel quelle soient. Nous vous attendons nombreux ce Dimanche!
URL:https://www.maxetlisa.com/evenement/operation-pwopte-pow-an-nou/
LOCATION:Saint François\, Saint François
CATEGORIES:Ado,Enfant,Événements ponctuels,Famille,Nature
ATTACH;FMTTYPE=image/png:https://www.maxetlisa.com/wp-content/uploads/2020/08/PWOPTé-pow-an-nou.png
END:VEVENT
BEGIN:VEVENT
DTSTART;TZID=America/Guadeloupe:20200809T080000
DTEND;TZID=America/Guadeloupe:20200809T120000
DTSTAMP:20260424T071411
CREATED:20200806T122734Z
LAST-MODIFIED:20200806T124514Z
UID:13086-1596960000-1596974400@www.maxetlisa.com
SUMMARY:La balade en famille
DESCRIPTION:Tous à vélo pour une grande balade au cœur de Pointe-à-Pitre. \nParticipation gratuite avec son vélo.\nLocation de vélo possible à 5€. Une pièce d’identité vous sera demandée. \nLe parcours : \n– Départ : Local du consensus\n– Boulevard Légitimus\n– Rue Frébault\n– Marché aux épices\n– Place de la victoire\n– Carénage\n– Place du Mémorial ACTe\n– Chemin neuf\n– Rue Denfert\n– Rue Commandant Mortenol\n– Place de l’Hotel de ville\n– Boulevard Chanzy\n– Boulevard Légitimus\n– Place Guy Tyrolien\n– Lauricisque\n– Parcours Sportif\n– Local du Consensus Pointois
URL:https://www.maxetlisa.com/evenement/la-balade-en-famille/
LOCATION:Pointe à pitre\, Pointe à pitre\, 97110
CATEGORIES:Ado,Enfant,Événements ponctuels,Famille,Sport
ATTACH;FMTTYPE=image/jpeg:https://www.maxetlisa.com/wp-content/uploads/2020/08/La-balade-en-famille-Consensus-pointois.jpg
END:VEVENT
BEGIN:VEVENT
DTSTART;TZID=America/Guadeloupe:20200809T090000
DTEND;TZID=America/Guadeloupe:20200809T110000
DTSTAMP:20260424T071411
CREATED:20200806T123254Z
LAST-MODIFIED:20200806T123254Z
UID:13092-1596963600-1596970800@www.maxetlisa.com
SUMMARY:Balade pédagogique autour de La Biodiversité
DESCRIPTION:
URL:https://www.maxetlisa.com/evenement/balade-pedagogique-autour-de-la-biodiversite/
LOCATION:Abymes
CATEGORIES:Ado,Enfant,Événements ponctuels,Famille
ATTACH;FMTTYPE=image/jpeg:https://www.maxetlisa.com/wp-content/uploads/2020/08/Balade-pédagogique-autour-de-la-biodiversité.jpg
END:VEVENT
END:VCALENDAR