BEGIN:VCALENDAR
VERSION:2.0
PRODID:-//Max et Lisa - ECPv6.15.11//NONSGML v1.0//EN
CALSCALE:GREGORIAN
METHOD:PUBLISH
X-ORIGINAL-URL:https://www.maxetlisa.com
X-WR-CALDESC:Évènements pour Max et Lisa
REFRESH-INTERVAL;VALUE=DURATION:PT1H
X-Robots-Tag:noindex
X-PUBLISHED-TTL:PT1H
BEGIN:VTIMEZONE
TZID:America/Guadeloupe
BEGIN:STANDARD
TZOFFSETFROM:-0400
TZOFFSETTO:-0400
TZNAME:AST
DTSTART:20190101T000000
END:STANDARD
END:VTIMEZONE
BEGIN:VEVENT
DTSTART;TZID=America/Guadeloupe:20200723T080000
DTEND;TZID=America/Guadeloupe:20200822T170000
DTSTAMP:20260424T061926
CREATED:20200723T165411Z
LAST-MODIFIED:20200824T174446Z
UID:12769-1595491200-1598115600@www.maxetlisa.com
SUMMARY:TourizmAKaz
DESCRIPTION:jusqu’au 22 Août 2020\, la Ville des Abymes propose des ateliers de peinture\, ateliers culinaires\, balade pédestre\, contes\, jou a sowbé péyi\, chasse au trésor en Bip-Bip\, et bien d’autres…
URL:https://www.maxetlisa.com/evenement/tourizmakaz/
LOCATION:Abymes\, Taonaba
CATEGORIES:Événements ponctuels,Famille,Idée de sortie famille
ATTACH;FMTTYPE=image/jpeg:https://www.maxetlisa.com/wp-content/uploads/2020/07/TourizmAkaz.jpg
END:VEVENT
BEGIN:VEVENT
DTSTART;TZID=America/Guadeloupe:20200801T080000
DTEND;TZID=America/Guadeloupe:20200823T170000
DTSTAMP:20260424T061926
CREATED:20200723T170105Z
LAST-MODIFIED:20200824T174400Z
UID:12774-1596268800-1598202000@www.maxetlisa.com
SUMMARY:Nature et culture en découverte
DESCRIPTION:Le 1er Août 2020 marque le début du programme d’animation du Parc national de la Guadeloupe pour une période de trois semaines . Pour cette édition \, le parc offre des prestations diverses et variées\, en proposant un large choix au public. Des randonnées aquatiques\, pédestres\, des ateliers d’expression artistique\, et des animations nocturnes rythmeront ces 20 jours d’animations. \nInscription uniquement par téléphone 0590 41 55 67
URL:https://www.maxetlisa.com/evenement/nature-et-culture-en-decouverte/
LOCATION:Guadeloupe
CATEGORIES:Événements ponctuels,Famille
ATTACH;FMTTYPE=image/jpeg:https://www.maxetlisa.com/wp-content/uploads/2020/07/Parc-National.jpg
END:VEVENT
BEGIN:VEVENT
DTSTART;TZID=America/Guadeloupe:20200816T070000
DTEND;TZID=America/Guadeloupe:20200816T170000
DTSTAMP:20260424T061926
CREATED:20200810T234419Z
LAST-MODIFIED:20200816T224835Z
UID:13197-1597561200-1597597200@www.maxetlisa.com
SUMMARY:une rando VTT pour vous permettre de découvrir le Nord Guadeloupe ! 🚴‍♀️🚴‍♂️
DESCRIPTION:Le 16 Août la team Autolagon UVN vous invite à une rando VTT pour vous permettre de découvrir le Nord Guadeloupe ! 🚴‍♀️🚴‍♂️ \n⏰ RDV 7h à la Mahaudière à Anse-Bertrand ! \nÀ savoir :\n👉 Le port du casque est obligatoire\n👉 Votre licence ou un certificat médical (pour les non licenciés) seront à présenter au départ\n👉 Munissez-vous de votre stylo\n👉 Inscription : Office de tourisme de Port-Louis ou magasin HD vélo face à la marie de Port-Louis \n\nPour plus de renseignements : 📞0690 14 50 33 • 0690 59 96 33
URL:https://www.maxetlisa.com/evenement/une-rando-vtt-pour-vous-permettre-de-decouvrir-le-nord-guadeloupe-%f0%9f%9a%b4%e2%80%8d%e2%99%80%ef%b8%8f%f0%9f%9a%b4%e2%80%8d%e2%99%82%ef%b8%8f/
LOCATION:Anse Bertrand\, La Mahaudiere\, Anse Bertrand
CATEGORIES:Ado,Enfant,Événements ponctuels,Famille,Sport
ATTACH;FMTTYPE=image/jpeg:https://www.maxetlisa.com/wp-content/uploads/2020/08/Rando-VTT.jpg
END:VEVENT
END:VCALENDAR