BEGIN:VCALENDAR
VERSION:2.0
PRODID:-//Max et Lisa - ECPv6.15.11//NONSGML v1.0//EN
CALSCALE:GREGORIAN
METHOD:PUBLISH
X-ORIGINAL-URL:https://www.maxetlisa.com
X-WR-CALDESC:Évènements pour Max et Lisa
REFRESH-INTERVAL;VALUE=DURATION:PT1H
X-Robots-Tag:noindex
X-PUBLISHED-TTL:PT1H
BEGIN:VTIMEZONE
TZID:America/Guadeloupe
BEGIN:STANDARD
TZOFFSETFROM:-0400
TZOFFSETTO:-0400
TZNAME:AST
DTSTART:20190101T000000
END:STANDARD
END:VTIMEZONE
BEGIN:VEVENT
DTSTART;TZID=America/Guadeloupe:20200801T080000
DTEND;TZID=America/Guadeloupe:20200823T170000
DTSTAMP:20260424T061926
CREATED:20200723T170105Z
LAST-MODIFIED:20200824T174400Z
UID:12774-1596268800-1598202000@www.maxetlisa.com
SUMMARY:Nature et culture en découverte
DESCRIPTION:Le 1er Août 2020 marque le début du programme d’animation du Parc national de la Guadeloupe pour une période de trois semaines . Pour cette édition \, le parc offre des prestations diverses et variées\, en proposant un large choix au public. Des randonnées aquatiques\, pédestres\, des ateliers d’expression artistique\, et des animations nocturnes rythmeront ces 20 jours d’animations. \nInscription uniquement par téléphone 0590 41 55 67
URL:https://www.maxetlisa.com/evenement/nature-et-culture-en-decouverte/
LOCATION:Guadeloupe
CATEGORIES:Événements ponctuels,Famille
ATTACH;FMTTYPE=image/jpeg:https://www.maxetlisa.com/wp-content/uploads/2020/07/Parc-National.jpg
END:VEVENT
BEGIN:VEVENT
DTSTART;TZID=America/Guadeloupe:20200823T100000
DTEND;TZID=America/Guadeloupe:20200823T170000
DTSTAMP:20260424T061926
CREATED:20200821T094557Z
LAST-MODIFIED:20200821T094557Z
UID:13474-1598176800-1598202000@www.maxetlisa.com
SUMMARY:GRAND PRIX HIPPIQUE DU #CD971 / Dimanche 23 Aout 2020
DESCRIPTION:La présidente du Conseil départemental\, Josette BOREL-LINCERTIN\, en partenariat avec la société KARUKERA courses\, vous convie à la 15ème édition de son Grand Prix Hippique\, le dimanche 23 août 2020 à l’hippodrome Saint-Jacques à Anse- Bertrand \nHuit courses sont prévues au programme. Les premières chevauchées sont attendues pour 10h00. Le départ du Grand Prix du Conseil Départemental\, la plus grande course des Antilles réservée aux meilleurs chevaux de deux ans nés et élevés dans la Caraïbe\, et montés par des jockeys en devenir\, sera donné à 15h30 \nLe Grand Prix Hippique du Conseil départemental est un événement sportif familial. A ce titre\, les plus jeunes pourront s’amuser dans un espace qui leur sera dédié. \nLe grand prix s’achèvera en apothéose avec la remise des prix à 16 heures et une la prestation artistique de l’humoriste Pascal MOESTA. Le strict respect des mesures barrières est fortement recommandé. \nEn organisant ce type de manifestation\, le Conseil Départemental entend poursuivre sa démarche visant à relancer l’intérêt de la population guadeloupéenne pour l’équitation notamment auprès des jeunes ainsi que l’engouement pour des sites tels que l’hippodrome Saint-Jacques\, qui font partie intégrante du patrimoine sportif et culturel guadeloupéen.
URL:https://www.maxetlisa.com/evenement/grand-prix-hippique-du-cd971-dimanche-23-aout-2020/
LOCATION:Anse Bertrand\, hippodrome Saint Jacques\, Anse-Bertrand
CATEGORIES:Ado,Enfant,Événements ponctuels,Famille,Fête
ATTACH;FMTTYPE=image/jpeg:https://www.maxetlisa.com/wp-content/uploads/2020/08/Prix-Hippique.jpg
END:VEVENT
BEGIN:VEVENT
DTSTART;TZID=America/Guadeloupe:20200823T150000
DTEND;TZID=America/Guadeloupe:20200823T170000
DTSTAMP:20260424T061926
CREATED:20200816T225116Z
LAST-MODIFIED:20200824T174327Z
UID:13359-1598194800-1598202000@www.maxetlisa.com
SUMMARY:« *Dégoudi Anba Bwa* » de l' Association *YÉ MANMAN YÉ* !
DESCRIPTION:Dernier RDV des vacances pour les « *Dégoudi Anba Bwa* » de l’ Association *YÉ MANMAN YÉ* !\n\nLe *Dimanche 23 août 2020*\, vous pourrez faire la grâce mat’ et nous rejoindre pour une promenade ambiance coucher de soleil! Nous vous emmenons dès 15h faire une belle ballade découverte de la biodiversité cachée et insoupçonnée du littoral de Bois Jolan à Sainte-Anne.\n\n Notre guide: *Maddy HATIL* (Guide de Montagne certifié).\n\n **Boucle de 2h30\, parcours facile. Baignade à l’arrivée libre et non-surveillée.*\n\n– Prière de vous munir de vos médicaments en cas de traitement (asthme\, allergies..)\n\nPour valider votre inscription\, Merci de préciser lors de votre retour:\n\n– Noms complets des adultes\, les prénoms des enfants\n\n– Age des enfants\n\n– Numéro de tél\n\n– Location Porte-bébé Rando dorsal avec Bébé Lou. Tarif 10€ (Non ad.) / 4€ (Adhérent)/ 8 à 18kg maxi. ‼️A réserver à l’ avance!\n\n– Nombre de Collations\n\n __*‼️Port du masque obligatoire lors de l’inscription_ ‼️*_\n\nRDV 15h au parking officiel de Bois Jolan.\nContact: Natacha 0690 695 991 / Audrey 0690 628 298
URL:https://www.maxetlisa.com/evenement/degoudi-anba-bwa-de-l-association-ye-manman-ye-4/
LOCATION:Sainte Anne\, Bois Jolan\, Sainte Anne
CATEGORIES:Ado,Enfant,Événements ponctuels,Famille
ATTACH;FMTTYPE=image/png:https://www.maxetlisa.com/wp-content/uploads/2020/08/Degoudi.png
END:VEVENT
END:VCALENDAR