BEGIN:VCALENDAR
VERSION:2.0
PRODID:-//Max et Lisa - ECPv6.15.11//NONSGML v1.0//EN
CALSCALE:GREGORIAN
METHOD:PUBLISH
X-ORIGINAL-URL:https://www.maxetlisa.com
X-WR-CALDESC:Évènements pour Max et Lisa
REFRESH-INTERVAL;VALUE=DURATION:PT1H
X-Robots-Tag:noindex
X-PUBLISHED-TTL:PT1H
BEGIN:VTIMEZONE
TZID:America/Guadeloupe
BEGIN:STANDARD
TZOFFSETFROM:-0400
TZOFFSETTO:-0400
TZNAME:AST
DTSTART:20190101T000000
END:STANDARD
END:VTIMEZONE
BEGIN:VEVENT
DTSTART;TZID=America/Guadeloupe:20200826T100000
DTEND;TZID=America/Guadeloupe:20200829T190000
DTSTAMP:20260424T071546
CREATED:20200820T105900Z
LAST-MODIFIED:20200820T105900Z
UID:13434-1598436000-1598727600@www.maxetlisa.com
SUMMARY:Une rentrée toute en fête !
DESCRIPTION:Du 26 au 29 août\, préparez vous à fêter la rentrée comme il se doit dans votre Centre Commercial Destreland. \nAu programme : \n– SPECTACLE DE MAGIE à 15h et 18h\n– SPECTACLE DE CLOWN à 17h\n– SPECTACLE DE MARIONNETTES « Zico est ses amis dans la jungle magique » à 16h\n– MANEGE ENFANT de 10h à 13h et 14h à 19h\n– STRUCTURE GONFLABLE de 10h à 13h et 14h à 19h\n– PÊCHE AUX CANARDS de 10h à 13h et 14h à 19h\n– SCULPTURE SUR BALLON de 14h à 19h \n– DEGUSTATION DE POP CORN de 10h à 13h et 15h à 18h\n– DEGUSTATION DE BARBE A PAPA de 10h à 13 et 15h à 18h\n– GOÛTER PRINCE DE LU de 15h à 17h \n⚠️ Nous rappelons que le port du masque est obligatoire et\nles gestes barrières vivement recommandés pour la sécurité de tous.
URL:https://www.maxetlisa.com/evenement/une-rentree-toute-en-fete/
LOCATION:Baie- Mahault\, Destreland\, Baie-Mahault
CATEGORIES:Enfant,Événements ponctuels,Famille
ATTACH;FMTTYPE=image/jpeg:https://www.maxetlisa.com/wp-content/uploads/2020/08/destreland.jpg
END:VEVENT
BEGIN:VEVENT
DTSTART;TZID=America/Guadeloupe:20200826T160000
DTEND;TZID=America/Guadeloupe:20200829T170000
DTSTAMP:20260424T071546
CREATED:20200820T183817Z
LAST-MODIFIED:20200820T183842Z
UID:13449-1598457600-1598720400@www.maxetlisa.com
SUMMARY:Spectacle de marionnette gratuit
DESCRIPTION:Zico et ses amis dans la jungle magique
URL:https://www.maxetlisa.com/evenement/spectacle-de-marionnette-gratuit/
LOCATION:Baie-Mahault\, Près de France Loisir\, Baie-Mahault\, 97122
CATEGORIES:Enfant,Événements ponctuels,Famille
ATTACH;FMTTYPE=image/jpeg:https://www.maxetlisa.com/wp-content/uploads/2020/08/marionette.jpg
END:VEVENT
BEGIN:VEVENT
DTSTART;TZID=America/Guadeloupe:20200828T140000
DTEND;TZID=America/Guadeloupe:20200829T163000
DTSTAMP:20260424T071546
CREATED:20200828T094330Z
LAST-MODIFIED:20200901T113328Z
UID:13616-1598623200-1598718600@www.maxetlisa.com
SUMMARY:Street Art Tour en Bip Bip Pointe-à-Pitre\,
DESCRIPTION:Pousse Pousse vous emmène découvrir les spots Street Art de Pointe-à-Pitre à bord d’une petite voiture électrique.\n2 Dates possibles : 29 & 30 août\nPlace limitée à 18 personnes. Réservation Obligatoire !!\nhttps://www.laissepasser.com/evenements
URL:https://www.maxetlisa.com/evenement/street-art-tour-en-bip-bip-pointe-a-pitre/
LOCATION:Pointe à Pitre\, Pointe à Pitre
CATEGORIES:Art,Événements ponctuels,Famille
ATTACH;FMTTYPE=image/jpeg:https://www.maxetlisa.com/wp-content/uploads/2020/08/Street-Art.jpg
END:VEVENT
END:VCALENDAR