BEGIN:VCALENDAR
VERSION:2.0
PRODID:-//Max et Lisa - ECPv6.15.11//NONSGML v1.0//EN
CALSCALE:GREGORIAN
METHOD:PUBLISH
X-WR-CALNAME:Max et Lisa
X-ORIGINAL-URL:https://www.maxetlisa.com
X-WR-CALDESC:Évènements pour Max et Lisa
REFRESH-INTERVAL;VALUE=DURATION:PT1H
X-Robots-Tag:noindex
X-PUBLISHED-TTL:PT1H
BEGIN:VTIMEZONE
TZID:America/Guadeloupe
BEGIN:STANDARD
TZOFFSETFROM:-0400
TZOFFSETTO:-0400
TZNAME:AST
DTSTART:20190101T000000
END:STANDARD
END:VTIMEZONE
BEGIN:VEVENT
DTSTART;TZID=America/Guadeloupe:20200830T080000
DTEND;TZID=America/Guadeloupe:20200830T170000
DTSTAMP:20260424T071243
CREATED:20200826T105210Z
LAST-MODIFIED:20200901T113358Z
UID:13567-1598774400-1598806800@www.maxetlisa.com
SUMMARY:Atelier culinaire PARENT + ENFANT !
DESCRIPTION:ATELIER]\nLa rentrée est bientôt là ..snif  Pawoka va tenter de te rendre le sourire pour mieux anticiper cette nouvelle année scolaire !\n\n\n\nRDV au Jardin d’Eau les 22 et 30 Août pour les derniers \nATELIERS PAWOKA VACANCES 2020\n!! \n\n\n\nEn collaboration avec @akamoonfood\, viens partager 2h pour un atelier culinaire PARENT + ENFANT ! Des snacks et goûters à préparer et DEGUSTER à base de fruits et légumes locaux et quelques plantes aromatiques et médicinales!\n\n\n\nN’attend plus et inscris-toi et l’enfant de ton choix (le tien de préférence )  https://www.weezevent.com/ateliers-pawoka-des-vacances-2020\n\n\nPlaces limitées\nInscription obligatoire  https://www.weezevent.com/ateliers-pawoka-des-vacances-2020\n\n\n#Akamoonfood #snackhealthy #mangerlocal #fruitlegumepays #atelierpawoka
URL:https://www.maxetlisa.com/evenement/atelier-culinaire-parent-enfant/
LOCATION:Goyave\, Jardin d'eau\, Goyave
CATEGORIES:Enfant,Événements ponctuels
ATTACH;FMTTYPE=image/jpeg:https://www.maxetlisa.com/wp-content/uploads/2020/08/pAWOKA.jpg
END:VEVENT
END:VCALENDAR