BEGIN:VCALENDAR
VERSION:2.0
PRODID:-//Max et Lisa - ECPv6.15.11//NONSGML v1.0//EN
CALSCALE:GREGORIAN
METHOD:PUBLISH
X-ORIGINAL-URL:https://www.maxetlisa.com
X-WR-CALDESC:Évènements pour Max et Lisa
REFRESH-INTERVAL;VALUE=DURATION:PT1H
X-Robots-Tag:noindex
X-PUBLISHED-TTL:PT1H
BEGIN:VTIMEZONE
TZID:America/Guadeloupe
BEGIN:STANDARD
TZOFFSETFROM:-0400
TZOFFSETTO:-0400
TZNAME:AST
DTSTART:20200101T000000
END:STANDARD
END:VTIMEZONE
BEGIN:VEVENT
DTSTART;TZID=America/Guadeloupe:20210109T100000
DTEND;TZID=America/Guadeloupe:20211229T120000
DTSTAMP:20260423T180727
CREATED:20201211T093434Z
LAST-MODIFIED:20210414T094920Z
UID:16754-1610186400-1640779200@www.maxetlisa.com
SUMMARY:POTERIE : Mercredi et samedi - 10/12H - Abymes
DESCRIPTION:L’atelier de poterie vous souhaite une année de bonheur créatif! \n\n\nPour ce faire\, vous pourrez désormais participer aux cours le samedi mais aussi le mercredi de 10h à 12h.\n\n\n20€/2h d’atelier et cuisson des productions.\n\n\nVoilà donc le premier thème de l’année\, réservé aux adultes (qui n’ont pas pu participer aux activités des vacances\, proposées aux enfants).\nAu programme toujours :\n– le thème de modelage\,\n– du modelage libre\,\n– une initiation au tournage.\n\n\nPour participer le mercredi 6 ou le samedi 9 janvier\, inscrivez-vous rapidement…\nNaïma Gatibelza céramiste\n0690 91 59 58\n\n\n\n\n\n\n\nL’atelier se situe aux Abymes en face du lycée Baimbridge.
URL:https://www.maxetlisa.com/evenement/vacances-de-noel-activite-poterie-abymes/
LOCATION:Abymes\, Baimbridge\, 97139
CATEGORIES:Ce week-end,Événements ponctuels,Mercredi et samedi,Poterie
ATTACH;FMTTYPE=image/jpeg:https://www.maxetlisa.com/wp-content/uploads/2020/12/Gwadloup-Céramik.jpg
END:VEVENT
BEGIN:VEVENT
DTSTART;TZID=America/Guadeloupe:20210115T083000
DTEND;TZID=America/Guadeloupe:20211231T173000
DTSTAMP:20260423T180727
CREATED:20210115T102147Z
LAST-MODIFIED:20210115T102147Z
UID:17455-1610699400-1640971800@www.maxetlisa.com
SUMMARY:BABY GYM - VENDREDI et SAMEDI
DESCRIPTION:Nouveau créneau ! Vendredi de 16h30 à 17h30 ! Enfants nés de 2015 à 2019 ! \nSamedi : 8h45 – 9h45 \nLa baby gym une activité idéale et unique à partir de 15 mois à 2 ans.\nLe Gymnasticlub est une structure aménagée qui peut devenir un magnifique terrain de jeu sécurisé. Un lieu parfaitement adapté au développement psychomoteur de l’enfant !\nMarcher\, sauter\, rouler\, se balancer\, jouer\, imiter\, imaginer\, explorer …\nLes parents\, les grands parents ou les nounous sont accueillis à bras ouverts pour participer à la séance de Baby Gym.\nLe paiement est à effectuer le matin du cours en chèque ou espèces.\nN’hésitez pas venez participer !\nPROTOCOLE COVID\nVenir avec une serviette pour rincer les mains\, port du masque obligatoire(parent)\, respect des gestes barrières.
URL:https://www.maxetlisa.com/evenement/baby-gym-vendredi-et-samedi/
LOCATION:Petit-Bourg
CATEGORIES:Baby sport,Événements ponctuels,Mercredi et samedi
ATTACH;FMTTYPE=image/jpeg:https://www.maxetlisa.com/wp-content/uploads/2021/01/Gymnastic-club.jpg
END:VEVENT
BEGIN:VEVENT
DTSTART;TZID=America/Guadeloupe:20210625T080000
DTEND;TZID=America/Guadeloupe:20210831T170000
DTSTAMP:20260423T180727
CREATED:20210625T091953Z
LAST-MODIFIED:20210625T091953Z
UID:20586-1624608000-1630429200@www.maxetlisa.com
SUMMARY:Expo d'élèves - Atelier d'Art Antoine Nabajoth
DESCRIPTION:Retour en images sur l’exposition de fin d’année des élèves de l’atelier. Cette expo est visible jusqu’au 31 décembre 2021 sur rendez-vous.
URL:https://www.maxetlisa.com/evenement/expo-deleves-atelier-dart-antoine-nabajoth/
LOCATION:Abymes
CATEGORIES:Art,Événements ponctuels
ATTACH;FMTTYPE=image/jpeg:https://www.maxetlisa.com/wp-content/uploads/2021/06/Exposition.jpg
END:VEVENT
BEGIN:VEVENT
DTSTART;TZID=America/Guadeloupe:20210626T100000
DTEND;TZID=America/Guadeloupe:20210731T120000
DTSTAMP:20260423T180727
CREATED:20210625T091435Z
LAST-MODIFIED:20210625T091435Z
UID:20582-1624701600-1627732800@www.maxetlisa.com
SUMMARY:
DESCRIPTION:‘atelier de poterie se met au vert\, avec ce thème très sympa d’empreintes de feuille..\nAlors\, emmenez vos propres feuilles du jardin\, si vous voulez en garder une trace. J’attends vos inscriptions !\nNaïma Gatibelza céramiste\n0690 91 59 58\n\n\nL’ Atelier de poterie pour TOUS\n> un thème de modelage\n> une initiation au tournage\n> du modelage libre\n> et une cuisson à venir des pièces modelées\n\n\n\nL’atelier de poterie vous attend :\nmercredi et samedi\n10h -12h.\n\n\nActivités POUR TOUS!\nLes enfants NON ACCOMPAGNÉS à partir de 6 ans.\n\n\n20€ la séance de 2h.\n\n\nL’atelier se situe aux Abymes en face du lycée Baimbridge.\nAppelez moi au 0690 91 59 58\npour plus de détails !
URL:https://www.maxetlisa.com/evenement/20582/
LOCATION:Abymes
CATEGORIES:Événements ponctuels,Poterie
ATTACH;FMTTYPE=image/jpeg:https://www.maxetlisa.com/wp-content/uploads/2021/06/Gwdloup-Céramik.jpg
END:VEVENT
BEGIN:VEVENT
DTSTART;TZID=America/Guadeloupe:20210630T080000
DTEND;TZID=America/Guadeloupe:20210725T170000
DTSTAMP:20260423T180727
CREATED:20210630T095327Z
LAST-MODIFIED:20210728T142852Z
UID:20645-1625040000-1627232400@www.maxetlisa.com
SUMMARY:Partir en livre en Guadeloupe - "Mer et Merveilles"
DESCRIPTION:« Partir en Livre » c’est la fête du livre jeunesse !\nEvènement annuel national : à retrouver à partir du 30 juin dans diverses communes de Guadeloupe et en ligne !\nConsultez le programme dans les communes : https://guadeloupe.mediatheques.fr/?fbclid=IwAR31jVmEZHMRu8aQs3xNYGNRUqxv3NRabEW5Eh3H6lY-oQNKkmkL2FUAe6E#&temetid=10398
URL:https://www.maxetlisa.com/evenement/partir-en-livre-en-guadeloupe-mer-et-merveilles/
LOCATION:Guadeloupe
CATEGORIES:Événements ponctuels,Lecture
ATTACH;FMTTYPE=image/png:https://www.maxetlisa.com/wp-content/uploads/2021/06/couv.png
END:VEVENT
BEGIN:VEVENT
DTSTART;TZID=America/Guadeloupe:20210706T080000
DTEND;TZID=America/Guadeloupe:20210824T170000
DTSTAMP:20260423T180727
CREATED:20210706T193857Z
LAST-MODIFIED:20210706T193859Z
UID:20725-1625558400-1629824400@www.maxetlisa.com
SUMMARY:Festijé - Guadeloupe
DESCRIPTION:Découvrez le programme Jeux et jouets traditionnels FèTtijé 2021 VAKANS TRADISYON de l’association Gwajéka.\nDe nombreuses activités avec les jeux et jouets traditionnels de Guadeloupe et de la caraïbe pour des Vacances Culturelles Traditionnelles.
URL:https://www.maxetlisa.com/evenement/festije-guadeloupe/
CATEGORIES:Événements ponctuels
ATTACH;FMTTYPE=image/png:https://www.maxetlisa.com/wp-content/uploads/2021/07/Gwajeka.png
END:VEVENT
BEGIN:VEVENT
DTSTART;TZID=America/Guadeloupe:20210707T080000
DTEND;TZID=America/Guadeloupe:20210828T170000
DTSTAMP:20260423T180727
CREATED:20210707T094317Z
LAST-MODIFIED:20210816T124315Z
UID:20738-1625644800-1630170000@www.maxetlisa.com
SUMMARY:Nature et Culture en découverte\, le programme 2021 - Gratuit
DESCRIPTION: \n\nTéléchargez et consulter le programme : http://www.guadeloupe-parcnational.fr/…/programme…\n\nBrochure à Télécharger ici : \n	brochure_2021.pdf
URL:https://www.maxetlisa.com/evenement/nature-et-culture-en-decouverte-le-programme-2021-gratuit/
LOCATION:Guadeloupe
CATEGORIES:Événements ponctuels
ATTACH;FMTTYPE=image/jpeg:https://www.maxetlisa.com/wp-content/uploads/2021/07/Par-national.jpg
END:VEVENT
BEGIN:VEVENT
DTSTART;TZID=America/Guadeloupe:20210707T090000
DTEND;TZID=America/Guadeloupe:20210831T170000
DTSTAMP:20260423T180727
CREATED:20210707T093446Z
LAST-MODIFIED:20210707T093450Z
UID:20733-1625648400-1630429200@www.maxetlisa.com
SUMMARY:BOPO FOLIZ
DESCRIPTION:Du mardi au Dimanche de 9h à 17\n\n \n\n 
URL:https://www.maxetlisa.com/evenement/bopo-foliz/
LOCATION:Port Louis\, Usine de Beauport\, Port Louis\, 97117
CATEGORIES:Événements ponctuels
ATTACH;FMTTYPE=image/jpeg:https://www.maxetlisa.com/wp-content/uploads/2021/07/BOPO-FOLIZ.jpg
END:VEVENT
BEGIN:VEVENT
DTSTART;TZID=America/Guadeloupe:20210709T080000
DTEND;TZID=America/Guadeloupe:20210825T170000
DTSTAMP:20260423T180727
CREATED:20210707T095712Z
LAST-MODIFIED:20210707T095807Z
UID:20752-1625817600-1629910800@www.maxetlisa.com
SUMMARY:Chasses aux trésors  Nature- 3/15 ans
DESCRIPTION:
URL:https://www.maxetlisa.com/evenement/chasse-au-tresor-3-15-ans/
LOCATION:Morne à l’eau
CATEGORIES:Événements ponctuels
ATTACH;FMTTYPE=image/jpeg:https://www.maxetlisa.com/wp-content/uploads/2021/07/association-bwa-Kapab.jpg
END:VEVENT
BEGIN:VEVENT
DTSTART;TZID=America/Guadeloupe:20210709T080000
DTEND;TZID=America/Guadeloupe:20210828T170000
DTSTAMP:20260423T180727
CREATED:20210709T100721Z
LAST-MODIFIED:20210709T100721Z
UID:20775-1625817600-1630170000@www.maxetlisa.com
SUMMARY:Ateliers Pâtisserie enfants
DESCRIPTION:
URL:https://www.maxetlisa.com/evenement/ateliers-patisserie-enfants/
CATEGORIES:Événements ponctuels
ATTACH;FMTTYPE=image/jpeg:https://www.maxetlisa.com/wp-content/uploads/2021/07/aTELIER-pATISSERIE.jpg
END:VEVENT
BEGIN:VEVENT
DTSTART;TZID=America/Guadeloupe:20210709T080000
DTEND;TZID=America/Guadeloupe:20210828T170000
DTSTAMP:20260423T180727
CREATED:20210709T101115Z
LAST-MODIFIED:20210709T101449Z
UID:20784-1625817600-1630170000@www.maxetlisa.com
SUMMARY:Ateliers Timoun
DESCRIPTION:P
URL:https://www.maxetlisa.com/evenement/ateliers-timoun/
LOCATION:Petit-Bourg
CATEGORIES:Événements ponctuels
ATTACH;FMTTYPE=image/jpeg:https://www.maxetlisa.com/wp-content/uploads/2021/07/zAYANNk.jpg
END:VEVENT
BEGIN:VEVENT
DTSTART;TZID=America/Guadeloupe:20210715T080000
DTEND;TZID=America/Guadeloupe:20210723T170000
DTSTAMP:20260423T180727
CREATED:20210715T102410Z
LAST-MODIFIED:20210715T102543Z
UID:21027-1626336000-1627059600@www.maxetlisa.com
SUMMARY:Festival du conte avec kontakaz 15\,16\,17 \,20\,21\,22\,23 Juillet
DESCRIPTION:Sainte
URL:https://www.maxetlisa.com/evenement/festival-du-conte-avec-kontakaz-151617-20212223-juillet/
LOCATION:Sainte Anne
CATEGORIES:Contes,Événements ponctuels
ATTACH;FMTTYPE=image/jpeg:https://www.maxetlisa.com/wp-content/uploads/2021/07/Kontakaz.jpg
END:VEVENT
BEGIN:VEVENT
DTSTART;TZID=America/Guadeloupe:20210715T083000
DTEND;TZID=America/Guadeloupe:20210815T183000
DTSTAMP:20260423T180727
CREATED:20210709T102436Z
LAST-MODIFIED:20210709T102438Z
UID:20794-1626337800-1629052200@www.maxetlisa.com
SUMMARY:Rugby enfant - Goyave
DESCRIPTION:Goyag
URL:https://www.maxetlisa.com/evenement/rugby-enfant-goyave/
LOCATION:Goyave
CATEGORIES:Événements ponctuels
ATTACH;FMTTYPE=image/jpeg:https://www.maxetlisa.com/wp-content/uploads/2021/07/Rugby-Club-de-Goyave.jpg
END:VEVENT
BEGIN:VEVENT
DTSTART;TZID=America/Guadeloupe:20210716T080000
DTEND;TZID=America/Guadeloupe:20210808T100000
DTSTAMP:20260423T180727
CREATED:20210716T095457Z
LAST-MODIFIED:20210816T124222Z
UID:21084-1626422400-1628416800@www.maxetlisa.com
SUMMARY:RANDO DECOUVERTE
DESCRIPTION:| CULTURE\, SPORT & LOISIRS\nLa Riviera du Levant dans le vent de la nature…\n\n\n  Culture à fonds\, des randonnées d’exceptions alliant découverte et culture\n\n\n 3 rendez-vous : Saint-François\, Sainte-Anne\, Le Gosier\n\n\nVivez ces instants qui vous en diront plus sur notre patrimoine naturel et immatériel à travers des randonnées d’exceptions et des découvertes culinaires. Pratique sportive et artistique au rendez-vous à expérimenter en famille ou entre amis !\n\n\nCommune de Saint-François\, Pointe à Cabris\n Vendredi 16 juillet à 18h\n Randonnée nocturne contée avec Kontakaz suivie d’une veillée au son de la musique indienne par Tulsi Ram\n Découverte culinaire avec Crocs Saveurs\n\n\nVille de Sainte-Anne Guadeloupe\, Bois Jolan\n Dimanche 25 juillet à 8h\n Randonnée guidée par Patrick Solvet\, suivie d’une initiation au cerf-volant avec Klod Mixture\n Découverte culinaire avec Widdy Grégo\n\n\nIci le Gosier\, Saint-Félix\n Dimanche 8 août à 8h\n Randonnée guidée par Valérie Boucaud au son du mas avec le groupe Restan la\n Découverte culinaire autour de la farine de fruit à pain avec l’association GFC\n\n\n Amène ta lampe torche ! \n\n\n INSCRIPTION OBLIGATOIRE\n 0590 48 47 47\n sanimation@rivieradulevant.fr
URL:https://www.maxetlisa.com/evenement/rando-decouverte/
CATEGORIES:Événements ponctuels
ATTACH;FMTTYPE=image/jpeg:https://www.maxetlisa.com/wp-content/uploads/2021/07/RIVIERA-2.jpg
END:VEVENT
BEGIN:VEVENT
DTSTART;TZID=America/Guadeloupe:20210716T183000
DTEND;TZID=America/Guadeloupe:20210716T190000
DTSTAMP:20260423T180727
CREATED:20210716T094613Z
LAST-MODIFIED:20210716T094616Z
UID:21071-1626460200-1626462000@www.maxetlisa.com
SUMMARY:SPECTACLE ENFANT - Vieux Habitants
DESCRIPTION:Vendredi 16 juillet à 18h30\, la compagnie Gwada’Circus accueille sous son chapiteau le spectacle « on zatrap pou konpè lapen » de la compagnie Moov’art.\nC’est un spectacle de marionnettes qui s’adresse aux enfants à partir de 4 ans\, il dure 50 minutes.\n\nCe spectacle est gratuit car il fait partie du dispositif « Été culturel »\, une manifestation à l’initiative du Ministère de la culture\, mise en œuvre par la Direction Régionale des Affaires Culturelles de Guadeloupe et les opérateurs nationaux.\n\nVoici les conditions pour pouvoir y assister:\n– réservation obligatoire par sms ou whatsapp au +590690656550 en précisant un nom de réservation et le nombre de participants enfants et adultes.\n– Il doit y avoir au moins un adulte qui accompagne l’enfant ou un groupe d’enfants\, les adultes auront un endroit pour se poser et se rafraîchir à l’extérieur du chapiteau si ils ne veulent pas assister au spectacle mais ils doivent impérativement rester sur le site car les enfants sont sous leur responsabilité!.\n– Respect des mesures sanitaires en vigueur\, donc port du masque obligatoire sous le chapiteau à partir de 12 ans.\n\nLe nombre de places étant limité\, réservez au plus vite!\n\nEn attendant le début du spectacle\, l’association Gwada’Circus vous propose :\n– un atelier de jonglerie (gratuit également)\n– la visite de l’association et les renseignements sur nos activités d’école de cirque\, de lieu culturel\, de scène émergente…\n– la vente de rafraichissements (ne pas apporter de boissons ni de nourriture SVP)\n– la vente de tee-shirts du festival de cirque de Guadeloupe: « Nou Sé Yonn »\, dont la deuxième édition est prévue fin novembre 2021.\nCordialement\nYan Loïal\nCoordonnateur de « GWADA’CIRCUS Compagnie »\n308\, chemin Navarraine – Marigot 97119 Vieux-Habitants\n\nLe lien du spectacle proposé ici : https://www.moovart.com/spectacle-marionnette-lapin \n\n\n\n\n\n\n\n\n\n\n\n\n\nVi
URL:https://www.maxetlisa.com/evenement/spectacle-enfant-vieux-habitants/
LOCATION:Vieux Habitants
CATEGORIES:Événements ponctuels,Spectacle
ATTACH;FMTTYPE=image/jpeg:https://www.maxetlisa.com/wp-content/uploads/2021/07/GWADA-CIRCUS.jpg
END:VEVENT
END:VCALENDAR