BEGIN:VCALENDAR
VERSION:2.0
PRODID:-//Max et Lisa - ECPv6.15.11//NONSGML v1.0//EN
CALSCALE:GREGORIAN
METHOD:PUBLISH
X-ORIGINAL-URL:https://www.maxetlisa.com
X-WR-CALDESC:Évènements pour Max et Lisa
REFRESH-INTERVAL;VALUE=DURATION:PT1H
X-Robots-Tag:noindex
X-PUBLISHED-TTL:PT1H
BEGIN:VTIMEZONE
TZID:America/Guadeloupe
BEGIN:STANDARD
TZOFFSETFROM:-0400
TZOFFSETTO:-0400
TZNAME:AST
DTSTART:20200101T000000
END:STANDARD
END:VTIMEZONE
BEGIN:VEVENT
DTSTART;TZID=America/Guadeloupe:20210109T100000
DTEND;TZID=America/Guadeloupe:20211229T120000
DTSTAMP:20260423T124400
CREATED:20201211T093434Z
LAST-MODIFIED:20210414T094920Z
UID:16754-1610186400-1640779200@www.maxetlisa.com
SUMMARY:POTERIE : Mercredi et samedi - 10/12H - Abymes
DESCRIPTION:L’atelier de poterie vous souhaite une année de bonheur créatif! \n\n\nPour ce faire\, vous pourrez désormais participer aux cours le samedi mais aussi le mercredi de 10h à 12h.\n\n\n20€/2h d’atelier et cuisson des productions.\n\n\nVoilà donc le premier thème de l’année\, réservé aux adultes (qui n’ont pas pu participer aux activités des vacances\, proposées aux enfants).\nAu programme toujours :\n– le thème de modelage\,\n– du modelage libre\,\n– une initiation au tournage.\n\n\nPour participer le mercredi 6 ou le samedi 9 janvier\, inscrivez-vous rapidement…\nNaïma Gatibelza céramiste\n0690 91 59 58\n\n\n\n\n\n\n\nL’atelier se situe aux Abymes en face du lycée Baimbridge.
URL:https://www.maxetlisa.com/evenement/vacances-de-noel-activite-poterie-abymes/
LOCATION:Abymes\, Baimbridge\, 97139
CATEGORIES:Ce week-end,Événements ponctuels,Mercredi et samedi,Poterie
ATTACH;FMTTYPE=image/jpeg:https://www.maxetlisa.com/wp-content/uploads/2020/12/Gwadloup-Céramik.jpg
END:VEVENT
BEGIN:VEVENT
DTSTART;TZID=America/Guadeloupe:20210115T083000
DTEND;TZID=America/Guadeloupe:20211231T173000
DTSTAMP:20260423T124400
CREATED:20210115T102147Z
LAST-MODIFIED:20210115T102147Z
UID:17455-1610699400-1640971800@www.maxetlisa.com
SUMMARY:BABY GYM - VENDREDI et SAMEDI
DESCRIPTION:Nouveau créneau ! Vendredi de 16h30 à 17h30 ! Enfants nés de 2015 à 2019 ! \nSamedi : 8h45 – 9h45 \nLa baby gym une activité idéale et unique à partir de 15 mois à 2 ans.\nLe Gymnasticlub est une structure aménagée qui peut devenir un magnifique terrain de jeu sécurisé. Un lieu parfaitement adapté au développement psychomoteur de l’enfant !\nMarcher\, sauter\, rouler\, se balancer\, jouer\, imiter\, imaginer\, explorer …\nLes parents\, les grands parents ou les nounous sont accueillis à bras ouverts pour participer à la séance de Baby Gym.\nLe paiement est à effectuer le matin du cours en chèque ou espèces.\nN’hésitez pas venez participer !\nPROTOCOLE COVID\nVenir avec une serviette pour rincer les mains\, port du masque obligatoire(parent)\, respect des gestes barrières.
URL:https://www.maxetlisa.com/evenement/baby-gym-vendredi-et-samedi/
LOCATION:Petit-Bourg
CATEGORIES:Baby sport,Événements ponctuels,Mercredi et samedi
ATTACH;FMTTYPE=image/jpeg:https://www.maxetlisa.com/wp-content/uploads/2021/01/Gymnastic-club.jpg
END:VEVENT
BEGIN:VEVENT
DTSTART;TZID=America/Guadeloupe:20211111T080000
DTEND;TZID=America/Guadeloupe:20211114T170000
DTSTAMP:20260423T124400
CREATED:20211111T141035Z
LAST-MODIFIED:20211115T131125Z
UID:22159-1636617600-1636909200@www.maxetlisa.com
SUMMARY:Le Cirque dans tous ses états ! Des explorations urbaines et circassiennes au coeur des Abymes...
DESCRIPTION:Du 29 octobre au 14 novembre 2021\, l’équipe de Métis’Gwa est présente dans les quartiers des Abymes à l’occasion de son évènement « Le Cirque dans tous ses états ! » \nQu’est ce que c’est ?\n Un événement en pleine ébullition\,\nUne invention permanente\,\nDes rencontres artistiques dans des lieux insolites\,\nUn rendez-vous avec les artistes\, les habitants et le territoire. \nRetrouvez-nous dans l’espace public à Boissard\, Lacroix et au Raizet en compagnie d’artistes de cirque venus de Guadeloupe\, du Brésil\, d’Argentine et de France hexagonale ainsi que d’autres invités surprises.\n Evénement tout public et gratuit\nLes 13 et 14 novembre prochain\, Métis’Gwa vous emmène pour deux balades urbaines\, ponctuées d’impromptus artistiques de cirque et de paroles de témoins\, rythmées au son du carnaval\, offrant un regard sensible sur les quartiers traversés.\n Le 13 novembre : Circuit RAIZET (Départ 15h devant le Centre culturel Emmanuel Albon)\n Le 14 novembre : Circuit LACROIX/BOISSARD (Départ 15h sur le Parvis du centre culturel et sportif Les hauts de Lacroix)\n Programme détaillé des circuits à découvrir sur nos réseaux sociaux !\nDu 8 au 12 novembre\, « Le Cirque dans tous ses états! »\, c’est aussi :\n Un « Apéro Cirque » le 12 novembre à 18h\, rdv sur l’esplanade des Hauts de Lacroix pour des surprises circassiennes\, un atelier de découverte et de pratique de cirque (à 17h) suivi d’un temps de convivialité !\nDes rendez-vous de cirque du 9 au 11 novembre dans l’espace public\, à partir de 16h30\, sur la place ou sous le carbet\, dans les quartiers Lacroix\, Boissard et au Raizet\,\nDes masterclass et ateliers de pratique de cirque\,\nDes « Récréacirque » : des impromptus de cirque\, dans les établissements scolaires.\n—\nEn partenariat avec la Ville des Abymes\, le Plus Petit Cirque du Monde et avec la complicité d’artistes invités ainsi que les partenaires associatifs du territoire.\nAvec le soutien du programme Interreg Caraïbes\, l’Agence Nationale de la Cohésion des Territoires\, la DAC Guadeloupe\, la Région Guadeloupe\, le Département Guadeloupe\, Cap Excellence et la Ville des Abymes.\n—\n Métis’Gwa s’associe au réseau national Territoires de Cirque afin de proposer – pour la première fois en Guadeloupe et dans la Caraïbe – un événement de cirque s’inscrivant dans le cadre de la manifestation européenne « La Nuit du Cirque ». La « Nuit du Cirque » est un événement international organisé par le réseau professionnel Territoires de Cirque avec le soutien du ministère de la Culture\, en collaboration avec l’Institut français\, Circostrada et Circusnext. Cette manifestation rassemble en 2021 148 propositions dans 11 pays pour mettre en lumière la richesse et la diversité du cirque contemporain. Zoomez sur la carte\, la Guadeloupe est bien représentée \n Découvrez l’ensemble des partenaires et événements sur www.lanuitducirque.com\n CONTACT :\nwww.metisgwa.com\ncontacts@metisgwa.com\n05 90 88 13 63 / 06 90 46 14 88 / 06 90 96 01 85\nDemandez le programme !\nhttps://drive.google.com/…/1Ui8E5EktgKvcqeW…/view…\nVoir moins\n\n\n\nArt
URL:https://www.maxetlisa.com/evenement/le-cirque-dans-tous-ses-etats-des-explorations-urbaines-et-circassiennes-au-coeur-des-abymes/
LOCATION:Abymes
CATEGORIES:Cirque,Événements ponctuels,Week-End
ATTACH;FMTTYPE=image/jpeg:https://www.maxetlisa.com/wp-content/uploads/2021/11/mETISgWA.jpg
END:VEVENT
END:VCALENDAR