BEGIN:VCALENDAR
VERSION:2.0
PRODID:-//Max et Lisa - ECPv6.15.11//NONSGML v1.0//EN
CALSCALE:GREGORIAN
METHOD:PUBLISH
X-WR-CALNAME:Max et Lisa
X-ORIGINAL-URL:https://www.maxetlisa.com
X-WR-CALDESC:Évènements pour Max et Lisa
REFRESH-INTERVAL;VALUE=DURATION:PT1H
X-Robots-Tag:noindex
X-PUBLISHED-TTL:PT1H
BEGIN:VTIMEZONE
TZID:America/Guadeloupe
BEGIN:STANDARD
TZOFFSETFROM:-0400
TZOFFSETTO:-0400
TZNAME:AST
DTSTART:20210101T000000
END:STANDARD
END:VTIMEZONE
BEGIN:VEVENT
DTSTART;TZID=America/Guadeloupe:20220409T140000
DTEND;TZID=America/Guadeloupe:20220409T160000
DTSTAMP:20260423T043916
CREATED:20220404T102842Z
LAST-MODIFIED:20220425T133922Z
UID:23855-1649512800-1649520000@www.maxetlisa.com
SUMMARY:L'ATELIER :Découverte du bruitage au cinéma - Nouveaux Regards
DESCRIPTION:Ludique et intuitif\, cet atelier mené par JEAN-CARL FELDIS\, Musicien\, compositeur\, bruiteur\,conférencier\, ingénieur du son\, multi-instrumentistes. \n​ \nCet atelier permettra de créer tous les bruits d’un extrait de film\, du plus petit crépitement du feu au spectaculaire bruit de l’ orage. En direct\, les participants auront la possibilité de créer les bruitages qui produiront l’ambiance d’un film. Avec l’artiste\, ils découvriront toute la magie du métier de bruiteur ! \nRDV  :\n​Médiathèque\, Palais de la Culture Félix Proto\, les Abymes
URL:https://www.maxetlisa.com/evenement/latelier-decouverte-du-bruitage-au-cinema-nouveaux-regards/
LOCATION:Abymes
CATEGORIES:Événements ponctuels
ATTACH;FMTTYPE=image/png:https://www.maxetlisa.com/wp-content/uploads/2022/04/NRFF-KIDS.png
END:VEVENT
BEGIN:VEVENT
DTSTART;TZID=America/Guadeloupe:20220409T160000
DTEND;TZID=America/Guadeloupe:20220409T183000
DTSTAMP:20260423T043916
CREATED:20220405T101551Z
LAST-MODIFIED:20220405T101627Z
UID:23888-1649520000-1649529000@www.maxetlisa.com
SUMMARY:CINE FAMILLE - Nouveaux Regards - Samedi 9 avril
DESCRIPTION:Le festival porte une attention particulière au public familial en\, élaborant un programme qui regroupe les propositions de films\, une séance spéciale et un atelier qui permettra de découvrir le\nmétier de bruiteur au cinéma. Pour un éveil des regards\, le festival se vit en famille !\n\n \n\nRdv : samedi 9 avril à 16h salle Felix Proto aux Abymes\n\nToutes les infos ici : https://fr.calameo.com/read/00585166289f549147a69
URL:https://www.maxetlisa.com/evenement/cine-famille-samedi-9-avril/
LOCATION:Abymes
CATEGORIES:Événements ponctuels
ATTACH;FMTTYPE=image/png:https://www.maxetlisa.com/wp-content/uploads/2022/04/Nouveaux-Regards.png
END:VEVENT
END:VCALENDAR