BEGIN:VCALENDAR
VERSION:2.0
PRODID:-//Max et Lisa - ECPv6.15.11//NONSGML v1.0//EN
CALSCALE:GREGORIAN
METHOD:PUBLISH
X-WR-CALNAME:Max et Lisa
X-ORIGINAL-URL:https://www.maxetlisa.com
X-WR-CALDESC:Évènements pour Max et Lisa
REFRESH-INTERVAL;VALUE=DURATION:PT1H
X-Robots-Tag:noindex
X-PUBLISHED-TTL:PT1H
BEGIN:VTIMEZONE
TZID:America/Guadeloupe
BEGIN:STANDARD
TZOFFSETFROM:-0400
TZOFFSETTO:-0400
TZNAME:AST
DTSTART:20210101T000000
END:STANDARD
END:VTIMEZONE
BEGIN:VEVENT
DTSTART;TZID=America/Guadeloupe:20220413T090000
DTEND;TZID=America/Guadeloupe:20220422T160000
DTSTAMP:20260423T043554
CREATED:20220412T080816Z
LAST-MODIFIED:20220425T133951Z
UID:24013-1649840400-1650643200@www.maxetlisa.com
SUMMARY:Baby Velo - Baie Mahault
DESCRIPTION:Zoom sur les baby vélos\, mes premiers apprentissages à vélo\nDu mercredi 13 au vendredi 22 Avril 2022 de 9h à 11h et/ou 14h à 16h\, je m’amuses à vélo accompagné par mes animateurs/trices\nhttps://www.sportdecyclisme.com/…/paques-vacances-bmx…\n— motivé\, à Vélodrome Amédée-Détraux.
URL:https://www.maxetlisa.com/evenement/baby-velo-baie-mahault/
LOCATION:Baie-Mahault
CATEGORIES:Événements ponctuels,Vacances de Pâques,Vacances scolaires
ATTACH;FMTTYPE=image/png:https://www.maxetlisa.com/wp-content/uploads/2022/04/Sport-de-cyclisme.png
END:VEVENT
BEGIN:VEVENT
DTSTART;TZID=America/Guadeloupe:20220413T103000
DTEND;TZID=America/Guadeloupe:20220423T153000
DTSTAMP:20260423T043554
CREATED:20220412T082522Z
LAST-MODIFIED:20220425T133448Z
UID:24032-1649845800-1650727800@www.maxetlisa.com
SUMMARY:Vacances de Pâques au Zoo
DESCRIPTION:#PAQUES Vacances en folie au zoo cette année !\nLes équipes du zoo vous ont concocté un programme exceptionnel !\nIl y a des nouvelles animations tous les jours\, des événements inédits et bien d’autres surprises ! \nIl y a toujours du nouveau au Zoo de Guadeloupe !\n\n\n Tarif : prix d’une entrée normale.\n Réservez votre entrée sur : www.zoodeguadeloupe.com/billetterie\nou directement au guichet !\n\nBouill
URL:https://www.maxetlisa.com/evenement/vacances-de-paques-au-zoo/
LOCATION:Bouillante
CATEGORIES:Événements ponctuels,Vacances de Pâques,Vacances scolaires
ATTACH;FMTTYPE=image/jpeg:https://www.maxetlisa.com/wp-content/uploads/2022/04/ZOO.jpg
END:VEVENT
BEGIN:VEVENT
DTSTART;TZID=America/Guadeloupe:20220415T150000
DTEND;TZID=America/Guadeloupe:20220422T170000
DTSTAMP:20260423T043554
CREATED:20220412T075941Z
LAST-MODIFIED:20220425T133539Z
UID:24007-1650034800-1650646800@www.maxetlisa.com
SUMMARY:🌳✨ *L'atelier se met au vert!
DESCRIPTION:Comme promis\, pour ces prochaines vacances scolaires\, je vous propose 2 séances de modelage en plein air\, avec une argile autodurcissante. *Cette fois\, vous pourrez repartir tout de suite avec vos créations!* Les enfants impatients seront enfin satisfaits. . 2 dates à retenir:\n\n\n*Vendredi 15 avril* du week-end de Pâques *15h-17h* \, à la lézarde *Petit-Bourg* sur une propriété privée.\n\n\n*Vendredi 22 avril 15h-17h\,*\nau Domaine nature Taonaba à Perrin aux *Abymes* .\n\n\nFormule à *25€ pour les adultes et 23€ pour les 4-16 ans.*\n*Une collation sera offerte à cette occasion.*\nTél : 0690 69-5991\n\n\nLes enfants de 4 à 6 ans doivent être accompagnés. Si l’accompagnateur ne participe pas lui-même\, seule la participation de l’enfant est payante.\n\n\nLes localisations précises et plus d’infos seront envoyées par la suite.\nProfitez enfin de ces occasions pour venir en famille\, entre amis. Les places seront cependant limitées\, donc ne traînez pas pour les inscriptions\, ça part toujours aussi vite pendant les vacances! À bientôt j’espère
URL:https://www.maxetlisa.com/evenement/%f0%9f%8c%b3%e2%9c%a8-latelier-se-met-au-vert/
CATEGORIES:Événements ponctuels,Vacances de Pâques,Vacances scolaires
ATTACH;FMTTYPE=image/jpeg:https://www.maxetlisa.com/wp-content/uploads/2022/04/yémanmanyé.jpg
END:VEVENT
BEGIN:VEVENT
DTSTART;TZID=America/Guadeloupe:20220419T080000
DTEND;TZID=America/Guadeloupe:20220422T160000
DTSTAMP:20260423T043554
CREATED:20220412T081550Z
LAST-MODIFIED:20220412T081551Z
UID:24022-1650355200-1650643200@www.maxetlisa.com
SUMMARY:Vacances de Pâques - Multi sports au Moule
DESCRIPTION:
URL:https://www.maxetlisa.com/evenement/vacances-de-paques-multi-sports-au-moule/
LOCATION:Le Moule
CATEGORIES:Événements ponctuels,Vacances de Pâques,Vacances scolaires
ATTACH;FMTTYPE=image/jpeg:https://www.maxetlisa.com/wp-content/uploads/2022/04/Sport-Moule.jpg
END:VEVENT
BEGIN:VEVENT
DTSTART;TZID=America/Guadeloupe:20220419T090000
DTEND;TZID=America/Guadeloupe:20220422T120000
DTSTAMP:20260423T043554
CREATED:20220412T081203Z
LAST-MODIFIED:20220412T081204Z
UID:24018-1650358800-1650628800@www.maxetlisa.com
SUMMARY:BMX - Baie-Mahault
DESCRIPTION:Stage BMX organisé par la commission BMX Régional du mardi 19 au vendredi 22 avril de 9h à 12h au Vélodrome\n\nPour se perfectionner et préparer le trophée de France des jeunes bmx et le championnat de France bmx\n\nInscris-toi avant le 14 Avril dernier délais auprès de ton club\n\nRéserver au Licencié FFC\n\n\n— à Vélodrome Amédée-Détraux.
URL:https://www.maxetlisa.com/evenement/bmx-baie-mahault/
LOCATION:Baie-Mahault
CATEGORIES:Événements ponctuels,Vacances de Pâques,Vacances scolaires
ATTACH;FMTTYPE=image/jpeg:https://www.maxetlisa.com/wp-content/uploads/2022/04/BMX.jpg
END:VEVENT
BEGIN:VEVENT
DTSTART;TZID=America/Guadeloupe:20220420T080000
DTEND;TZID=America/Guadeloupe:20220430T170000
DTSTAMP:20260423T043554
CREATED:20220404T101933Z
LAST-MODIFIED:20220425T133615Z
UID:23849-1650441600-1651338000@www.maxetlisa.com
SUMMARY:Atelier Couture- Abymes
DESCRIPTION:Vos enfants aimeront créer des objets incontournables. Pour la première édition\, nous utiliserons de la colle textile pour la confection.\nDeux ateliers aux choix pour un maximum de fun.\ncontact@aka-mayony.com
URL:https://www.maxetlisa.com/evenement/23849/
LOCATION:Abymes
CATEGORIES:Événements ponctuels,Mercredi et samedi
ATTACH;FMTTYPE=image/jpeg:https://www.maxetlisa.com/wp-content/uploads/2022/04/akamayony.jpg
END:VEVENT
BEGIN:VEVENT
DTSTART;TZID=America/Guadeloupe:20220420T160000
DTEND;TZID=America/Guadeloupe:20220422T183000
DTSTAMP:20260423T043554
CREATED:20220412T201640Z
LAST-MODIFIED:20220412T201641Z
UID:24057-1650470400-1650652200@www.maxetlisa.com
SUMMARY:
DESCRIPTION:Idée d’activité et de découverte pour les vacances de pâques  FOOT FÉMININ
URL:https://www.maxetlisa.com/evenement/24057/
LOCATION:Baie-Mahault
CATEGORIES:Événements ponctuels,Vacances de Pâques,Vacances scolaires
ATTACH;FMTTYPE=image/jpeg:https://www.maxetlisa.com/wp-content/uploads/2022/04/foot.jpg
END:VEVENT
BEGIN:VEVENT
DTSTART;TZID=America/Guadeloupe:20220422T103000
DTEND;TZID=America/Guadeloupe:20220422T120000
DTSTAMP:20260423T043554
CREATED:20220414T153427Z
LAST-MODIFIED:20220414T153530Z
UID:24126-1650623400-1650628800@www.maxetlisa.com
SUMMARY:Course d'orientation -Sainte-Rose
DESCRIPTION:Bienvenue dans la dimension sportive sab’in MOOV pour enfants-parents.\nJe suis Sabine\, éducatrice sportive qualifiée. Je vous propose la 1ère édition de Course d’Orientation accessible à partir de 6 ans.\nElle se déroulera le vendredi 22 avril 2022 de 10H30 à 12H00 sur la plage des Amandiers à Sainte Rose.\nQu’est ce qu’une course d’orientation ?\nLa course d’orientation consiste à pointer à toutes les balises imposées sur une carte le plus rapidement possible. L’ordre des balises n’a pas d’importance. Seul compte le chronomètre. Les coureurs dits aussi « orienteurs » doivent donc opter pour le meilleur trajet pour limiter les détours\, ainsi que les passages complexes qui les ralentiraient.\nPour se repérer\, le coureur dispose des données fournies par la carte et de son sens de l’observation.\nCe sport de pleine nature associe l’effort mental à l’effort physique.\nLa forme des balises cachées vous sera présentée le jour J.\nLa CO (course d’orientation) proposée par sab’in MOOV sera en équipe de 2 ou 3 personnes.\nLes équipes seront composées à votre convenance soit de :\n– 1 adulte et 1 enfant\n– 2 adultes et 1 enfant\n– 1 adulte et 2 enfants\nEnfant = moins de 16 ans.\nDans la situation «1 adulte et 2 enfants»\, il vous incombe de gérer votre équipe en cas de difficulté de l’un de vos enfants pour qui la course serait longue et/ou difficile.\nUne question de sécurité est également en jeu : le terrain présente naturellement des risques (route\, rochers\, mer). Les enfants de l’équipe sont sous l’exclusive responsabilité de l’adulte qui les accompagne. L’idéal étant d’opter pour un binôme «1 adulte et 1 enfant».\nVous munir de tenue de sport\, de couvres-têtes\, un petit sac à dos non encombrant\, de baskets basses avec les semelles qui accrochent (non lisses\, non montantes)\, eau à boire (1L minimum par coureur)\, crème solaire\, gants de protection facultatifs permettant aux plus jeunes de ne pas saisir à mains nues des objets souillés à la place de la balise\, lunettes de vue pour lire la carte.\nJe suis à votre disposition pour toutes questions complémentaires : 0690 55 13 12.\nAbonnez-vous à ma chaîne\, ma page Facebook\, Instagram\, il va y avoir du neuf !\nsab’in MOOV sur Youtube\nhttps://youtube.com/channel/UClqHJ0Uiz8hG2YDLfWHe_5A\nsab’in MOOV sur Facebook\nhttps://www.facebook.com/sabinmoov/\nsab’in MOOV sur Instagram
URL:https://www.maxetlisa.com/evenement/course-dorientation-sainte-rose/
LOCATION:Sainte-Rose
CATEGORIES:Événements ponctuels,Vacances de Pâques,Vacances scolaires
ATTACH;FMTTYPE=image/jpeg:https://www.maxetlisa.com/wp-content/uploads/2022/04/Course-dorientation.jpg
END:VEVENT
END:VCALENDAR