BEGIN:VCALENDAR
VERSION:2.0
PRODID:-//Max et Lisa - ECPv6.15.11//NONSGML v1.0//EN
CALSCALE:GREGORIAN
METHOD:PUBLISH
X-WR-CALNAME:Max et Lisa
X-ORIGINAL-URL:https://www.maxetlisa.com
X-WR-CALDESC:Évènements pour Max et Lisa
REFRESH-INTERVAL;VALUE=DURATION:PT1H
X-Robots-Tag:noindex
X-PUBLISHED-TTL:PT1H
BEGIN:VTIMEZONE
TZID:America/Guadeloupe
BEGIN:STANDARD
TZOFFSETFROM:-0400
TZOFFSETTO:-0400
TZNAME:AST
DTSTART:20210101T000000
END:STANDARD
END:VTIMEZONE
BEGIN:VEVENT
DTSTART;TZID=America/Guadeloupe:20220420T080000
DTEND;TZID=America/Guadeloupe:20220430T170000
DTSTAMP:20260423T020219
CREATED:20220404T101933Z
LAST-MODIFIED:20220425T133615Z
UID:23849-1650441600-1651338000@www.maxetlisa.com
SUMMARY:Atelier Couture- Abymes
DESCRIPTION:Vos enfants aimeront créer des objets incontournables. Pour la première édition\, nous utiliserons de la colle textile pour la confection.\nDeux ateliers aux choix pour un maximum de fun.\ncontact@aka-mayony.com
URL:https://www.maxetlisa.com/evenement/23849/
LOCATION:Abymes
CATEGORIES:Événements ponctuels,Mercredi et samedi
ATTACH;FMTTYPE=image/jpeg:https://www.maxetlisa.com/wp-content/uploads/2022/04/akamayony.jpg
END:VEVENT
BEGIN:VEVENT
DTSTART;TZID=America/Guadeloupe:20220429T083000
DTEND;TZID=America/Guadeloupe:20220605T103000
DTSTAMP:20260423T020219
CREATED:20220427T152631Z
LAST-MODIFIED:20220908T091209Z
UID:24313-1651221000-1654425000@www.maxetlisa.com
SUMMARY:Tennis en famille
DESCRIPTION:#Sport | Le Samedi\, vous avez désormais rendez-vous au Parc Hyacinthe Bastaraud ! Jusqu’au 25 Juin\, c’est en famille que nous vous invitons à venir nombreux jouer au tennis. Que vous soyez débutant ou confirmé : chaussez vos baskets et venez vivre des instants mémorables \n\n\n_____\nDispositif gratuit\nRaquettes et balles mises à disposition par l’association BMATC\nInscription au Centre de ressources Jeunesse et de la Cohésion sociale – 0590 32 30 50
URL:https://www.maxetlisa.com/evenement/tennis-en-famille/
LOCATION:Baie Mahault
CATEGORIES:Événements ponctuels
ATTACH;FMTTYPE=image/jpeg:https://www.maxetlisa.com/wp-content/uploads/2022/04/Tennis-en-famille.jpg
END:VEVENT
BEGIN:VEVENT
DTSTART;TZID=America/Guadeloupe:20220429T180000
DTEND;TZID=America/Guadeloupe:20220429T200000
DTSTAMP:20260423T020219
CREATED:20220427T153659Z
LAST-MODIFIED:20220503T130716Z
UID:24322-1651255200-1651262400@www.maxetlisa.com
SUMMARY:BULLE DE PARENTS
DESCRIPTION:Tu en as assez de répéter les mêmes consignes\, tu es fatiguée de ramasser ce qui traîne\, tu te sens épuisée par sa désobéissance…\n\n\n Et tu n’es pas la seule !!!!\n\n\n Je t’invite à venir échanger avec d’autres mamans ton ras le bol. 2h de partages\, de douceurs\, d’écoute…\n\n\n C’est ton moment à toi.\n\n\n Envoie un message pour réserver ta place.\n\n\nAttention : nombre de places limitées
URL:https://www.maxetlisa.com/evenement/bulle-de-parents/
LOCATION:Petit-Bourg
CATEGORIES:Événements ponctuels
ATTACH;FMTTYPE=image/jpeg:https://www.maxetlisa.com/wp-content/uploads/2022/04/bULLES-DE-PARENTS.jpg
END:VEVENT
END:VCALENDAR