BEGIN:VCALENDAR
VERSION:2.0
PRODID:-//Max et Lisa - ECPv6.15.11//NONSGML v1.0//EN
CALSCALE:GREGORIAN
METHOD:PUBLISH
X-ORIGINAL-URL:https://www.maxetlisa.com
X-WR-CALDESC:Évènements pour Max et Lisa
REFRESH-INTERVAL;VALUE=DURATION:PT1H
X-Robots-Tag:noindex
X-PUBLISHED-TTL:PT1H
BEGIN:VTIMEZONE
TZID:America/Guadeloupe
BEGIN:STANDARD
TZOFFSETFROM:-0400
TZOFFSETTO:-0400
TZNAME:AST
DTSTART:20210101T000000
END:STANDARD
END:VTIMEZONE
BEGIN:VEVENT
DTSTART;TZID=America/Guadeloupe:20220429T083000
DTEND;TZID=America/Guadeloupe:20220605T103000
DTSTAMP:20260423T020336
CREATED:20220427T152631Z
LAST-MODIFIED:20220908T091209Z
UID:24313-1651221000-1654425000@www.maxetlisa.com
SUMMARY:Tennis en famille
DESCRIPTION:#Sport | Le Samedi\, vous avez désormais rendez-vous au Parc Hyacinthe Bastaraud ! Jusqu’au 25 Juin\, c’est en famille que nous vous invitons à venir nombreux jouer au tennis. Que vous soyez débutant ou confirmé : chaussez vos baskets et venez vivre des instants mémorables \n\n\n_____\nDispositif gratuit\nRaquettes et balles mises à disposition par l’association BMATC\nInscription au Centre de ressources Jeunesse et de la Cohésion sociale – 0590 32 30 50
URL:https://www.maxetlisa.com/evenement/tennis-en-famille/
LOCATION:Baie Mahault
CATEGORIES:Événements ponctuels
ATTACH;FMTTYPE=image/jpeg:https://www.maxetlisa.com/wp-content/uploads/2022/04/Tennis-en-famille.jpg
END:VEVENT
BEGIN:VEVENT
DTSTART;TZID=America/Guadeloupe:20220502T080000
DTEND;TZID=America/Guadeloupe:20220511T170000
DTSTAMP:20260423T020336
CREATED:20220505T092733Z
LAST-MODIFIED:20220511T094951Z
UID:24470-1651478400-1652288400@www.maxetlisa.com
SUMMARY:Festival Jénès
DESCRIPTION:C’est parti pour le #Jénès 2022. Un temps fort pour les 5 ans et plus à L’Artchipel et hors-les-murs jusqu’au mercredi 11 mai. Au programme du théâtre\, de la vidéo\, de la danse\, du conte et des marionnettes… Des ateliers en milieu scolaire et universitaire\, 4 représentations familiales\, 1 lecture\, mise en voix théâtralisée tous publics\, des représentations scolaires et séances hors-les-murs\, une résidence de création\, des rencontres professionnelles..\n\n\nNotez bien nos rendez-vous tous publics avec Blanche-Neige\, histoire d’un prince le vendredi 6 mai \, Certains regardent les étoiles et la lecture théâtralisée de Maïwenn\, 16 ans et demi le samedi 7\, le repas exceptionnel le 11 mai…\n\n\nEt dès ce mercredi Sac à dos un carnet de voyage chorégraphique pour piquer la curiosité des plus jeunes et faire rêver.\n\n\n#Jénès tous publics du 2 au 11 mai – 1 tarif (10€) – 1 horaire (19h) pour toute la famille… www.lartchipel.com
URL:https://www.maxetlisa.com/evenement/festival-jenes/
CATEGORIES:Événements ponctuels
ATTACH;FMTTYPE=image/jpeg:https://www.maxetlisa.com/wp-content/uploads/2022/05/festival-jénes.jpg
END:VEVENT
BEGIN:VEVENT
DTSTART;TZID=America/Guadeloupe:20220507T070000
DTEND;TZID=America/Guadeloupe:20220507T170000
DTSTAMP:20260423T020336
CREATED:20220427T161215Z
LAST-MODIFIED:20220427T161217Z
UID:24337-1651906800-1651942800@www.maxetlisa.com
SUMMARY:Découvre ton île
DESCRIPTION:Découvre ton île – Le bassin bleu \n\n\nEn raison de l’arrêté préfectoral pour la 3 ème chute du carbet.\n\n\nLe Samedi 7 mai nous vous donnons donc rendez-vous à Goubeyre au bassin bleu.\nAccessible dès 7 ans\, vous pourrez profiter d’un moment entre amis ou en famille.\n\n\nLa date limite d’inscription est le 6 mai 2022 ! \nPossibilité d’être véhiculé dans notre mini bus ( 7 places )\n\n\nN’oubliez pas d’emmener vos affaires !\n\n\nSac à dos\, tenue de sport\, casquette\, chaussures de sport\, bouteille d’eau\, vêtements de rechange et médicaments en cas de traitement.\n\n\n#Dugazonsportingclub #DSC
URL:https://www.maxetlisa.com/evenement/decouvre-ton-ile/
LOCATION:Abymes
CATEGORIES:Événements ponctuels
ATTACH;FMTTYPE=image/jpeg:https://www.maxetlisa.com/wp-content/uploads/2022/04/Découvre-ton-iles.jpg
END:VEVENT
BEGIN:VEVENT
DTSTART;TZID=America/Guadeloupe:20220507T090000
DTEND;TZID=America/Guadeloupe:20220507T130000
DTSTAMP:20260423T020336
CREATED:20220427T154129Z
LAST-MODIFIED:20220509T085109Z
UID:24326-1651914000-1651928400@www.maxetlisa.com
SUMMARY:LOV'IN FAMILY
DESCRIPTION:Hello \n\n\nLe média Timoon fête ses 1 an  le samedi 7 mai 2022 de 9h à 13h à la librairie Générale de Jarry \n\n\nUn événement en collaboration avec la boutique Petit Bateau \n\n\nNous sommes heureux et reconnaissants de pouvoir enfin rencontrer la communauté « Timoon » et ainsi de créer des liens entre les professionnels et les parents \n\n\nB
URL:https://www.maxetlisa.com/evenement/lovin-family/
LOCATION:Baie-Mahault
CATEGORIES:Événements ponctuels
ATTACH;FMTTYPE=image/jpeg:https://www.maxetlisa.com/wp-content/uploads/2022/04/Timoon.jpg
END:VEVENT
END:VCALENDAR