BEGIN:VCALENDAR
VERSION:2.0
PRODID:-//Max et Lisa - ECPv6.15.11//NONSGML v1.0//EN
CALSCALE:GREGORIAN
METHOD:PUBLISH
X-WR-CALNAME:Max et Lisa
X-ORIGINAL-URL:https://www.maxetlisa.com
X-WR-CALDESC:Évènements pour Max et Lisa
REFRESH-INTERVAL;VALUE=DURATION:PT1H
X-Robots-Tag:noindex
X-PUBLISHED-TTL:PT1H
BEGIN:VTIMEZONE
TZID:America/Guadeloupe
BEGIN:STANDARD
TZOFFSETFROM:-0400
TZOFFSETTO:-0400
TZNAME:AST
DTSTART:20210101T000000
END:STANDARD
END:VTIMEZONE
BEGIN:VEVENT
DTSTART;TZID=America/Guadeloupe:20220429T083000
DTEND;TZID=America/Guadeloupe:20220605T103000
DTSTAMP:20260423T043848
CREATED:20220427T152631Z
LAST-MODIFIED:20220908T091209Z
UID:24313-1651221000-1654425000@www.maxetlisa.com
SUMMARY:Tennis en famille
DESCRIPTION:#Sport | Le Samedi\, vous avez désormais rendez-vous au Parc Hyacinthe Bastaraud ! Jusqu’au 25 Juin\, c’est en famille que nous vous invitons à venir nombreux jouer au tennis. Que vous soyez débutant ou confirmé : chaussez vos baskets et venez vivre des instants mémorables \n\n\n_____\nDispositif gratuit\nRaquettes et balles mises à disposition par l’association BMATC\nInscription au Centre de ressources Jeunesse et de la Cohésion sociale – 0590 32 30 50
URL:https://www.maxetlisa.com/evenement/tennis-en-famille/
LOCATION:Baie Mahault
CATEGORIES:Événements ponctuels
ATTACH;FMTTYPE=image/jpeg:https://www.maxetlisa.com/wp-content/uploads/2022/04/Tennis-en-famille.jpg
END:VEVENT
BEGIN:VEVENT
DTSTART;TZID=America/Guadeloupe:20220514T100000
DTEND;TZID=America/Guadeloupe:20220604T120000
DTSTAMP:20260423T043848
CREATED:20220513T141845Z
LAST-MODIFIED:20220513T141846Z
UID:24633-1652522400-1654344000@www.maxetlisa.com
SUMMARY:Atelier de danse enfants -
DESCRIPTION:MAI 2022:\nCARTES BLANCHES à LAFABRI’K LENABLOU.\n1 professeur – 1 semaine : votre corps en mouvement!\nInscrivez-vous en appelant au 05 90 90 34 93 ou au 06 90 75 88 76.\n\nLudovic Bibeyron du 5 au 13 mai (lundi\, mardi\, jeudi\, vendredi\, de 18h à 20h).\nHubert Petit-Phar du 16 au 20 mai (lundi\, mardi\, jeudi\, vendredi\, de 18h à 20h).\nStella Moutou les 7\, 14\, 21 et 28 mai (cours enfants – le samedi de 10h à 12h).\n\nLafabri’k Lenablou\, 27 bis et 29 Rue Abel Libany\, 3ème rue de l’assainissement\, Pointe-à-Pitre / Abymes.\n\n 
URL:https://www.maxetlisa.com/evenement/atelier-de-danse-enfants/
LOCATION:Pointe à Pitre
CATEGORIES:danse,Événements ponctuels
ATTACH;FMTTYPE=image/jpeg:https://www.maxetlisa.com/wp-content/uploads/2022/05/Lafabrik.jpg
END:VEVENT
BEGIN:VEVENT
DTSTART;TZID=America/Guadeloupe:20220514T143000
DTEND;TZID=America/Guadeloupe:20220528T170000
DTSTAMP:20260423T043848
CREATED:20220512T095614Z
LAST-MODIFIED:20220512T095720Z
UID:24600-1652538600-1653757200@www.maxetlisa.com
SUMMARY:Laissez-vous conter Pointe-à-Pitre\,...
DESCRIPTION:.en compagnie de guides conférenciers agréés des Villes et Pays d’Art et d’Histoire\, durant le mois de mai 2022.\n\n\nC’est le moment de découvrir la face oubliée de la capitale économique historique de la Guadeloupe.\n\n\nDépart des visites thématiques à 14h30\n\n\nMurs…Murs… Les secrets du cimetière\nMercredi 11\n\n\nLa maison traditionnelle pointoise : Evolution et formes\nSamedi 14\n\n\nLa ville des bords de quais\nMercredi 18\n\n\nMémoire des faubourgs\nSamedi 21\n\n\nSpéciale Commémoration de l’abolition de l’esclave\nPointe-à-Pitre\, Port de la liberté\nSamedi 28\n\n\nProfitez\, des PASS Patrimoine et famille !\n\n\nInscriptions obligatoires :\n\n\nService du Patrimoine de Pointe-à-Pitre\n\n\nTel. : 0590.21.68.90/97 ou 0690.31.87.52\n\n\nEmail : rosy.jalcebambuck@ville-pointeapitre.fr\n#visiteguidee #patrimoine #VilleDArtEtDHistoire #patrimoinehistorique La Ville de Pointe-à-Pitre #dacguadeloupe #culture\n\n\n\n\n\n\n\n\n\n\n\n\n\n\n\n\n\n\n\n\n\n\n\n\n\n\n\n\n\n\n\n\n\n\n 
URL:https://www.maxetlisa.com/evenement/laissez-vous-conter-pointe-a-pitre-2/
LOCATION:Pointe à Pitre
CATEGORIES:Événements ponctuels
ATTACH;FMTTYPE=image/jpeg:https://www.maxetlisa.com/wp-content/uploads/2022/05/Pointe-à-Pitre.jpg
END:VEVENT
BEGIN:VEVENT
DTSTART;TZID=America/Guadeloupe:20220523T100000
DTEND;TZID=America/Guadeloupe:20220525T160000
DTSTAMP:20260423T043848
CREATED:20220512T093121Z
LAST-MODIFIED:20220512T093124Z
UID:24591-1653300000-1653494400@www.maxetlisa.com
SUMMARY:💝 OPÉRATION FÊTE DES MAM'S du 23 au 25 mai 💝
DESCRIPTION: OPÉRATION FÊTE DES MAM’S du 23 au 25 mai \nMamans ! Vous voulez de jolis cadeaux le jour J  ? Voilà 3 ateliers pour vos enfants qui seront tout heureux de vous rendre heureuses \n Lundi 23 : atelier TOTE BAG parce que le tote bag c’est pratique et tendance en toutes circonstances\, surtout si c’est choupinou-choupinette qui customise.\n Mardi 24 : atelier GRIGRI pour les clés ou le sac… ou assorti au tote bag off course !\n Mercredi 25 : atelier TABLEAU – une jolie peinture pleine d’amour et de couleurs\, et d’amour encore… \n2 créneaux par jour\, au choix :\n– MATIN 10h-12h ou\n– APRÈS-MIDI 14h-16h\nTarif : 20€ l’atelier ou 50€ pour les 3\nAtelier à partir de 6 ans.\nPlus d’infos et réservation en mp ou par tél.\nAu plaisir de vous faire plaisir !\nKarine \nHey\, pssssiiit\, les photos c’est juste pour vous donner une idée\, on ne fait jamais tout à fait les mêmes choses à l’atelier \n#UneFêteDansLannée #DeLamourTouteLannée
URL:https://www.maxetlisa.com/evenement/%f0%9f%92%9d-operation-fete-des-mams-du-23-au-25-mai-%f0%9f%92%9d/
LOCATION:Baie-Mahault
CATEGORIES:Événements ponctuels,Loisirs créatifs
ATTACH;FMTTYPE=image/jpeg:https://www.maxetlisa.com/wp-content/uploads/2022/05/Artifun-fête-des-mères.jpg
END:VEVENT
BEGIN:VEVENT
DTSTART;TZID=America/Guadeloupe:20220525T090000
DTEND;TZID=America/Guadeloupe:20220526T160000
DTSTAMP:20260423T043848
CREATED:20220509T085452Z
LAST-MODIFIED:20220531T090333Z
UID:24522-1653469200-1653580800@www.maxetlisa.com
SUMMARY:25 et 26 Mai - La Légende du Roi Lion @ Palais des Sports du Gosier
DESCRIPTION:“𝙇𝙖 𝙡𝙚́𝙜𝙚𝙣𝙙𝙚 𝙙𝙪 𝙇𝙞𝙤𝙣 – 𝙇𝙚 𝙧𝙚𝙩𝙤𝙪𝙧 𝙙𝙪 𝙍𝙤𝙞”\n\n« 𝘚𝘶𝘳 𝘭𝘢 𝘴𝘢𝘷𝘢𝘯𝘦 𝘢𝘧𝘳𝘪𝘤𝘢𝘪𝘯𝘦\, 𝘳𝘦̀𝘨𝘯𝘦 𝘶𝘯 𝘮𝘢𝘫𝘦𝘴𝘵𝘶𝘦𝘶𝘹 𝘭𝘪𝘰𝘯 𝘵𝘰𝘶𝘵-𝘱𝘶𝘪𝘴𝘴𝘢𝘯𝘵\, 𝘲𝘶𝘪 𝘱𝘳𝘰𝘵𝘦̀𝘨𝘦 𝘭𝘦𝘴 𝘢𝘶𝘵𝘳𝘦𝘴 𝘢𝘯𝘪𝘮𝘢𝘶𝘹.\n\n𝘚𝘰𝘯 𝘫𝘦𝘶𝘯𝘦 𝘧𝘪𝘭𝘴 𝘴𝘢𝘪𝘵 𝘲𝘶’𝘶𝘯 𝘫𝘰𝘶𝘳 𝘪𝘭 𝘭𝘶𝘪 𝘴𝘶𝘤𝘤𝘦́𝘥𝘦𝘳𝘢 𝘮𝘢𝘪𝘴 𝘪𝘭 𝘦𝘴𝘵 𝘭𝘰𝘪𝘯 𝘥𝘦 𝘥𝘦𝘷𝘪𝘯𝘦𝘳 𝘭𝘦𝘴 𝘦́𝘱𝘳𝘦𝘶𝘷𝘦𝘴 𝘲𝘶𝘦 𝘭𝘶𝘪 𝘪𝘮𝘱𝘰𝘴𝘦𝘳𝘢 𝘭’𝘦𝘹𝘦𝘳𝘤𝘪𝘤𝘦 𝘥𝘶 𝘱𝘰𝘶𝘷𝘰𝘪𝘳.\n\n𝘌𝘯 𝘦𝘧𝘧𝘦𝘵\, 𝘶𝘯 𝘮𝘦́𝘤𝘩𝘢𝘯𝘵 𝘱𝘦𝘳𝘴𝘰𝘯𝘯𝘢𝘨𝘦 𝘢𝘴𝘱𝘪𝘳𝘦 𝘥𝘦𝘱𝘶𝘪𝘴 𝘵𝘰𝘶𝘫𝘰𝘶𝘳𝘴 𝘢𝘶 𝘵𝘳𝘰̂𝘯𝘦 𝘦𝘵 𝘧𝘦𝘳𝘢 𝘵𝘰𝘶𝘵 𝘱𝘰𝘶𝘳 𝘦𝘮𝘱𝘦̂𝘤𝘩𝘦𝘳 𝘭𝘢 𝘴𝘶𝘤𝘤𝘦𝘴𝘴𝘪𝘰𝘯.\n\n𝘊’𝘦𝘴𝘵 𝘢𝘭𝘰𝘳𝘴 𝘲𝘶𝘦 𝘭𝘦 𝘥𝘦𝘴𝘵𝘪𝘯 𝘱𝘭𝘢𝘤𝘦 𝘴𝘶𝘳 𝘭𝘢 𝘳𝘰𝘶𝘵𝘦 𝘥𝘶 𝘫𝘦𝘶𝘯𝘦 𝘭𝘪𝘰𝘯\, 𝘥𝘦 𝘤𝘶𝘳𝘪𝘦𝘶𝘹 𝘱𝘦𝘳𝘴𝘰𝘯𝘯𝘢𝘨𝘦𝘴 𝘥𝘦 𝘭𝘢 𝘫𝘶𝘯𝘨𝘭𝘦\, 𝘥𝘳𝘰̂𝘭𝘦𝘴 𝘦𝘵 𝘦́𝘵𝘰𝘯𝘯𝘢𝘯𝘵𝘴…𝘲𝘶𝘪 𝘷𝘰𝘯𝘵 𝘭’𝘢𝘪𝘥𝘦𝘳 𝘢̀ 𝘨𝘳𝘢𝘯𝘥𝘪𝘳 𝘦𝘵 𝘳𝘦𝘱𝘳𝘦𝘯𝘥𝘳𝘦 𝘤𝘦 𝘲𝘶𝘪 𝘭𝘶𝘪 𝘳𝘦𝘷𝘪𝘦𝘯𝘵 𝘥𝘦 𝘥𝘳𝘰𝘪𝘵… »\n\n𝙈𝙚𝙧𝙘𝙧𝙚𝙙𝙞 25 𝙚𝙩 𝙅𝙚𝙪𝙙𝙞 26 𝙈𝙖𝙞 𝙖𝙪 𝙋𝙖𝙡𝙖𝙞𝙨 𝙙𝙚𝙨 𝙎𝙥𝙤𝙧𝙩𝙨 𝙙𝙪 𝙂𝙤𝙨𝙞𝙚𝙧..\n\nVenez découvrir une spectaculaire comédie musicale aux couleurs de la savane !\n\n21 artistes danseurs\, chanteurs et comédiens vêtus de costumes haut en couleur\, donneront vie à de fabuleux tableaux\, vous transportant pour un voyage en Afrique inoubliable.\n\nUn voyage musical à travers les animaux de la jungle racontant une histoire remplie d’émotions!\n\n1h10 d’un spectacle tout public immanquable qui vous laissera sans voix !\n\n𝟮 𝗗𝗔𝗧𝗘𝗦 𝟯 𝗦𝗘́𝗔𝗡𝗖𝗘𝗦:\n\nMercredi 25 Mai / 11H (Ouverture des portes: 9H)\n\nMercredi 25 Mai / 16H (Ouverture des portes: 14H)\n\nJeudi 26 Mai / 16H (Ouverture des portes: 14H)\n\n \n\nRéservation : https://tickets.allmol.com/fr/spectacles/971_2505_seance_de_11h_la_legende_du_roi_lion__palais_des_sports_du_gosier
URL:https://www.maxetlisa.com/evenement/25-et-26-mai-la-legende-du-roi-lion-palais-des-sports-du-gosier/
LOCATION:Le Gosier
CATEGORIES:Événements ponctuels
ATTACH;FMTTYPE=image/jpeg:https://www.maxetlisa.com/wp-content/uploads/2022/05/1651538445image_banniere_events.jpeg
END:VEVENT
END:VCALENDAR