BEGIN:VCALENDAR
VERSION:2.0
PRODID:-//Max et Lisa - ECPv6.15.11//NONSGML v1.0//EN
CALSCALE:GREGORIAN
METHOD:PUBLISH
X-WR-CALNAME:Max et Lisa
X-ORIGINAL-URL:https://www.maxetlisa.com
X-WR-CALDESC:Évènements pour Max et Lisa
REFRESH-INTERVAL;VALUE=DURATION:PT1H
X-Robots-Tag:noindex
X-PUBLISHED-TTL:PT1H
BEGIN:VTIMEZONE
TZID:America/Guadeloupe
BEGIN:STANDARD
TZOFFSETFROM:-0400
TZOFFSETTO:-0400
TZNAME:AST
DTSTART:20210101T000000
END:STANDARD
END:VTIMEZONE
BEGIN:VEVENT
DTSTART;TZID=America/Guadeloupe:20220617T140000
DTEND;TZID=America/Guadeloupe:20220617T170000
DTSTAMP:20260423T020718
CREATED:20220614T150451Z
LAST-MODIFIED:20220614T150455Z
UID:25277-1655474400-1655485200@www.maxetlisa.com
SUMMARY:Fête des mares
DESCRIPTION:L’Office de l’Eau Guadeloupe et ses partenaires vous invitent à l’Habitation Néron au Moule ce Vendredi 17 Juin\, pour une journée d’animation autour des mares .\n\nVisites virtuelles\, stands et divers échanges animeront cette journée !\n\nNous vous attendons dès 14h00 pour fêter nos mares !
URL:https://www.maxetlisa.com/evenement/fete-des-mares/
LOCATION:Le Moule
CATEGORIES:Événements ponctuels
ATTACH;FMTTYPE=image/jpeg:https://www.maxetlisa.com/wp-content/uploads/2022/06/fete-des-mares.jpg
END:VEVENT
END:VCALENDAR