BEGIN:VCALENDAR
VERSION:2.0
PRODID:-//Max et Lisa - ECPv6.15.11//NONSGML v1.0//EN
CALSCALE:GREGORIAN
METHOD:PUBLISH
X-WR-CALNAME:Max et Lisa
X-ORIGINAL-URL:https://www.maxetlisa.com
X-WR-CALDESC:Évènements pour Max et Lisa
REFRESH-INTERVAL;VALUE=DURATION:PT1H
X-Robots-Tag:noindex
X-PUBLISHED-TTL:PT1H
BEGIN:VTIMEZONE
TZID:America/Guadeloupe
BEGIN:STANDARD
TZOFFSETFROM:-0400
TZOFFSETTO:-0400
TZNAME:AST
DTSTART:20210101T000000
END:STANDARD
END:VTIMEZONE
BEGIN:VEVENT
DTSTART;TZID=America/Guadeloupe:20220622T080000
DTEND;TZID=America/Guadeloupe:20220815T170000
DTSTAMP:20260422T232430
CREATED:20220622T070557Z
LAST-MODIFIED:20220622T070600Z
UID:25476-1655884800-1660582800@www.maxetlisa.com
SUMMARY:BOPO FOLIZ- PORT-LOUIS
DESCRIPTION:
URL:https://www.maxetlisa.com/evenement/bopo-foliz-port-louis/
LOCATION:Port-Louis
CATEGORIES:Événements ponctuels,Vacances scolaires
ATTACH;FMTTYPE=image/jpeg:https://www.maxetlisa.com/wp-content/uploads/2022/06/bopofoliz.jpg
END:VEVENT
BEGIN:VEVENT
DTSTART;TZID=America/Guadeloupe:20220703T080000
DTEND;TZID=America/Guadeloupe:20220706T170000
DTSTAMP:20260422T232430
CREATED:20220628T083705Z
LAST-MODIFIED:20220908T091112Z
UID:25656-1656835200-1657126800@www.maxetlisa.com
SUMMARY:Fête du cinéma du 3 au 6 juillet
DESCRIPTION:Du 3 au 6 Juillet\, on fête le cinéma au CINÉSTAR avec la séance au tarif de 6€. Ouverture tous les jours de 10H30 à Minuit.\n\nBillets en vente sur cinestarguadeloupe.\n\n 
URL:https://www.maxetlisa.com/evenement/fete-du-cinema-du-3-au-6-juillet/
LOCATION:Abymes
CATEGORIES:Événements ponctuels
ATTACH;FMTTYPE=image/jpeg:https://www.maxetlisa.com/wp-content/uploads/2022/06/fete-du-cinema.jpg
END:VEVENT
END:VCALENDAR