BEGIN:VCALENDAR
VERSION:2.0
PRODID:-//Max et Lisa - ECPv6.15.11//NONSGML v1.0//EN
CALSCALE:GREGORIAN
METHOD:PUBLISH
X-ORIGINAL-URL:https://www.maxetlisa.com
X-WR-CALDESC:Évènements pour Max et Lisa
REFRESH-INTERVAL;VALUE=DURATION:PT1H
X-Robots-Tag:noindex
X-PUBLISHED-TTL:PT1H
BEGIN:VTIMEZONE
TZID:America/Guadeloupe
BEGIN:STANDARD
TZOFFSETFROM:-0400
TZOFFSETTO:-0400
TZNAME:AST
DTSTART:20220101T000000
END:STANDARD
END:VTIMEZONE
BEGIN:VEVENT
DTSTART;TZID=America/Guadeloupe:20230119T080000
DTEND;TZID=America/Guadeloupe:20230122T170000
DTSTAMP:20260422T153645
CREATED:20230119T055556Z
LAST-MODIFIED:20230127T060641Z
UID:29905-1674115200-1674406800@www.maxetlisa.com
SUMMARY:𝟳𝗲̀𝗺𝗲 𝗲́𝗱𝗶𝘁𝗶𝗼𝗻 𝗱𝗲𝘀 𝗻𝘂𝗶𝘁𝘀 𝗱𝗲 𝗹𝗮 𝗹𝗲𝗰𝘁𝘂𝗿𝗲 : 𝗹𝗮 𝗣𝗲𝘂𝗿📚😱📚
DESCRIPTION:Les 7e Nuits de la lecture\, organisées pour la deuxième année consécutive par le Centre national du livre sur proposition du ministère de la Culture\, se tiendront du 19 au 22 janvier 2023 au cours de quatre soirées\, avec un temps fort le samedi 21 janvier.\n\nLE PROGRAMME EN GUADELOUPE : \n	202301-Programme-Lecture.pdf\n\n\n\n\nEn Guadeloupe\, la Bibliothèque départementale mène avec le réseau de bibliothèques et médiathèques\, une action concertée dans le cadre des Nuits de la lecture. Ainsi le thème de la Peur se décline au travers des nombreuses propositions d’animations diverses\, originales\, insolites parfois. Actions qu’on peut retrouver en ligne\, via les outils numériques ou par un accueil sur place au sein des 17 bibliothèques participantes.\n\n\n Découvrir le programme complet: http://bit.ly/3ke4x4G
URL:https://www.maxetlisa.com/evenement/%f0%9d%9f%b3%f0%9d%97%b2%f0%9d%97%ba%f0%9d%97%b2-%f0%9d%97%b2%f0%9d%97%b1%f0%9d%97%b6%f0%9d%98%81%f0%9d%97%b6%f0%9d%97%bc%f0%9d%97%bb-%f0%9d%97%b1%f0%9d%97%b2%f0%9d%98%80-%f0%9d%97%bb/
CATEGORIES:Événements ponctuels,Lecture
ATTACH;FMTTYPE=image/jpeg:https://www.maxetlisa.com/wp-content/uploads/2023/01/Nuit-de-la-lecture.jpg
END:VEVENT
END:VCALENDAR