BEGIN:VCALENDAR
VERSION:2.0
PRODID:-//Max et Lisa - ECPv6.15.11//NONSGML v1.0//EN
CALSCALE:GREGORIAN
METHOD:PUBLISH
X-ORIGINAL-URL:https://www.maxetlisa.com
X-WR-CALDESC:Évènements pour Max et Lisa
REFRESH-INTERVAL;VALUE=DURATION:PT1H
X-Robots-Tag:noindex
X-PUBLISHED-TTL:PT1H
BEGIN:VTIMEZONE
TZID:America/Guadeloupe
BEGIN:STANDARD
TZOFFSETFROM:-0400
TZOFFSETTO:-0400
TZNAME:AST
DTSTART:20220101T000000
END:STANDARD
END:VTIMEZONE
BEGIN:VEVENT
DTSTART;TZID=America/Guadeloupe:20230121T080000
DTEND;TZID=America/Guadeloupe:20230128T160000
DTSTAMP:20260422T153552
CREATED:20230120T074032Z
LAST-MODIFIED:20230120T074400Z
UID:29945-1674288000-1674921600@www.maxetlisa.com
SUMMARY:Nouveau Journée Jeux de société - Bouillante
DESCRIPTION:Nouveau Journée Jeux de société !!\nSamedi 21 janvier 8h-16h\nInscription whatsapp au 0690 84-0306
URL:https://www.maxetlisa.com/evenement/nouveau-journee-jeux-de-societe-bouillante/
LOCATION:Bouillante
CATEGORIES:Événements ponctuels
ATTACH;FMTTYPE=image/jpeg:https://www.maxetlisa.com/wp-content/uploads/2023/01/Association-Karaibes-animation.jpg
END:VEVENT
END:VCALENDAR