BEGIN:VCALENDAR
VERSION:2.0
PRODID:-//Max et Lisa - ECPv6.15.11//NONSGML v1.0//EN
CALSCALE:GREGORIAN
METHOD:PUBLISH
X-ORIGINAL-URL:https://www.maxetlisa.com
X-WR-CALDESC:Évènements pour Max et Lisa
REFRESH-INTERVAL;VALUE=DURATION:PT1H
X-Robots-Tag:noindex
X-PUBLISHED-TTL:PT1H
BEGIN:VTIMEZONE
TZID:America/Guadeloupe
BEGIN:STANDARD
TZOFFSETFROM:-0400
TZOFFSETTO:-0400
TZNAME:AST
DTSTART:20220101T000000
END:STANDARD
END:VTIMEZONE
BEGIN:VEVENT
DTSTART;TZID=America/Guadeloupe:20230217T080000
DTEND;TZID=America/Guadeloupe:20230217T170000
DTSTAMP:20260422T141627
CREATED:20230216T073654Z
LAST-MODIFIED:20230216T073656Z
UID:30562-1676620800-1676653200@www.maxetlisa.com
SUMMARY:Déboulé  a timoun e gran moun
DESCRIPTION:
URL:https://www.maxetlisa.com/evenement/deboule-a-timoun-e-gran-moun/
CATEGORIES:Événements ponctuels
ATTACH;FMTTYPE=image/jpeg:https://www.maxetlisa.com/wp-content/uploads/2023/02/331074770_3532342966995305_2673650805131134961_n.jpg
END:VEVENT
BEGIN:VEVENT
DTSTART;TZID=America/Guadeloupe:20230217T080000
DTEND;TZID=America/Guadeloupe:20230219T170000
DTSTAMP:20260422T141627
CREATED:20230216T071824Z
LAST-MODIFIED:20230226T203433Z
UID:30549-1676620800-1676826000@www.maxetlisa.com
SUMMARY:NOUVEAU - NAUTIC BLUE
DESCRIPTION:
URL:https://www.maxetlisa.com/evenement/nouveau-nautic-blue/
CATEGORIES:Événements ponctuels
ATTACH;FMTTYPE=image/jpeg:https://www.maxetlisa.com/wp-content/uploads/2023/02/nAUTIC-bLUE-2.jpg
END:VEVENT
END:VCALENDAR