BEGIN:VCALENDAR
VERSION:2.0
PRODID:-//Max et Lisa - ECPv6.15.11//NONSGML v1.0//EN
CALSCALE:GREGORIAN
METHOD:PUBLISH
X-ORIGINAL-URL:https://www.maxetlisa.com
X-WR-CALDESC:Évènements pour Max et Lisa
REFRESH-INTERVAL;VALUE=DURATION:PT1H
X-Robots-Tag:noindex
X-PUBLISHED-TTL:PT1H
BEGIN:VTIMEZONE
TZID:America/Guadeloupe
BEGIN:STANDARD
TZOFFSETFROM:-0400
TZOFFSETTO:-0400
TZNAME:AST
DTSTART:20240101T000000
END:STANDARD
END:VTIMEZONE
BEGIN:VEVENT
DTSTART;TZID=America/Guadeloupe:20250203T080000
DTEND;TZID=America/Guadeloupe:20251003T170000
DTSTAMP:20260420T175828
CREATED:20250203T162152Z
LAST-MODIFIED:20250615T125829Z
UID:36103-1738569600-1759510800@www.maxetlisa.com
SUMMARY:VACANCES DE CARNAVAL 2025
DESCRIPTION: 
URL:https://www.maxetlisa.com/evenement/vacances-de-carnaval-2025/
CATEGORIES:C.L.S.H -A.L.S.H,Événements ponctuels,Vacances de carnaval
ATTACH;FMTTYPE=image/jpeg:https://www.maxetlisa.com/wp-content/uploads/2025/02/475116661_1148932630566170_1516330852255464367_n.jpg
END:VEVENT
END:VCALENDAR